BEGIN:VCALENDAR
VERSION:2.0
PRODID:-//Springfield Park Place Condominium Association - ECPv6.15.20//NONSGML v1.0//EN
CALSCALE:GREGORIAN
METHOD:PUBLISH
X-WR-CALNAME:Springfield Park Place Condominium Association
X-ORIGINAL-URL:https://springfieldparkplace.com
X-WR-CALDESC:Events for Springfield Park Place Condominium Association
REFRESH-INTERVAL;VALUE=DURATION:PT1H
X-Robots-Tag:noindex
X-PUBLISHED-TTL:PT1H
BEGIN:VTIMEZONE
TZID:America/New_York
BEGIN:DAYLIGHT
TZOFFSETFROM:-0500
TZOFFSETTO:-0400
TZNAME:EDT
DTSTART:20270314T070000
END:DAYLIGHT
BEGIN:STANDARD
TZOFFSETFROM:-0400
TZOFFSETTO:-0500
TZNAME:EST
DTSTART:20271107T060000
END:STANDARD
BEGIN:DAYLIGHT
TZOFFSETFROM:-0500
TZOFFSETTO:-0400
TZNAME:EDT
DTSTART:20280312T070000
END:DAYLIGHT
BEGIN:STANDARD
TZOFFSETFROM:-0400
TZOFFSETTO:-0500
TZNAME:EST
DTSTART:20281105T060000
END:STANDARD
BEGIN:DAYLIGHT
TZOFFSETFROM:-0500
TZOFFSETTO:-0400
TZNAME:EDT
DTSTART:20290311T070000
END:DAYLIGHT
BEGIN:STANDARD
TZOFFSETFROM:-0400
TZOFFSETTO:-0500
TZNAME:EST
DTSTART:20291104T060000
END:STANDARD
END:VTIMEZONE
BEGIN:VEVENT
DTSTART;TZID=America/New_York:20280228T080000
DTEND;TZID=America/New_York:20280228T170000
DTSTAMP:20260421T192350
CREATED:20260420T151942Z
LAST-MODIFIED:20260420T151942Z
UID:10001556-1835337600-1835370000@springfieldparkplace.com
SUMMARY:Garbage Pick Up
DESCRIPTION:
URL:https://springfieldparkplace.com/event/garbage-pick-up-2/2028-02-28/
END:VEVENT
BEGIN:VEVENT
DTSTART;VALUE=DATE:20280228
DTEND;VALUE=DATE:20280229
DTSTAMP:20260421T192350
CREATED:20251011T082052Z
LAST-MODIFIED:20251028T154637Z
UID:10000130-1835308800-1835395199@springfieldparkplace.com
SUMMARY:Garbage Pick up
DESCRIPTION:
URL:https://springfieldparkplace.com/event/garbage-pick-up/2028-02-28/
END:VEVENT
BEGIN:VEVENT
DTSTART;TZID=America/New_York:20280224T080000
DTEND;TZID=America/New_York:20280224T170000
DTSTAMP:20260421T192350
CREATED:20260420T151942Z
LAST-MODIFIED:20260420T151942Z
UID:10001555-1834992000-1835024400@springfieldparkplace.com
SUMMARY:Garbage Pick Up
DESCRIPTION:
URL:https://springfieldparkplace.com/event/garbage-pick-up-2/2028-02-24/
END:VEVENT
BEGIN:VEVENT
DTSTART;VALUE=DATE:20280223
DTEND;VALUE=DATE:20280224
DTSTAMP:20260421T192350
CREATED:20251011T082156Z
LAST-MODIFIED:20251011T082156Z
UID:10000390-1834876800-1834963199@springfieldparkplace.com
SUMMARY:Recycling
DESCRIPTION:
URL:https://springfieldparkplace.com/event/recycling/2028-02-23/
END:VEVENT
BEGIN:VEVENT
DTSTART;TZID=America/New_York:20280221T080000
DTEND;TZID=America/New_York:20280221T170000
DTSTAMP:20260421T192350
CREATED:20260420T151942Z
LAST-MODIFIED:20260420T151942Z
UID:10001554-1834732800-1834765200@springfieldparkplace.com
SUMMARY:Garbage Pick Up
DESCRIPTION:
URL:https://springfieldparkplace.com/event/garbage-pick-up-2/2028-02-21/
END:VEVENT
BEGIN:VEVENT
DTSTART;VALUE=DATE:20280221
DTEND;VALUE=DATE:20280222
DTSTAMP:20260421T192350
CREATED:20251011T082052Z
LAST-MODIFIED:20251028T154637Z
UID:10000129-1834704000-1834790399@springfieldparkplace.com
SUMMARY:Garbage Pick up
DESCRIPTION:
URL:https://springfieldparkplace.com/event/garbage-pick-up/2028-02-21/
END:VEVENT
BEGIN:VEVENT
DTSTART;TZID=America/New_York:20280217T080000
DTEND;TZID=America/New_York:20280217T170000
DTSTAMP:20260421T192350
CREATED:20260420T151942Z
LAST-MODIFIED:20260420T151942Z
UID:10001553-1834387200-1834419600@springfieldparkplace.com
SUMMARY:Garbage Pick Up
DESCRIPTION:
URL:https://springfieldparkplace.com/event/garbage-pick-up-2/2028-02-17/
END:VEVENT
BEGIN:VEVENT
DTSTART;VALUE=DATE:20280216
DTEND;VALUE=DATE:20280217
DTSTAMP:20260421T192350
CREATED:20251011T082156Z
LAST-MODIFIED:20251011T082156Z
UID:10000389-1834272000-1834358399@springfieldparkplace.com
SUMMARY:Recycling
DESCRIPTION:
URL:https://springfieldparkplace.com/event/recycling/2028-02-16/
END:VEVENT
BEGIN:VEVENT
DTSTART;TZID=America/New_York:20280214T080000
DTEND;TZID=America/New_York:20280214T170000
DTSTAMP:20260421T192350
CREATED:20260420T151942Z
LAST-MODIFIED:20260420T151942Z
UID:10001552-1834128000-1834160400@springfieldparkplace.com
SUMMARY:Garbage Pick Up
DESCRIPTION:
URL:https://springfieldparkplace.com/event/garbage-pick-up-2/2028-02-14/
END:VEVENT
BEGIN:VEVENT
DTSTART;VALUE=DATE:20280214
DTEND;VALUE=DATE:20280215
DTSTAMP:20260421T192350
CREATED:20251011T082052Z
LAST-MODIFIED:20251028T154637Z
UID:10000128-1834099200-1834185599@springfieldparkplace.com
SUMMARY:Garbage Pick up
DESCRIPTION:
URL:https://springfieldparkplace.com/event/garbage-pick-up/2028-02-14/
END:VEVENT
BEGIN:VEVENT
DTSTART;TZID=America/New_York:20280210T080000
DTEND;TZID=America/New_York:20280210T170000
DTSTAMP:20260421T192350
CREATED:20260420T151942Z
LAST-MODIFIED:20260420T151942Z
UID:10001551-1833782400-1833814800@springfieldparkplace.com
SUMMARY:Garbage Pick Up
DESCRIPTION:
URL:https://springfieldparkplace.com/event/garbage-pick-up-2/2028-02-10/
END:VEVENT
BEGIN:VEVENT
DTSTART;VALUE=DATE:20280209
DTEND;VALUE=DATE:20280210
DTSTAMP:20260421T192350
CREATED:20251011T082156Z
LAST-MODIFIED:20251011T082156Z
UID:10000388-1833667200-1833753599@springfieldparkplace.com
SUMMARY:Recycling
DESCRIPTION:
URL:https://springfieldparkplace.com/event/recycling/2028-02-09/
END:VEVENT
BEGIN:VEVENT
DTSTART;TZID=America/New_York:20280207T080000
DTEND;TZID=America/New_York:20280207T170000
DTSTAMP:20260421T192350
CREATED:20260420T151942Z
LAST-MODIFIED:20260420T151942Z
UID:10001550-1833523200-1833555600@springfieldparkplace.com
SUMMARY:Garbage Pick Up
DESCRIPTION:
URL:https://springfieldparkplace.com/event/garbage-pick-up-2/2028-02-07/
END:VEVENT
BEGIN:VEVENT
DTSTART;VALUE=DATE:20280207
DTEND;VALUE=DATE:20280208
DTSTAMP:20260421T192350
CREATED:20251011T082052Z
LAST-MODIFIED:20251028T154637Z
UID:10000127-1833494400-1833580799@springfieldparkplace.com
SUMMARY:Garbage Pick up
DESCRIPTION:
URL:https://springfieldparkplace.com/event/garbage-pick-up/2028-02-07/
END:VEVENT
BEGIN:VEVENT
DTSTART;TZID=America/New_York:20280203T080000
DTEND;TZID=America/New_York:20280203T170000
DTSTAMP:20260421T192350
CREATED:20260420T151942Z
LAST-MODIFIED:20260420T151942Z
UID:10001549-1833177600-1833210000@springfieldparkplace.com
SUMMARY:Garbage Pick Up
DESCRIPTION:
URL:https://springfieldparkplace.com/event/garbage-pick-up-2/2028-02-03/
END:VEVENT
BEGIN:VEVENT
DTSTART;VALUE=DATE:20280202
DTEND;VALUE=DATE:20280203
DTSTAMP:20260421T192350
CREATED:20251011T082156Z
LAST-MODIFIED:20251011T082156Z
UID:10000387-1833062400-1833148799@springfieldparkplace.com
SUMMARY:Recycling
DESCRIPTION:
URL:https://springfieldparkplace.com/event/recycling/2028-02-02/
END:VEVENT
BEGIN:VEVENT
DTSTART;TZID=America/New_York:20280131T080000
DTEND;TZID=America/New_York:20280131T170000
DTSTAMP:20260421T192350
CREATED:20260420T151942Z
LAST-MODIFIED:20260420T151942Z
UID:10001548-1832918400-1832950800@springfieldparkplace.com
SUMMARY:Garbage Pick Up
DESCRIPTION:
URL:https://springfieldparkplace.com/event/garbage-pick-up-2/2028-01-31/
END:VEVENT
BEGIN:VEVENT
DTSTART;VALUE=DATE:20280131
DTEND;VALUE=DATE:20280201
DTSTAMP:20260421T192350
CREATED:20251011T082052Z
LAST-MODIFIED:20251028T154637Z
UID:10000126-1832889600-1832975999@springfieldparkplace.com
SUMMARY:Garbage Pick up
DESCRIPTION:
URL:https://springfieldparkplace.com/event/garbage-pick-up/2028-01-31/
END:VEVENT
BEGIN:VEVENT
DTSTART;TZID=America/New_York:20280127T080000
DTEND;TZID=America/New_York:20280127T170000
DTSTAMP:20260421T192350
CREATED:20260420T151942Z
LAST-MODIFIED:20260420T151942Z
UID:10001547-1832572800-1832605200@springfieldparkplace.com
SUMMARY:Garbage Pick Up
DESCRIPTION:
URL:https://springfieldparkplace.com/event/garbage-pick-up-2/2028-01-27/
END:VEVENT
BEGIN:VEVENT
DTSTART;VALUE=DATE:20280126
DTEND;VALUE=DATE:20280127
DTSTAMP:20260421T192350
CREATED:20251011T082156Z
LAST-MODIFIED:20251011T082156Z
UID:10000386-1832457600-1832543999@springfieldparkplace.com
SUMMARY:Recycling
DESCRIPTION:
URL:https://springfieldparkplace.com/event/recycling/2028-01-26/
END:VEVENT
BEGIN:VEVENT
DTSTART;TZID=America/New_York:20280124T080000
DTEND;TZID=America/New_York:20280124T170000
DTSTAMP:20260421T192350
CREATED:20260420T151942Z
LAST-MODIFIED:20260420T151942Z
UID:10001546-1832313600-1832346000@springfieldparkplace.com
SUMMARY:Garbage Pick Up
DESCRIPTION:
URL:https://springfieldparkplace.com/event/garbage-pick-up-2/2028-01-24/
END:VEVENT
BEGIN:VEVENT
DTSTART;VALUE=DATE:20280124
DTEND;VALUE=DATE:20280125
DTSTAMP:20260421T192350
CREATED:20251011T082052Z
LAST-MODIFIED:20251028T154637Z
UID:10000125-1832284800-1832371199@springfieldparkplace.com
SUMMARY:Garbage Pick up
DESCRIPTION:
URL:https://springfieldparkplace.com/event/garbage-pick-up/2028-01-24/
END:VEVENT
BEGIN:VEVENT
DTSTART;TZID=America/New_York:20280120T080000
DTEND;TZID=America/New_York:20280120T170000
DTSTAMP:20260421T192350
CREATED:20260420T151942Z
LAST-MODIFIED:20260420T151942Z
UID:10001545-1831968000-1832000400@springfieldparkplace.com
SUMMARY:Garbage Pick Up
DESCRIPTION:
URL:https://springfieldparkplace.com/event/garbage-pick-up-2/2028-01-20/
END:VEVENT
BEGIN:VEVENT
DTSTART;VALUE=DATE:20280119
DTEND;VALUE=DATE:20280120
DTSTAMP:20260421T192350
CREATED:20251011T082156Z
LAST-MODIFIED:20251011T082156Z
UID:10000385-1831852800-1831939199@springfieldparkplace.com
SUMMARY:Recycling
DESCRIPTION:
URL:https://springfieldparkplace.com/event/recycling/2028-01-19/
END:VEVENT
BEGIN:VEVENT
DTSTART;TZID=America/New_York:20280117T080000
DTEND;TZID=America/New_York:20280117T170000
DTSTAMP:20260421T192350
CREATED:20260420T151942Z
LAST-MODIFIED:20260420T151942Z
UID:10001544-1831708800-1831741200@springfieldparkplace.com
SUMMARY:Garbage Pick Up
DESCRIPTION:
URL:https://springfieldparkplace.com/event/garbage-pick-up-2/2028-01-17/
END:VEVENT
BEGIN:VEVENT
DTSTART;VALUE=DATE:20280117
DTEND;VALUE=DATE:20280118
DTSTAMP:20260421T192350
CREATED:20251011T082052Z
LAST-MODIFIED:20251028T154637Z
UID:10000124-1831680000-1831766399@springfieldparkplace.com
SUMMARY:Garbage Pick up
DESCRIPTION:
URL:https://springfieldparkplace.com/event/garbage-pick-up/2028-01-17/
END:VEVENT
BEGIN:VEVENT
DTSTART;TZID=America/New_York:20280113T080000
DTEND;TZID=America/New_York:20280113T170000
DTSTAMP:20260421T192350
CREATED:20260420T151942Z
LAST-MODIFIED:20260420T151942Z
UID:10001543-1831363200-1831395600@springfieldparkplace.com
SUMMARY:Garbage Pick Up
DESCRIPTION:
URL:https://springfieldparkplace.com/event/garbage-pick-up-2/2028-01-13/
END:VEVENT
BEGIN:VEVENT
DTSTART;VALUE=DATE:20280112
DTEND;VALUE=DATE:20280113
DTSTAMP:20260421T192350
CREATED:20251011T082156Z
LAST-MODIFIED:20251011T082156Z
UID:10000384-1831248000-1831334399@springfieldparkplace.com
SUMMARY:Recycling
DESCRIPTION:
URL:https://springfieldparkplace.com/event/recycling/2028-01-12/
END:VEVENT
BEGIN:VEVENT
DTSTART;TZID=America/New_York:20280110T080000
DTEND;TZID=America/New_York:20280110T170000
DTSTAMP:20260421T192350
CREATED:20260420T151942Z
LAST-MODIFIED:20260420T151942Z
UID:10001542-1831104000-1831136400@springfieldparkplace.com
SUMMARY:Garbage Pick Up
DESCRIPTION:
URL:https://springfieldparkplace.com/event/garbage-pick-up-2/2028-01-10/
END:VEVENT
BEGIN:VEVENT
DTSTART;VALUE=DATE:20280110
DTEND;VALUE=DATE:20280111
DTSTAMP:20260421T192350
CREATED:20251011T082052Z
LAST-MODIFIED:20251028T154637Z
UID:10000123-1831075200-1831161599@springfieldparkplace.com
SUMMARY:Garbage Pick up
DESCRIPTION:
URL:https://springfieldparkplace.com/event/garbage-pick-up/2028-01-10/
END:VEVENT
END:VCALENDAR