BEGIN:VCALENDAR
VERSION:2.0
PRODID:-//Springfield Park Place Condominium Association - ECPv6.15.20//NONSGML v1.0//EN
CALSCALE:GREGORIAN
METHOD:PUBLISH
X-WR-CALNAME:Springfield Park Place Condominium Association
X-ORIGINAL-URL:https://springfieldparkplace.com
X-WR-CALDESC:Events for Springfield Park Place Condominium Association
REFRESH-INTERVAL;VALUE=DURATION:PT1H
X-Robots-Tag:noindex
X-PUBLISHED-TTL:PT1H
BEGIN:VTIMEZONE
TZID:America/New_York
BEGIN:DAYLIGHT
TZOFFSETFROM:-0500
TZOFFSETTO:-0400
TZNAME:EDT
DTSTART:20280312T070000
END:DAYLIGHT
BEGIN:STANDARD
TZOFFSETFROM:-0400
TZOFFSETTO:-0500
TZNAME:EST
DTSTART:20281105T060000
END:STANDARD
BEGIN:DAYLIGHT
TZOFFSETFROM:-0500
TZOFFSETTO:-0400
TZNAME:EDT
DTSTART:20290311T070000
END:DAYLIGHT
BEGIN:STANDARD
TZOFFSETFROM:-0400
TZOFFSETTO:-0500
TZNAME:EST
DTSTART:20291104T060000
END:STANDARD
BEGIN:DAYLIGHT
TZOFFSETFROM:-0500
TZOFFSETTO:-0400
TZNAME:EDT
DTSTART:20300310T070000
END:DAYLIGHT
BEGIN:STANDARD
TZOFFSETFROM:-0400
TZOFFSETTO:-0500
TZNAME:EST
DTSTART:20301103T060000
END:STANDARD
END:VTIMEZONE
BEGIN:VEVENT
DTSTART;VALUE=DATE:20290827
DTEND;VALUE=DATE:20290828
DTSTAMP:20260422T184936
CREATED:20251011T082052Z
LAST-MODIFIED:20251028T154637Z
UID:10000208-1882483200-1882569599@springfieldparkplace.com
SUMMARY:Garbage Pick up
DESCRIPTION:
URL:https://springfieldparkplace.com/event/garbage-pick-up/2029-08-27/
END:VEVENT
BEGIN:VEVENT
DTSTART;TZID=America/New_York:20290827T080000
DTEND;TZID=America/New_York:20290827T170000
DTSTAMP:20260422T184936
CREATED:20260420T151942Z
LAST-MODIFIED:20260420T151942Z
UID:10001712-1882512000-1882544400@springfieldparkplace.com
SUMMARY:Garbage Pick Up
DESCRIPTION:
URL:https://springfieldparkplace.com/event/garbage-pick-up-2/2029-08-27/
END:VEVENT
BEGIN:VEVENT
DTSTART;VALUE=DATE:20290829
DTEND;VALUE=DATE:20290830
DTSTAMP:20260422T184936
CREATED:20251011T082156Z
LAST-MODIFIED:20251011T082156Z
UID:10000469-1882656000-1882742399@springfieldparkplace.com
SUMMARY:Recycling
DESCRIPTION:
URL:https://springfieldparkplace.com/event/recycling/2029-08-29/
END:VEVENT
BEGIN:VEVENT
DTSTART;TZID=America/New_York:20290830T080000
DTEND;TZID=America/New_York:20290830T170000
DTSTAMP:20260422T184936
CREATED:20260420T151942Z
LAST-MODIFIED:20260420T151942Z
UID:10001713-1882771200-1882803600@springfieldparkplace.com
SUMMARY:Garbage Pick Up
DESCRIPTION:
URL:https://springfieldparkplace.com/event/garbage-pick-up-2/2029-08-30/
END:VEVENT
BEGIN:VEVENT
DTSTART;VALUE=DATE:20290903
DTEND;VALUE=DATE:20290904
DTSTAMP:20260422T184936
CREATED:20251011T082052Z
LAST-MODIFIED:20251028T154637Z
UID:10000209-1883088000-1883174399@springfieldparkplace.com
SUMMARY:Garbage Pick up
DESCRIPTION:
URL:https://springfieldparkplace.com/event/garbage-pick-up/2029-09-03/
END:VEVENT
BEGIN:VEVENT
DTSTART;TZID=America/New_York:20290903T080000
DTEND;TZID=America/New_York:20290903T170000
DTSTAMP:20260422T184936
CREATED:20260420T151942Z
LAST-MODIFIED:20260420T151942Z
UID:10001714-1883116800-1883149200@springfieldparkplace.com
SUMMARY:Garbage Pick Up
DESCRIPTION:
URL:https://springfieldparkplace.com/event/garbage-pick-up-2/2029-09-03/
END:VEVENT
BEGIN:VEVENT
DTSTART;VALUE=DATE:20290905
DTEND;VALUE=DATE:20290906
DTSTAMP:20260422T184936
CREATED:20251011T082156Z
LAST-MODIFIED:20251011T082156Z
UID:10000470-1883260800-1883347199@springfieldparkplace.com
SUMMARY:Recycling
DESCRIPTION:
URL:https://springfieldparkplace.com/event/recycling/2029-09-05/
END:VEVENT
BEGIN:VEVENT
DTSTART;TZID=America/New_York:20290906T080000
DTEND;TZID=America/New_York:20290906T170000
DTSTAMP:20260422T184936
CREATED:20260420T151942Z
LAST-MODIFIED:20260420T151942Z
UID:10001715-1883376000-1883408400@springfieldparkplace.com
SUMMARY:Garbage Pick Up
DESCRIPTION:
URL:https://springfieldparkplace.com/event/garbage-pick-up-2/2029-09-06/
END:VEVENT
BEGIN:VEVENT
DTSTART;VALUE=DATE:20290910
DTEND;VALUE=DATE:20290911
DTSTAMP:20260422T184936
CREATED:20251011T082052Z
LAST-MODIFIED:20251028T154637Z
UID:10000210-1883692800-1883779199@springfieldparkplace.com
SUMMARY:Garbage Pick up
DESCRIPTION:
URL:https://springfieldparkplace.com/event/garbage-pick-up/2029-09-10/
END:VEVENT
BEGIN:VEVENT
DTSTART;TZID=America/New_York:20290910T080000
DTEND;TZID=America/New_York:20290910T170000
DTSTAMP:20260422T184936
CREATED:20260420T151942Z
LAST-MODIFIED:20260420T151942Z
UID:10001716-1883721600-1883754000@springfieldparkplace.com
SUMMARY:Garbage Pick Up
DESCRIPTION:
URL:https://springfieldparkplace.com/event/garbage-pick-up-2/2029-09-10/
END:VEVENT
BEGIN:VEVENT
DTSTART;VALUE=DATE:20290912
DTEND;VALUE=DATE:20290913
DTSTAMP:20260422T184936
CREATED:20251011T082156Z
LAST-MODIFIED:20251011T082156Z
UID:10000471-1883865600-1883951999@springfieldparkplace.com
SUMMARY:Recycling
DESCRIPTION:
URL:https://springfieldparkplace.com/event/recycling/2029-09-12/
END:VEVENT
BEGIN:VEVENT
DTSTART;TZID=America/New_York:20290913T080000
DTEND;TZID=America/New_York:20290913T170000
DTSTAMP:20260422T184936
CREATED:20260420T151942Z
LAST-MODIFIED:20260420T151942Z
UID:10001717-1883980800-1884013200@springfieldparkplace.com
SUMMARY:Garbage Pick Up
DESCRIPTION:
URL:https://springfieldparkplace.com/event/garbage-pick-up-2/2029-09-13/
END:VEVENT
BEGIN:VEVENT
DTSTART;VALUE=DATE:20290917
DTEND;VALUE=DATE:20290918
DTSTAMP:20260422T184936
CREATED:20251011T082052Z
LAST-MODIFIED:20251028T154637Z
UID:10000211-1884297600-1884383999@springfieldparkplace.com
SUMMARY:Garbage Pick up
DESCRIPTION:
URL:https://springfieldparkplace.com/event/garbage-pick-up/2029-09-17/
END:VEVENT
BEGIN:VEVENT
DTSTART;TZID=America/New_York:20290917T080000
DTEND;TZID=America/New_York:20290917T170000
DTSTAMP:20260422T184936
CREATED:20260420T151942Z
LAST-MODIFIED:20260420T151942Z
UID:10001718-1884326400-1884358800@springfieldparkplace.com
SUMMARY:Garbage Pick Up
DESCRIPTION:
URL:https://springfieldparkplace.com/event/garbage-pick-up-2/2029-09-17/
END:VEVENT
BEGIN:VEVENT
DTSTART;VALUE=DATE:20290919
DTEND;VALUE=DATE:20290920
DTSTAMP:20260422T184936
CREATED:20251011T082156Z
LAST-MODIFIED:20251011T082156Z
UID:10000472-1884470400-1884556799@springfieldparkplace.com
SUMMARY:Recycling
DESCRIPTION:
URL:https://springfieldparkplace.com/event/recycling/2029-09-19/
END:VEVENT
BEGIN:VEVENT
DTSTART;TZID=America/New_York:20290920T080000
DTEND;TZID=America/New_York:20290920T170000
DTSTAMP:20260422T184936
CREATED:20260420T151942Z
LAST-MODIFIED:20260420T151942Z
UID:10001719-1884585600-1884618000@springfieldparkplace.com
SUMMARY:Garbage Pick Up
DESCRIPTION:
URL:https://springfieldparkplace.com/event/garbage-pick-up-2/2029-09-20/
END:VEVENT
BEGIN:VEVENT
DTSTART;VALUE=DATE:20290924
DTEND;VALUE=DATE:20290925
DTSTAMP:20260422T184936
CREATED:20251011T082052Z
LAST-MODIFIED:20251028T154637Z
UID:10000212-1884902400-1884988799@springfieldparkplace.com
SUMMARY:Garbage Pick up
DESCRIPTION:
URL:https://springfieldparkplace.com/event/garbage-pick-up/2029-09-24/
END:VEVENT
BEGIN:VEVENT
DTSTART;TZID=America/New_York:20290924T080000
DTEND;TZID=America/New_York:20290924T170000
DTSTAMP:20260422T184936
CREATED:20260420T151942Z
LAST-MODIFIED:20260420T151942Z
UID:10001720-1884931200-1884963600@springfieldparkplace.com
SUMMARY:Garbage Pick Up
DESCRIPTION:
URL:https://springfieldparkplace.com/event/garbage-pick-up-2/2029-09-24/
END:VEVENT
BEGIN:VEVENT
DTSTART;VALUE=DATE:20290926
DTEND;VALUE=DATE:20290927
DTSTAMP:20260422T184936
CREATED:20251011T082156Z
LAST-MODIFIED:20251011T082156Z
UID:10000473-1885075200-1885161599@springfieldparkplace.com
SUMMARY:Recycling
DESCRIPTION:
URL:https://springfieldparkplace.com/event/recycling/2029-09-26/
END:VEVENT
BEGIN:VEVENT
DTSTART;TZID=America/New_York:20290927T080000
DTEND;TZID=America/New_York:20290927T170000
DTSTAMP:20260422T184936
CREATED:20260420T151942Z
LAST-MODIFIED:20260420T151942Z
UID:10001721-1885190400-1885222800@springfieldparkplace.com
SUMMARY:Garbage Pick Up
DESCRIPTION:
URL:https://springfieldparkplace.com/event/garbage-pick-up-2/2029-09-27/
END:VEVENT
BEGIN:VEVENT
DTSTART;VALUE=DATE:20291001
DTEND;VALUE=DATE:20291002
DTSTAMP:20260422T184936
CREATED:20251011T082052Z
LAST-MODIFIED:20251028T154637Z
UID:10000213-1885507200-1885593599@springfieldparkplace.com
SUMMARY:Garbage Pick up
DESCRIPTION:
URL:https://springfieldparkplace.com/event/garbage-pick-up/2029-10-01/
END:VEVENT
BEGIN:VEVENT
DTSTART;TZID=America/New_York:20291001T080000
DTEND;TZID=America/New_York:20291001T170000
DTSTAMP:20260422T184936
CREATED:20260420T151942Z
LAST-MODIFIED:20260420T151942Z
UID:10001722-1885536000-1885568400@springfieldparkplace.com
SUMMARY:Garbage Pick Up
DESCRIPTION:
URL:https://springfieldparkplace.com/event/garbage-pick-up-2/2029-10-01/
END:VEVENT
BEGIN:VEVENT
DTSTART;VALUE=DATE:20291003
DTEND;VALUE=DATE:20291004
DTSTAMP:20260422T184936
CREATED:20251011T082156Z
LAST-MODIFIED:20251011T082156Z
UID:10000474-1885680000-1885766399@springfieldparkplace.com
SUMMARY:Recycling
DESCRIPTION:
URL:https://springfieldparkplace.com/event/recycling/2029-10-03/
END:VEVENT
BEGIN:VEVENT
DTSTART;TZID=America/New_York:20291004T080000
DTEND;TZID=America/New_York:20291004T170000
DTSTAMP:20260422T184936
CREATED:20260420T151942Z
LAST-MODIFIED:20260420T151942Z
UID:10001723-1885795200-1885827600@springfieldparkplace.com
SUMMARY:Garbage Pick Up
DESCRIPTION:
URL:https://springfieldparkplace.com/event/garbage-pick-up-2/2029-10-04/
END:VEVENT
BEGIN:VEVENT
DTSTART;VALUE=DATE:20291008
DTEND;VALUE=DATE:20291009
DTSTAMP:20260422T184936
CREATED:20251011T082052Z
LAST-MODIFIED:20251028T154637Z
UID:10000214-1886112000-1886198399@springfieldparkplace.com
SUMMARY:Garbage Pick up
DESCRIPTION:
URL:https://springfieldparkplace.com/event/garbage-pick-up/2029-10-08/
END:VEVENT
BEGIN:VEVENT
DTSTART;TZID=America/New_York:20291008T080000
DTEND;TZID=America/New_York:20291008T170000
DTSTAMP:20260422T184936
CREATED:20260420T151942Z
LAST-MODIFIED:20260420T151942Z
UID:10001724-1886140800-1886173200@springfieldparkplace.com
SUMMARY:Garbage Pick Up
DESCRIPTION:
URL:https://springfieldparkplace.com/event/garbage-pick-up-2/2029-10-08/
END:VEVENT
BEGIN:VEVENT
DTSTART;VALUE=DATE:20291010
DTEND;VALUE=DATE:20291011
DTSTAMP:20260422T184936
CREATED:20251011T082156Z
LAST-MODIFIED:20251011T082156Z
UID:10000475-1886284800-1886371199@springfieldparkplace.com
SUMMARY:Recycling
DESCRIPTION:
URL:https://springfieldparkplace.com/event/recycling/2029-10-10/
END:VEVENT
BEGIN:VEVENT
DTSTART;TZID=America/New_York:20291011T080000
DTEND;TZID=America/New_York:20291011T170000
DTSTAMP:20260422T184937
CREATED:20260420T151942Z
LAST-MODIFIED:20260420T151942Z
UID:10001725-1886400000-1886432400@springfieldparkplace.com
SUMMARY:Garbage Pick Up
DESCRIPTION:
URL:https://springfieldparkplace.com/event/garbage-pick-up-2/2029-10-11/
END:VEVENT
BEGIN:VEVENT
DTSTART;VALUE=DATE:20291015
DTEND;VALUE=DATE:20291016
DTSTAMP:20260422T184937
CREATED:20251011T082052Z
LAST-MODIFIED:20251028T154637Z
UID:10000215-1886716800-1886803199@springfieldparkplace.com
SUMMARY:Garbage Pick up
DESCRIPTION:
URL:https://springfieldparkplace.com/event/garbage-pick-up/2029-10-15/
END:VEVENT
BEGIN:VEVENT
DTSTART;TZID=America/New_York:20291015T080000
DTEND;TZID=America/New_York:20291015T170000
DTSTAMP:20260422T184937
CREATED:20260420T151942Z
LAST-MODIFIED:20260420T151942Z
UID:10001726-1886745600-1886778000@springfieldparkplace.com
SUMMARY:Garbage Pick Up
DESCRIPTION:
URL:https://springfieldparkplace.com/event/garbage-pick-up-2/2029-10-15/
END:VEVENT
END:VCALENDAR