BEGIN:VCALENDAR
VERSION:2.0
PRODID:-//Springfield Park Place Condominium Association - ECPv6.15.20//NONSGML v1.0//EN
CALSCALE:GREGORIAN
METHOD:PUBLISH
X-ORIGINAL-URL:https://springfieldparkplace.com
X-WR-CALDESC:Events for Springfield Park Place Condominium Association
REFRESH-INTERVAL;VALUE=DURATION:PT1H
X-Robots-Tag:noindex
X-PUBLISHED-TTL:PT1H
BEGIN:VTIMEZONE
TZID:America/New_York
BEGIN:DAYLIGHT
TZOFFSETFROM:-0500
TZOFFSETTO:-0400
TZNAME:EDT
DTSTART:20280312T070000
END:DAYLIGHT
BEGIN:STANDARD
TZOFFSETFROM:-0400
TZOFFSETTO:-0500
TZNAME:EST
DTSTART:20281105T060000
END:STANDARD
BEGIN:DAYLIGHT
TZOFFSETFROM:-0500
TZOFFSETTO:-0400
TZNAME:EDT
DTSTART:20290311T070000
END:DAYLIGHT
BEGIN:STANDARD
TZOFFSETFROM:-0400
TZOFFSETTO:-0500
TZNAME:EST
DTSTART:20291104T060000
END:STANDARD
BEGIN:DAYLIGHT
TZOFFSETFROM:-0500
TZOFFSETTO:-0400
TZNAME:EDT
DTSTART:20300310T070000
END:DAYLIGHT
BEGIN:STANDARD
TZOFFSETFROM:-0400
TZOFFSETTO:-0500
TZNAME:EST
DTSTART:20301103T060000
END:STANDARD
END:VTIMEZONE
BEGIN:VEVENT
DTSTART;VALUE=DATE:20290725
DTEND;VALUE=DATE:20290726
DTSTAMP:20260422T185446
CREATED:20251011T082156Z
LAST-MODIFIED:20251011T082156Z
UID:10000464-1879632000-1879718399@springfieldparkplace.com
SUMMARY:Recycling
DESCRIPTION:
URL:https://springfieldparkplace.com/event/recycling/2029-07-25/
END:VEVENT
BEGIN:VEVENT
DTSTART;TZID=America/New_York:20290726T080000
DTEND;TZID=America/New_York:20290726T170000
DTSTAMP:20260422T185446
CREATED:20260420T151942Z
LAST-MODIFIED:20260420T151942Z
UID:10001703-1879747200-1879779600@springfieldparkplace.com
SUMMARY:Garbage Pick Up
DESCRIPTION:
URL:https://springfieldparkplace.com/event/garbage-pick-up-2/2029-07-26/
END:VEVENT
BEGIN:VEVENT
DTSTART;VALUE=DATE:20290730
DTEND;VALUE=DATE:20290731
DTSTAMP:20260422T185446
CREATED:20251011T082052Z
LAST-MODIFIED:20251028T154637Z
UID:10000204-1880064000-1880150399@springfieldparkplace.com
SUMMARY:Garbage Pick up
DESCRIPTION:
URL:https://springfieldparkplace.com/event/garbage-pick-up/2029-07-30/
END:VEVENT
BEGIN:VEVENT
DTSTART;TZID=America/New_York:20290730T080000
DTEND;TZID=America/New_York:20290730T170000
DTSTAMP:20260422T185446
CREATED:20260420T151942Z
LAST-MODIFIED:20260420T151942Z
UID:10001704-1880092800-1880125200@springfieldparkplace.com
SUMMARY:Garbage Pick Up
DESCRIPTION:
URL:https://springfieldparkplace.com/event/garbage-pick-up-2/2029-07-30/
END:VEVENT
BEGIN:VEVENT
DTSTART;VALUE=DATE:20290801
DTEND;VALUE=DATE:20290802
DTSTAMP:20260422T185446
CREATED:20251011T082156Z
LAST-MODIFIED:20251011T082156Z
UID:10000465-1880236800-1880323199@springfieldparkplace.com
SUMMARY:Recycling
DESCRIPTION:
URL:https://springfieldparkplace.com/event/recycling/2029-08-01/
END:VEVENT
BEGIN:VEVENT
DTSTART;TZID=America/New_York:20290802T080000
DTEND;TZID=America/New_York:20290802T170000
DTSTAMP:20260422T185446
CREATED:20260420T151942Z
LAST-MODIFIED:20260420T151942Z
UID:10001705-1880352000-1880384400@springfieldparkplace.com
SUMMARY:Garbage Pick Up
DESCRIPTION:
URL:https://springfieldparkplace.com/event/garbage-pick-up-2/2029-08-02/
END:VEVENT
BEGIN:VEVENT
DTSTART;VALUE=DATE:20290806
DTEND;VALUE=DATE:20290807
DTSTAMP:20260422T185446
CREATED:20251011T082052Z
LAST-MODIFIED:20251028T154637Z
UID:10000205-1880668800-1880755199@springfieldparkplace.com
SUMMARY:Garbage Pick up
DESCRIPTION:
URL:https://springfieldparkplace.com/event/garbage-pick-up/2029-08-06/
END:VEVENT
BEGIN:VEVENT
DTSTART;TZID=America/New_York:20290806T080000
DTEND;TZID=America/New_York:20290806T170000
DTSTAMP:20260422T185446
CREATED:20260420T151942Z
LAST-MODIFIED:20260420T151942Z
UID:10001706-1880697600-1880730000@springfieldparkplace.com
SUMMARY:Garbage Pick Up
DESCRIPTION:
URL:https://springfieldparkplace.com/event/garbage-pick-up-2/2029-08-06/
END:VEVENT
BEGIN:VEVENT
DTSTART;VALUE=DATE:20290808
DTEND;VALUE=DATE:20290809
DTSTAMP:20260422T185446
CREATED:20251011T082156Z
LAST-MODIFIED:20251011T082156Z
UID:10000466-1880841600-1880927999@springfieldparkplace.com
SUMMARY:Recycling
DESCRIPTION:
URL:https://springfieldparkplace.com/event/recycling/2029-08-08/
END:VEVENT
BEGIN:VEVENT
DTSTART;TZID=America/New_York:20290809T080000
DTEND;TZID=America/New_York:20290809T170000
DTSTAMP:20260422T185446
CREATED:20260420T151942Z
LAST-MODIFIED:20260420T151942Z
UID:10001707-1880956800-1880989200@springfieldparkplace.com
SUMMARY:Garbage Pick Up
DESCRIPTION:
URL:https://springfieldparkplace.com/event/garbage-pick-up-2/2029-08-09/
END:VEVENT
BEGIN:VEVENT
DTSTART;VALUE=DATE:20290813
DTEND;VALUE=DATE:20290814
DTSTAMP:20260422T185446
CREATED:20251011T082052Z
LAST-MODIFIED:20251028T154637Z
UID:10000206-1881273600-1881359999@springfieldparkplace.com
SUMMARY:Garbage Pick up
DESCRIPTION:
URL:https://springfieldparkplace.com/event/garbage-pick-up/2029-08-13/
END:VEVENT
BEGIN:VEVENT
DTSTART;TZID=America/New_York:20290813T080000
DTEND;TZID=America/New_York:20290813T170000
DTSTAMP:20260422T185446
CREATED:20260420T151942Z
LAST-MODIFIED:20260420T151942Z
UID:10001708-1881302400-1881334800@springfieldparkplace.com
SUMMARY:Garbage Pick Up
DESCRIPTION:
URL:https://springfieldparkplace.com/event/garbage-pick-up-2/2029-08-13/
END:VEVENT
BEGIN:VEVENT
DTSTART;VALUE=DATE:20290815
DTEND;VALUE=DATE:20290816
DTSTAMP:20260422T185446
CREATED:20251011T082156Z
LAST-MODIFIED:20251011T082156Z
UID:10000467-1881446400-1881532799@springfieldparkplace.com
SUMMARY:Recycling
DESCRIPTION:
URL:https://springfieldparkplace.com/event/recycling/2029-08-15/
END:VEVENT
BEGIN:VEVENT
DTSTART;TZID=America/New_York:20290816T080000
DTEND;TZID=America/New_York:20290816T170000
DTSTAMP:20260422T185446
CREATED:20260420T151942Z
LAST-MODIFIED:20260420T151942Z
UID:10001709-1881561600-1881594000@springfieldparkplace.com
SUMMARY:Garbage Pick Up
DESCRIPTION:
URL:https://springfieldparkplace.com/event/garbage-pick-up-2/2029-08-16/
END:VEVENT
BEGIN:VEVENT
DTSTART;VALUE=DATE:20290820
DTEND;VALUE=DATE:20290821
DTSTAMP:20260422T185446
CREATED:20251011T082052Z
LAST-MODIFIED:20251028T154637Z
UID:10000207-1881878400-1881964799@springfieldparkplace.com
SUMMARY:Garbage Pick up
DESCRIPTION:
URL:https://springfieldparkplace.com/event/garbage-pick-up/2029-08-20/
END:VEVENT
BEGIN:VEVENT
DTSTART;TZID=America/New_York:20290820T080000
DTEND;TZID=America/New_York:20290820T170000
DTSTAMP:20260422T185446
CREATED:20260420T151942Z
LAST-MODIFIED:20260420T151942Z
UID:10001710-1881907200-1881939600@springfieldparkplace.com
SUMMARY:Garbage Pick Up
DESCRIPTION:
URL:https://springfieldparkplace.com/event/garbage-pick-up-2/2029-08-20/
END:VEVENT
BEGIN:VEVENT
DTSTART;VALUE=DATE:20290822
DTEND;VALUE=DATE:20290823
DTSTAMP:20260422T185446
CREATED:20251011T082156Z
LAST-MODIFIED:20251011T082156Z
UID:10000468-1882051200-1882137599@springfieldparkplace.com
SUMMARY:Recycling
DESCRIPTION:
URL:https://springfieldparkplace.com/event/recycling/2029-08-22/
END:VEVENT
BEGIN:VEVENT
DTSTART;TZID=America/New_York:20290823T080000
DTEND;TZID=America/New_York:20290823T170000
DTSTAMP:20260422T185446
CREATED:20260420T151942Z
LAST-MODIFIED:20260420T151942Z
UID:10001711-1882166400-1882198800@springfieldparkplace.com
SUMMARY:Garbage Pick Up
DESCRIPTION:
URL:https://springfieldparkplace.com/event/garbage-pick-up-2/2029-08-23/
END:VEVENT
BEGIN:VEVENT
DTSTART;VALUE=DATE:20290827
DTEND;VALUE=DATE:20290828
DTSTAMP:20260422T185446
CREATED:20251011T082052Z
LAST-MODIFIED:20251028T154637Z
UID:10000208-1882483200-1882569599@springfieldparkplace.com
SUMMARY:Garbage Pick up
DESCRIPTION:
URL:https://springfieldparkplace.com/event/garbage-pick-up/2029-08-27/
END:VEVENT
BEGIN:VEVENT
DTSTART;TZID=America/New_York:20290827T080000
DTEND;TZID=America/New_York:20290827T170000
DTSTAMP:20260422T185446
CREATED:20260420T151942Z
LAST-MODIFIED:20260420T151942Z
UID:10001712-1882512000-1882544400@springfieldparkplace.com
SUMMARY:Garbage Pick Up
DESCRIPTION:
URL:https://springfieldparkplace.com/event/garbage-pick-up-2/2029-08-27/
END:VEVENT
BEGIN:VEVENT
DTSTART;VALUE=DATE:20290829
DTEND;VALUE=DATE:20290830
DTSTAMP:20260422T185446
CREATED:20251011T082156Z
LAST-MODIFIED:20251011T082156Z
UID:10000469-1882656000-1882742399@springfieldparkplace.com
SUMMARY:Recycling
DESCRIPTION:
URL:https://springfieldparkplace.com/event/recycling/2029-08-29/
END:VEVENT
BEGIN:VEVENT
DTSTART;TZID=America/New_York:20290830T080000
DTEND;TZID=America/New_York:20290830T170000
DTSTAMP:20260422T185446
CREATED:20260420T151942Z
LAST-MODIFIED:20260420T151942Z
UID:10001713-1882771200-1882803600@springfieldparkplace.com
SUMMARY:Garbage Pick Up
DESCRIPTION:
URL:https://springfieldparkplace.com/event/garbage-pick-up-2/2029-08-30/
END:VEVENT
BEGIN:VEVENT
DTSTART;VALUE=DATE:20290903
DTEND;VALUE=DATE:20290904
DTSTAMP:20260422T185446
CREATED:20251011T082052Z
LAST-MODIFIED:20251028T154637Z
UID:10000209-1883088000-1883174399@springfieldparkplace.com
SUMMARY:Garbage Pick up
DESCRIPTION:
URL:https://springfieldparkplace.com/event/garbage-pick-up/2029-09-03/
END:VEVENT
BEGIN:VEVENT
DTSTART;TZID=America/New_York:20290903T080000
DTEND;TZID=America/New_York:20290903T170000
DTSTAMP:20260422T185446
CREATED:20260420T151942Z
LAST-MODIFIED:20260420T151942Z
UID:10001714-1883116800-1883149200@springfieldparkplace.com
SUMMARY:Garbage Pick Up
DESCRIPTION:
URL:https://springfieldparkplace.com/event/garbage-pick-up-2/2029-09-03/
END:VEVENT
BEGIN:VEVENT
DTSTART;VALUE=DATE:20290905
DTEND;VALUE=DATE:20290906
DTSTAMP:20260422T185446
CREATED:20251011T082156Z
LAST-MODIFIED:20251011T082156Z
UID:10000470-1883260800-1883347199@springfieldparkplace.com
SUMMARY:Recycling
DESCRIPTION:
URL:https://springfieldparkplace.com/event/recycling/2029-09-05/
END:VEVENT
BEGIN:VEVENT
DTSTART;TZID=America/New_York:20290906T080000
DTEND;TZID=America/New_York:20290906T170000
DTSTAMP:20260422T185446
CREATED:20260420T151942Z
LAST-MODIFIED:20260420T151942Z
UID:10001715-1883376000-1883408400@springfieldparkplace.com
SUMMARY:Garbage Pick Up
DESCRIPTION:
URL:https://springfieldparkplace.com/event/garbage-pick-up-2/2029-09-06/
END:VEVENT
BEGIN:VEVENT
DTSTART;VALUE=DATE:20290910
DTEND;VALUE=DATE:20290911
DTSTAMP:20260422T185446
CREATED:20251011T082052Z
LAST-MODIFIED:20251028T154637Z
UID:10000210-1883692800-1883779199@springfieldparkplace.com
SUMMARY:Garbage Pick up
DESCRIPTION:
URL:https://springfieldparkplace.com/event/garbage-pick-up/2029-09-10/
END:VEVENT
BEGIN:VEVENT
DTSTART;TZID=America/New_York:20290910T080000
DTEND;TZID=America/New_York:20290910T170000
DTSTAMP:20260422T185446
CREATED:20260420T151942Z
LAST-MODIFIED:20260420T151942Z
UID:10001716-1883721600-1883754000@springfieldparkplace.com
SUMMARY:Garbage Pick Up
DESCRIPTION:
URL:https://springfieldparkplace.com/event/garbage-pick-up-2/2029-09-10/
END:VEVENT
BEGIN:VEVENT
DTSTART;VALUE=DATE:20290912
DTEND;VALUE=DATE:20290913
DTSTAMP:20260422T185446
CREATED:20251011T082156Z
LAST-MODIFIED:20251011T082156Z
UID:10000471-1883865600-1883951999@springfieldparkplace.com
SUMMARY:Recycling
DESCRIPTION:
URL:https://springfieldparkplace.com/event/recycling/2029-09-12/
END:VEVENT
BEGIN:VEVENT
DTSTART;TZID=America/New_York:20290913T080000
DTEND;TZID=America/New_York:20290913T170000
DTSTAMP:20260422T185446
CREATED:20260420T151942Z
LAST-MODIFIED:20260420T151942Z
UID:10001717-1883980800-1884013200@springfieldparkplace.com
SUMMARY:Garbage Pick Up
DESCRIPTION:
URL:https://springfieldparkplace.com/event/garbage-pick-up-2/2029-09-13/
END:VEVENT
END:VCALENDAR