BEGIN:VCALENDAR
VERSION:2.0
PRODID:-//Springfield Park Place Condominium Association - ECPv6.15.20//NONSGML v1.0//EN
CALSCALE:GREGORIAN
METHOD:PUBLISH
X-ORIGINAL-URL:https://springfieldparkplace.com
X-WR-CALDESC:Events for Springfield Park Place Condominium Association
REFRESH-INTERVAL;VALUE=DURATION:PT1H
X-Robots-Tag:noindex
X-PUBLISHED-TTL:PT1H
BEGIN:VTIMEZONE
TZID:America/New_York
BEGIN:DAYLIGHT
TZOFFSETFROM:-0500
TZOFFSETTO:-0400
TZNAME:EDT
DTSTART:20250309T070000
END:DAYLIGHT
BEGIN:STANDARD
TZOFFSETFROM:-0400
TZOFFSETTO:-0500
TZNAME:EST
DTSTART:20251102T060000
END:STANDARD
BEGIN:DAYLIGHT
TZOFFSETFROM:-0500
TZOFFSETTO:-0400
TZNAME:EDT
DTSTART:20260308T070000
END:DAYLIGHT
BEGIN:STANDARD
TZOFFSETFROM:-0400
TZOFFSETTO:-0500
TZNAME:EST
DTSTART:20261101T060000
END:STANDARD
BEGIN:DAYLIGHT
TZOFFSETFROM:-0500
TZOFFSETTO:-0400
TZNAME:EDT
DTSTART:20270314T070000
END:DAYLIGHT
BEGIN:STANDARD
TZOFFSETFROM:-0400
TZOFFSETTO:-0500
TZNAME:EST
DTSTART:20271107T060000
END:STANDARD
END:VTIMEZONE
BEGIN:VEVENT
DTSTART;TZID=America/New_York:20260615T080000
DTEND;TZID=America/New_York:20260615T170000
DTSTAMP:20260420T195225
CREATED:20260420T151942Z
LAST-MODIFIED:20260420T151942Z
UID:10001378-1781510400-1781542800@springfieldparkplace.com
SUMMARY:Garbage Pick Up
DESCRIPTION:
URL:https://springfieldparkplace.com/event/garbage-pick-up-2/2026-06-15/
END:VEVENT
BEGIN:VEVENT
DTSTART;VALUE=DATE:20260617
DTEND;VALUE=DATE:20260618
DTSTAMP:20260420T195225
CREATED:20251011T082156Z
LAST-MODIFIED:20251011T082156Z
UID:10000302-1781654400-1781740799@springfieldparkplace.com
SUMMARY:Recycling
DESCRIPTION:
URL:https://springfieldparkplace.com/event/recycling/2026-06-17/
END:VEVENT
BEGIN:VEVENT
DTSTART;TZID=America/New_York:20260617T190000
DTEND;TZID=America/New_York:20260617T210000
DTSTAMP:20260420T195225
CREATED:20251218T184817Z
LAST-MODIFIED:20251218T184817Z
UID:10000827-1781722800-1781730000@springfieldparkplace.com
SUMMARY:Open Board Meeting
DESCRIPTION:📌 Open Board MeetingThis is an open meeting of the Board of Directors. All homeowners are welcome to attend.
URL:https://springfieldparkplace.com/event/open-board-meeting-2/
END:VEVENT
BEGIN:VEVENT
DTSTART;TZID=America/New_York:20260617T190000
DTEND;TZID=America/New_York:20260617T210000
DTSTAMP:20260420T195225
CREATED:20260420T161558Z
LAST-MODIFIED:20260420T161558Z
UID:10001890-1781722800-1781730000@springfieldparkplace.com
SUMMARY:Open Board Meeting
DESCRIPTION:June 17 @ 7:00 PM – 9:00 PM \nOpen Board Meeting \nThis is an open meeting of the Board of Directors. All homeowners are welcome to attend.
URL:https://springfieldparkplace.com/event/open-board-meeting-5/
END:VEVENT
BEGIN:VEVENT
DTSTART;TZID=America/New_York:20260618T080000
DTEND;TZID=America/New_York:20260618T170000
DTSTAMP:20260420T195225
CREATED:20260420T151942Z
LAST-MODIFIED:20260420T151942Z
UID:10001379-1781769600-1781802000@springfieldparkplace.com
SUMMARY:Garbage Pick Up
DESCRIPTION:
URL:https://springfieldparkplace.com/event/garbage-pick-up-2/2026-06-18/
END:VEVENT
BEGIN:VEVENT
DTSTART;VALUE=DATE:20260622
DTEND;VALUE=DATE:20260623
DTSTAMP:20260420T195225
CREATED:20251011T082052Z
LAST-MODIFIED:20251028T154637Z
UID:10000042-1782086400-1782172799@springfieldparkplace.com
SUMMARY:Garbage Pick up
DESCRIPTION:
URL:https://springfieldparkplace.com/event/garbage-pick-up/2026-06-22/
END:VEVENT
BEGIN:VEVENT
DTSTART;TZID=America/New_York:20260622T080000
DTEND;TZID=America/New_York:20260622T170000
DTSTAMP:20260420T195225
CREATED:20260420T151942Z
LAST-MODIFIED:20260420T151942Z
UID:10001380-1782115200-1782147600@springfieldparkplace.com
SUMMARY:Garbage Pick Up
DESCRIPTION:
URL:https://springfieldparkplace.com/event/garbage-pick-up-2/2026-06-22/
END:VEVENT
BEGIN:VEVENT
DTSTART;VALUE=DATE:20260624
DTEND;VALUE=DATE:20260625
DTSTAMP:20260420T195225
CREATED:20251011T082156Z
LAST-MODIFIED:20251011T082156Z
UID:10000303-1782259200-1782345599@springfieldparkplace.com
SUMMARY:Recycling
DESCRIPTION:
URL:https://springfieldparkplace.com/event/recycling/2026-06-24/
END:VEVENT
BEGIN:VEVENT
DTSTART;TZID=America/New_York:20260625T080000
DTEND;TZID=America/New_York:20260625T170000
DTSTAMP:20260420T195225
CREATED:20260420T151942Z
LAST-MODIFIED:20260420T151942Z
UID:10001381-1782374400-1782406800@springfieldparkplace.com
SUMMARY:Garbage Pick Up
DESCRIPTION:
URL:https://springfieldparkplace.com/event/garbage-pick-up-2/2026-06-25/
END:VEVENT
BEGIN:VEVENT
DTSTART;VALUE=DATE:20260629
DTEND;VALUE=DATE:20260630
DTSTAMP:20260420T195225
CREATED:20251011T082052Z
LAST-MODIFIED:20251028T154637Z
UID:10000043-1782691200-1782777599@springfieldparkplace.com
SUMMARY:Garbage Pick up
DESCRIPTION:
URL:https://springfieldparkplace.com/event/garbage-pick-up/2026-06-29/
END:VEVENT
BEGIN:VEVENT
DTSTART;TZID=America/New_York:20260629T080000
DTEND;TZID=America/New_York:20260629T170000
DTSTAMP:20260420T195225
CREATED:20260420T151942Z
LAST-MODIFIED:20260420T151942Z
UID:10001382-1782720000-1782752400@springfieldparkplace.com
SUMMARY:Garbage Pick Up
DESCRIPTION:
URL:https://springfieldparkplace.com/event/garbage-pick-up-2/2026-06-29/
END:VEVENT
BEGIN:VEVENT
DTSTART;VALUE=DATE:20260701
DTEND;VALUE=DATE:20260702
DTSTAMP:20260420T195225
CREATED:20251011T082156Z
LAST-MODIFIED:20251011T082156Z
UID:10000304-1782864000-1782950399@springfieldparkplace.com
SUMMARY:Recycling
DESCRIPTION:
URL:https://springfieldparkplace.com/event/recycling/2026-07-01/
END:VEVENT
BEGIN:VEVENT
DTSTART;TZID=America/New_York:20260702T080000
DTEND;TZID=America/New_York:20260702T170000
DTSTAMP:20260420T195225
CREATED:20260420T151942Z
LAST-MODIFIED:20260420T151942Z
UID:10001383-1782979200-1783011600@springfieldparkplace.com
SUMMARY:Garbage Pick Up
DESCRIPTION:
URL:https://springfieldparkplace.com/event/garbage-pick-up-2/2026-07-02/
END:VEVENT
BEGIN:VEVENT
DTSTART;VALUE=DATE:20260706
DTEND;VALUE=DATE:20260707
DTSTAMP:20260420T195225
CREATED:20251011T082052Z
LAST-MODIFIED:20251028T154637Z
UID:10000044-1783296000-1783382399@springfieldparkplace.com
SUMMARY:Garbage Pick up
DESCRIPTION:
URL:https://springfieldparkplace.com/event/garbage-pick-up/2026-07-06/
END:VEVENT
BEGIN:VEVENT
DTSTART;TZID=America/New_York:20260706T080000
DTEND;TZID=America/New_York:20260706T170000
DTSTAMP:20260420T195225
CREATED:20260420T151942Z
LAST-MODIFIED:20260420T151942Z
UID:10001384-1783324800-1783357200@springfieldparkplace.com
SUMMARY:Garbage Pick Up
DESCRIPTION:
URL:https://springfieldparkplace.com/event/garbage-pick-up-2/2026-07-06/
END:VEVENT
BEGIN:VEVENT
DTSTART;VALUE=DATE:20260708
DTEND;VALUE=DATE:20260709
DTSTAMP:20260420T195225
CREATED:20251011T082156Z
LAST-MODIFIED:20251011T082156Z
UID:10000305-1783468800-1783555199@springfieldparkplace.com
SUMMARY:Recycling
DESCRIPTION:
URL:https://springfieldparkplace.com/event/recycling/2026-07-08/
END:VEVENT
BEGIN:VEVENT
DTSTART;TZID=America/New_York:20260709T080000
DTEND;TZID=America/New_York:20260709T170000
DTSTAMP:20260420T195225
CREATED:20260420T151942Z
LAST-MODIFIED:20260420T151942Z
UID:10001385-1783584000-1783616400@springfieldparkplace.com
SUMMARY:Garbage Pick Up
DESCRIPTION:
URL:https://springfieldparkplace.com/event/garbage-pick-up-2/2026-07-09/
END:VEVENT
BEGIN:VEVENT
DTSTART;VALUE=DATE:20260713
DTEND;VALUE=DATE:20260714
DTSTAMP:20260420T195225
CREATED:20251011T082052Z
LAST-MODIFIED:20251028T154637Z
UID:10000045-1783900800-1783987199@springfieldparkplace.com
SUMMARY:Garbage Pick up
DESCRIPTION:
URL:https://springfieldparkplace.com/event/garbage-pick-up/2026-07-13/
END:VEVENT
BEGIN:VEVENT
DTSTART;TZID=America/New_York:20260713T080000
DTEND;TZID=America/New_York:20260713T170000
DTSTAMP:20260420T195225
CREATED:20260420T151942Z
LAST-MODIFIED:20260420T151942Z
UID:10001386-1783929600-1783962000@springfieldparkplace.com
SUMMARY:Garbage Pick Up
DESCRIPTION:
URL:https://springfieldparkplace.com/event/garbage-pick-up-2/2026-07-13/
END:VEVENT
BEGIN:VEVENT
DTSTART;VALUE=DATE:20260715
DTEND;VALUE=DATE:20260716
DTSTAMP:20260420T195225
CREATED:20251011T082156Z
LAST-MODIFIED:20251011T082156Z
UID:10000306-1784073600-1784159999@springfieldparkplace.com
SUMMARY:Recycling
DESCRIPTION:
URL:https://springfieldparkplace.com/event/recycling/2026-07-15/
END:VEVENT
BEGIN:VEVENT
DTSTART;TZID=America/New_York:20260716T080000
DTEND;TZID=America/New_York:20260716T170000
DTSTAMP:20260420T195225
CREATED:20260420T151942Z
LAST-MODIFIED:20260420T151942Z
UID:10001387-1784188800-1784221200@springfieldparkplace.com
SUMMARY:Garbage Pick Up
DESCRIPTION:
URL:https://springfieldparkplace.com/event/garbage-pick-up-2/2026-07-16/
END:VEVENT
BEGIN:VEVENT
DTSTART;TZID=America/New_York:20260718T160000
DTEND;TZID=America/New_York:20260718T200000
DTSTAMP:20260420T195225
CREATED:20260420T155805Z
LAST-MODIFIED:20260420T155805Z
UID:10001886-1784390400-1784404800@springfieldparkplace.com
SUMMARY:Summer BBQ Party
DESCRIPTION:Join us for our HOA Summer BBQ on Saturday\, July 18th at 4:00 PM! Come together with neighbors to enjoy great food\, relax\, and celebrate the summer season. It’s a perfect opportunity to connect\, unwind\, and have fun as a community. We look forward to seeing you there!
URL:https://springfieldparkplace.com/event/summer-bbq-party/
END:VEVENT
BEGIN:VEVENT
DTSTART;VALUE=DATE:20260720
DTEND;VALUE=DATE:20260721
DTSTAMP:20260420T195225
CREATED:20251011T082052Z
LAST-MODIFIED:20251028T154637Z
UID:10000046-1784505600-1784591999@springfieldparkplace.com
SUMMARY:Garbage Pick up
DESCRIPTION:
URL:https://springfieldparkplace.com/event/garbage-pick-up/2026-07-20/
END:VEVENT
BEGIN:VEVENT
DTSTART;TZID=America/New_York:20260720T080000
DTEND;TZID=America/New_York:20260720T170000
DTSTAMP:20260420T195225
CREATED:20260420T151942Z
LAST-MODIFIED:20260420T151942Z
UID:10001388-1784534400-1784566800@springfieldparkplace.com
SUMMARY:Garbage Pick Up
DESCRIPTION:
URL:https://springfieldparkplace.com/event/garbage-pick-up-2/2026-07-20/
END:VEVENT
BEGIN:VEVENT
DTSTART;VALUE=DATE:20260722
DTEND;VALUE=DATE:20260723
DTSTAMP:20260420T195225
CREATED:20251011T082156Z
LAST-MODIFIED:20251011T082156Z
UID:10000307-1784678400-1784764799@springfieldparkplace.com
SUMMARY:Recycling
DESCRIPTION:
URL:https://springfieldparkplace.com/event/recycling/2026-07-22/
END:VEVENT
BEGIN:VEVENT
DTSTART;TZID=America/New_York:20260723T080000
DTEND;TZID=America/New_York:20260723T170000
DTSTAMP:20260420T195225
CREATED:20260420T151942Z
LAST-MODIFIED:20260420T151942Z
UID:10001389-1784793600-1784826000@springfieldparkplace.com
SUMMARY:Garbage Pick Up
DESCRIPTION:
URL:https://springfieldparkplace.com/event/garbage-pick-up-2/2026-07-23/
END:VEVENT
BEGIN:VEVENT
DTSTART;VALUE=DATE:20260727
DTEND;VALUE=DATE:20260728
DTSTAMP:20260420T195225
CREATED:20251011T082052Z
LAST-MODIFIED:20251028T154637Z
UID:10000047-1785110400-1785196799@springfieldparkplace.com
SUMMARY:Garbage Pick up
DESCRIPTION:
URL:https://springfieldparkplace.com/event/garbage-pick-up/2026-07-27/
END:VEVENT
BEGIN:VEVENT
DTSTART;TZID=America/New_York:20260727T080000
DTEND;TZID=America/New_York:20260727T170000
DTSTAMP:20260420T195225
CREATED:20260420T151942Z
LAST-MODIFIED:20260420T151942Z
UID:10001390-1785139200-1785171600@springfieldparkplace.com
SUMMARY:Garbage Pick Up
DESCRIPTION:
URL:https://springfieldparkplace.com/event/garbage-pick-up-2/2026-07-27/
END:VEVENT
BEGIN:VEVENT
DTSTART;VALUE=DATE:20260729
DTEND;VALUE=DATE:20260730
DTSTAMP:20260420T195225
CREATED:20251011T082156Z
LAST-MODIFIED:20251011T082156Z
UID:10000308-1785283200-1785369599@springfieldparkplace.com
SUMMARY:Recycling
DESCRIPTION:
URL:https://springfieldparkplace.com/event/recycling/2026-07-29/
END:VEVENT
BEGIN:VEVENT
DTSTART;TZID=America/New_York:20260730T080000
DTEND;TZID=America/New_York:20260730T170000
DTSTAMP:20260420T195225
CREATED:20260420T151942Z
LAST-MODIFIED:20260420T151942Z
UID:10001391-1785398400-1785430800@springfieldparkplace.com
SUMMARY:Garbage Pick Up
DESCRIPTION:
URL:https://springfieldparkplace.com/event/garbage-pick-up-2/2026-07-30/
END:VEVENT
END:VCALENDAR