BEGIN:VCALENDAR
VERSION:2.0
PRODID:-//Springfield Park Place Condominium Association - ECPv6.15.20//NONSGML v1.0//EN
CALSCALE:GREGORIAN
METHOD:PUBLISH
X-WR-CALNAME:Springfield Park Place Condominium Association
X-ORIGINAL-URL:https://springfieldparkplace.com
X-WR-CALDESC:Events for Springfield Park Place Condominium Association
REFRESH-INTERVAL;VALUE=DURATION:PT1H
X-Robots-Tag:noindex
X-PUBLISHED-TTL:PT1H
BEGIN:VTIMEZONE
TZID:America/New_York
BEGIN:DAYLIGHT
TZOFFSETFROM:-0500
TZOFFSETTO:-0400
TZNAME:EDT
DTSTART:20250309T070000
END:DAYLIGHT
BEGIN:STANDARD
TZOFFSETFROM:-0400
TZOFFSETTO:-0500
TZNAME:EST
DTSTART:20251102T060000
END:STANDARD
BEGIN:DAYLIGHT
TZOFFSETFROM:-0500
TZOFFSETTO:-0400
TZNAME:EDT
DTSTART:20260308T070000
END:DAYLIGHT
BEGIN:STANDARD
TZOFFSETFROM:-0400
TZOFFSETTO:-0500
TZNAME:EST
DTSTART:20261101T060000
END:STANDARD
BEGIN:DAYLIGHT
TZOFFSETFROM:-0500
TZOFFSETTO:-0400
TZNAME:EDT
DTSTART:20270314T070000
END:DAYLIGHT
BEGIN:STANDARD
TZOFFSETFROM:-0400
TZOFFSETTO:-0500
TZNAME:EST
DTSTART:20271107T060000
END:STANDARD
BEGIN:DAYLIGHT
TZOFFSETFROM:-0500
TZOFFSETTO:-0400
TZNAME:EDT
DTSTART:20280312T070000
END:DAYLIGHT
BEGIN:STANDARD
TZOFFSETFROM:-0400
TZOFFSETTO:-0500
TZNAME:EST
DTSTART:20281105T060000
END:STANDARD
END:VTIMEZONE
BEGIN:VEVENT
DTSTART;VALUE=DATE:20261230
DTEND;VALUE=DATE:20261231
DTSTAMP:20260420T152244
CREATED:20251011T082156Z
LAST-MODIFIED:20251011T082156Z
UID:10000330-1798588800-1798675199@springfieldparkplace.com
SUMMARY:Recycling
DESCRIPTION:
URL:https://springfieldparkplace.com/event/recycling/2026-12-30/
END:VEVENT
BEGIN:VEVENT
DTSTART;TZID=America/New_York:20261231T080000
DTEND;TZID=America/New_York:20261231T170000
DTSTAMP:20260420T152244
CREATED:20260420T151942Z
LAST-MODIFIED:20260420T151942Z
UID:10001435-1798704000-1798736400@springfieldparkplace.com
SUMMARY:Garbage Pick Up
DESCRIPTION:
URL:https://springfieldparkplace.com/event/garbage-pick-up-2/2026-12-31/
END:VEVENT
BEGIN:VEVENT
DTSTART;VALUE=DATE:20270104
DTEND;VALUE=DATE:20270105
DTSTAMP:20260420T152244
CREATED:20251011T082052Z
LAST-MODIFIED:20251028T154637Z
UID:10000070-1799020800-1799107199@springfieldparkplace.com
SUMMARY:Garbage Pick up
DESCRIPTION:
URL:https://springfieldparkplace.com/event/garbage-pick-up/2027-01-04/
END:VEVENT
BEGIN:VEVENT
DTSTART;TZID=America/New_York:20270104T080000
DTEND;TZID=America/New_York:20270104T170000
DTSTAMP:20260420T152244
CREATED:20260420T151942Z
LAST-MODIFIED:20260420T151942Z
UID:10001436-1799049600-1799082000@springfieldparkplace.com
SUMMARY:Garbage Pick Up
DESCRIPTION:
URL:https://springfieldparkplace.com/event/garbage-pick-up-2/2027-01-04/
END:VEVENT
BEGIN:VEVENT
DTSTART;VALUE=DATE:20270106
DTEND;VALUE=DATE:20270107
DTSTAMP:20260420T152244
CREATED:20251011T082156Z
LAST-MODIFIED:20251011T082156Z
UID:10000331-1799193600-1799279999@springfieldparkplace.com
SUMMARY:Recycling
DESCRIPTION:
URL:https://springfieldparkplace.com/event/recycling/2027-01-06/
END:VEVENT
BEGIN:VEVENT
DTSTART;TZID=America/New_York:20270107T080000
DTEND;TZID=America/New_York:20270107T170000
DTSTAMP:20260420T152244
CREATED:20260420T151942Z
LAST-MODIFIED:20260420T151942Z
UID:10001437-1799308800-1799341200@springfieldparkplace.com
SUMMARY:Garbage Pick Up
DESCRIPTION:
URL:https://springfieldparkplace.com/event/garbage-pick-up-2/2027-01-07/
END:VEVENT
BEGIN:VEVENT
DTSTART;VALUE=DATE:20270111
DTEND;VALUE=DATE:20270112
DTSTAMP:20260420T152244
CREATED:20251011T082052Z
LAST-MODIFIED:20251028T154637Z
UID:10000071-1799625600-1799711999@springfieldparkplace.com
SUMMARY:Garbage Pick up
DESCRIPTION:
URL:https://springfieldparkplace.com/event/garbage-pick-up/2027-01-11/
END:VEVENT
BEGIN:VEVENT
DTSTART;TZID=America/New_York:20270111T080000
DTEND;TZID=America/New_York:20270111T170000
DTSTAMP:20260420T152244
CREATED:20260420T151942Z
LAST-MODIFIED:20260420T151942Z
UID:10001438-1799654400-1799686800@springfieldparkplace.com
SUMMARY:Garbage Pick Up
DESCRIPTION:
URL:https://springfieldparkplace.com/event/garbage-pick-up-2/2027-01-11/
END:VEVENT
BEGIN:VEVENT
DTSTART;VALUE=DATE:20270113
DTEND;VALUE=DATE:20270114
DTSTAMP:20260420T152244
CREATED:20251011T082156Z
LAST-MODIFIED:20251011T082156Z
UID:10000332-1799798400-1799884799@springfieldparkplace.com
SUMMARY:Recycling
DESCRIPTION:
URL:https://springfieldparkplace.com/event/recycling/2027-01-13/
END:VEVENT
BEGIN:VEVENT
DTSTART;TZID=America/New_York:20270114T080000
DTEND;TZID=America/New_York:20270114T170000
DTSTAMP:20260420T152244
CREATED:20260420T151942Z
LAST-MODIFIED:20260420T151942Z
UID:10001439-1799913600-1799946000@springfieldparkplace.com
SUMMARY:Garbage Pick Up
DESCRIPTION:
URL:https://springfieldparkplace.com/event/garbage-pick-up-2/2027-01-14/
END:VEVENT
BEGIN:VEVENT
DTSTART;VALUE=DATE:20270118
DTEND;VALUE=DATE:20270119
DTSTAMP:20260420T152244
CREATED:20251011T082052Z
LAST-MODIFIED:20251028T154637Z
UID:10000072-1800230400-1800316799@springfieldparkplace.com
SUMMARY:Garbage Pick up
DESCRIPTION:
URL:https://springfieldparkplace.com/event/garbage-pick-up/2027-01-18/
END:VEVENT
BEGIN:VEVENT
DTSTART;TZID=America/New_York:20270118T080000
DTEND;TZID=America/New_York:20270118T170000
DTSTAMP:20260420T152244
CREATED:20260420T151942Z
LAST-MODIFIED:20260420T151942Z
UID:10001440-1800259200-1800291600@springfieldparkplace.com
SUMMARY:Garbage Pick Up
DESCRIPTION:
URL:https://springfieldparkplace.com/event/garbage-pick-up-2/2027-01-18/
END:VEVENT
BEGIN:VEVENT
DTSTART;VALUE=DATE:20270120
DTEND;VALUE=DATE:20270121
DTSTAMP:20260420T152244
CREATED:20251011T082156Z
LAST-MODIFIED:20251011T082156Z
UID:10000333-1800403200-1800489599@springfieldparkplace.com
SUMMARY:Recycling
DESCRIPTION:
URL:https://springfieldparkplace.com/event/recycling/2027-01-20/
END:VEVENT
BEGIN:VEVENT
DTSTART;TZID=America/New_York:20270121T080000
DTEND;TZID=America/New_York:20270121T170000
DTSTAMP:20260420T152244
CREATED:20260420T151942Z
LAST-MODIFIED:20260420T151942Z
UID:10001441-1800518400-1800550800@springfieldparkplace.com
SUMMARY:Garbage Pick Up
DESCRIPTION:
URL:https://springfieldparkplace.com/event/garbage-pick-up-2/2027-01-21/
END:VEVENT
BEGIN:VEVENT
DTSTART;VALUE=DATE:20270125
DTEND;VALUE=DATE:20270126
DTSTAMP:20260420T152244
CREATED:20251011T082052Z
LAST-MODIFIED:20251028T154637Z
UID:10000073-1800835200-1800921599@springfieldparkplace.com
SUMMARY:Garbage Pick up
DESCRIPTION:
URL:https://springfieldparkplace.com/event/garbage-pick-up/2027-01-25/
END:VEVENT
BEGIN:VEVENT
DTSTART;TZID=America/New_York:20270125T080000
DTEND;TZID=America/New_York:20270125T170000
DTSTAMP:20260420T152244
CREATED:20260420T151942Z
LAST-MODIFIED:20260420T151942Z
UID:10001442-1800864000-1800896400@springfieldparkplace.com
SUMMARY:Garbage Pick Up
DESCRIPTION:
URL:https://springfieldparkplace.com/event/garbage-pick-up-2/2027-01-25/
END:VEVENT
BEGIN:VEVENT
DTSTART;VALUE=DATE:20270127
DTEND;VALUE=DATE:20270128
DTSTAMP:20260420T152244
CREATED:20251011T082156Z
LAST-MODIFIED:20251011T082156Z
UID:10000334-1801008000-1801094399@springfieldparkplace.com
SUMMARY:Recycling
DESCRIPTION:
URL:https://springfieldparkplace.com/event/recycling/2027-01-27/
END:VEVENT
BEGIN:VEVENT
DTSTART;TZID=America/New_York:20270128T080000
DTEND;TZID=America/New_York:20270128T170000
DTSTAMP:20260420T152244
CREATED:20260420T151942Z
LAST-MODIFIED:20260420T151942Z
UID:10001443-1801123200-1801155600@springfieldparkplace.com
SUMMARY:Garbage Pick Up
DESCRIPTION:
URL:https://springfieldparkplace.com/event/garbage-pick-up-2/2027-01-28/
END:VEVENT
BEGIN:VEVENT
DTSTART;VALUE=DATE:20270201
DTEND;VALUE=DATE:20270202
DTSTAMP:20260420T152244
CREATED:20251011T082052Z
LAST-MODIFIED:20251028T154637Z
UID:10000074-1801440000-1801526399@springfieldparkplace.com
SUMMARY:Garbage Pick up
DESCRIPTION:
URL:https://springfieldparkplace.com/event/garbage-pick-up/2027-02-01/
END:VEVENT
BEGIN:VEVENT
DTSTART;TZID=America/New_York:20270201T080000
DTEND;TZID=America/New_York:20270201T170000
DTSTAMP:20260420T152244
CREATED:20260420T151942Z
LAST-MODIFIED:20260420T151942Z
UID:10001444-1801468800-1801501200@springfieldparkplace.com
SUMMARY:Garbage Pick Up
DESCRIPTION:
URL:https://springfieldparkplace.com/event/garbage-pick-up-2/2027-02-01/
END:VEVENT
BEGIN:VEVENT
DTSTART;VALUE=DATE:20270203
DTEND;VALUE=DATE:20270204
DTSTAMP:20260420T152244
CREATED:20251011T082156Z
LAST-MODIFIED:20251011T082156Z
UID:10000335-1801612800-1801699199@springfieldparkplace.com
SUMMARY:Recycling
DESCRIPTION:
URL:https://springfieldparkplace.com/event/recycling/2027-02-03/
END:VEVENT
BEGIN:VEVENT
DTSTART;TZID=America/New_York:20270204T080000
DTEND;TZID=America/New_York:20270204T170000
DTSTAMP:20260420T152244
CREATED:20260420T151942Z
LAST-MODIFIED:20260420T151942Z
UID:10001445-1801728000-1801760400@springfieldparkplace.com
SUMMARY:Garbage Pick Up
DESCRIPTION:
URL:https://springfieldparkplace.com/event/garbage-pick-up-2/2027-02-04/
END:VEVENT
BEGIN:VEVENT
DTSTART;VALUE=DATE:20270208
DTEND;VALUE=DATE:20270209
DTSTAMP:20260420T152244
CREATED:20251011T082052Z
LAST-MODIFIED:20251028T154637Z
UID:10000075-1802044800-1802131199@springfieldparkplace.com
SUMMARY:Garbage Pick up
DESCRIPTION:
URL:https://springfieldparkplace.com/event/garbage-pick-up/2027-02-08/
END:VEVENT
BEGIN:VEVENT
DTSTART;TZID=America/New_York:20270208T080000
DTEND;TZID=America/New_York:20270208T170000
DTSTAMP:20260420T152244
CREATED:20260420T151942Z
LAST-MODIFIED:20260420T151942Z
UID:10001446-1802073600-1802106000@springfieldparkplace.com
SUMMARY:Garbage Pick Up
DESCRIPTION:
URL:https://springfieldparkplace.com/event/garbage-pick-up-2/2027-02-08/
END:VEVENT
BEGIN:VEVENT
DTSTART;VALUE=DATE:20270210
DTEND;VALUE=DATE:20270211
DTSTAMP:20260420T152244
CREATED:20251011T082156Z
LAST-MODIFIED:20251011T082156Z
UID:10000336-1802217600-1802303999@springfieldparkplace.com
SUMMARY:Recycling
DESCRIPTION:
URL:https://springfieldparkplace.com/event/recycling/2027-02-10/
END:VEVENT
BEGIN:VEVENT
DTSTART;TZID=America/New_York:20270211T080000
DTEND;TZID=America/New_York:20270211T170000
DTSTAMP:20260420T152244
CREATED:20260420T151942Z
LAST-MODIFIED:20260420T151942Z
UID:10001447-1802332800-1802365200@springfieldparkplace.com
SUMMARY:Garbage Pick Up
DESCRIPTION:
URL:https://springfieldparkplace.com/event/garbage-pick-up-2/2027-02-11/
END:VEVENT
BEGIN:VEVENT
DTSTART;VALUE=DATE:20270215
DTEND;VALUE=DATE:20270216
DTSTAMP:20260420T152244
CREATED:20251011T082052Z
LAST-MODIFIED:20251028T154637Z
UID:10000076-1802649600-1802735999@springfieldparkplace.com
SUMMARY:Garbage Pick up
DESCRIPTION:
URL:https://springfieldparkplace.com/event/garbage-pick-up/2027-02-15/
END:VEVENT
BEGIN:VEVENT
DTSTART;TZID=America/New_York:20270215T080000
DTEND;TZID=America/New_York:20270215T170000
DTSTAMP:20260420T152244
CREATED:20260420T151942Z
LAST-MODIFIED:20260420T151942Z
UID:10001448-1802678400-1802710800@springfieldparkplace.com
SUMMARY:Garbage Pick Up
DESCRIPTION:
URL:https://springfieldparkplace.com/event/garbage-pick-up-2/2027-02-15/
END:VEVENT
BEGIN:VEVENT
DTSTART;VALUE=DATE:20270217
DTEND;VALUE=DATE:20270218
DTSTAMP:20260420T152244
CREATED:20251011T082156Z
LAST-MODIFIED:20251011T082156Z
UID:10000337-1802822400-1802908799@springfieldparkplace.com
SUMMARY:Recycling
DESCRIPTION:
URL:https://springfieldparkplace.com/event/recycling/2027-02-17/
END:VEVENT
BEGIN:VEVENT
DTSTART;TZID=America/New_York:20270218T080000
DTEND;TZID=America/New_York:20270218T170000
DTSTAMP:20260420T152244
CREATED:20260420T151942Z
LAST-MODIFIED:20260420T151942Z
UID:10001449-1802937600-1802970000@springfieldparkplace.com
SUMMARY:Garbage Pick Up
DESCRIPTION:
URL:https://springfieldparkplace.com/event/garbage-pick-up-2/2027-02-18/
END:VEVENT
END:VCALENDAR