BEGIN:VCALENDAR
VERSION:2.0
PRODID:-//Springfield Park Place Condominium Association - ECPv6.15.20//NONSGML v1.0//EN
CALSCALE:GREGORIAN
METHOD:PUBLISH
X-WR-CALNAME:Springfield Park Place Condominium Association
X-ORIGINAL-URL:https://springfieldparkplace.com
X-WR-CALDESC:Events for Springfield Park Place Condominium Association
REFRESH-INTERVAL;VALUE=DURATION:PT1H
X-Robots-Tag:noindex
X-PUBLISHED-TTL:PT1H
BEGIN:VTIMEZONE
TZID:America/New_York
BEGIN:DAYLIGHT
TZOFFSETFROM:-0500
TZOFFSETTO:-0400
TZNAME:EDT
DTSTART:20250309T070000
END:DAYLIGHT
BEGIN:STANDARD
TZOFFSETFROM:-0400
TZOFFSETTO:-0500
TZNAME:EST
DTSTART:20251102T060000
END:STANDARD
BEGIN:DAYLIGHT
TZOFFSETFROM:-0500
TZOFFSETTO:-0400
TZNAME:EDT
DTSTART:20260308T070000
END:DAYLIGHT
BEGIN:STANDARD
TZOFFSETFROM:-0400
TZOFFSETTO:-0500
TZNAME:EST
DTSTART:20261101T060000
END:STANDARD
BEGIN:DAYLIGHT
TZOFFSETFROM:-0500
TZOFFSETTO:-0400
TZNAME:EDT
DTSTART:20270314T070000
END:DAYLIGHT
BEGIN:STANDARD
TZOFFSETFROM:-0400
TZOFFSETTO:-0500
TZNAME:EST
DTSTART:20271107T060000
END:STANDARD
END:VTIMEZONE
BEGIN:VEVENT
DTSTART;TZID=America/New_York:20260903T080000
DTEND;TZID=America/New_York:20260903T170000
DTSTAMP:20260421T004544
CREATED:20260420T151942Z
LAST-MODIFIED:20260420T151942Z
UID:10001401-1788422400-1788454800@springfieldparkplace.com
SUMMARY:Garbage Pick Up
DESCRIPTION:
URL:https://springfieldparkplace.com/event/garbage-pick-up-2/2026-09-03/
END:VEVENT
BEGIN:VEVENT
DTSTART;VALUE=DATE:20260907
DTEND;VALUE=DATE:20260908
DTSTAMP:20260421T004544
CREATED:20251011T082052Z
LAST-MODIFIED:20251028T154637Z
UID:10000053-1788739200-1788825599@springfieldparkplace.com
SUMMARY:Garbage Pick up
DESCRIPTION:
URL:https://springfieldparkplace.com/event/garbage-pick-up/2026-09-07/
END:VEVENT
BEGIN:VEVENT
DTSTART;TZID=America/New_York:20260907T080000
DTEND;TZID=America/New_York:20260907T170000
DTSTAMP:20260421T004544
CREATED:20260420T151942Z
LAST-MODIFIED:20260420T151942Z
UID:10001402-1788768000-1788800400@springfieldparkplace.com
SUMMARY:Garbage Pick Up
DESCRIPTION:
URL:https://springfieldparkplace.com/event/garbage-pick-up-2/2026-09-07/
END:VEVENT
BEGIN:VEVENT
DTSTART;VALUE=DATE:20260909
DTEND;VALUE=DATE:20260910
DTSTAMP:20260421T004544
CREATED:20251011T082156Z
LAST-MODIFIED:20251011T082156Z
UID:10000314-1788912000-1788998399@springfieldparkplace.com
SUMMARY:Recycling
DESCRIPTION:
URL:https://springfieldparkplace.com/event/recycling/2026-09-09/
END:VEVENT
BEGIN:VEVENT
DTSTART;TZID=America/New_York:20260910T080000
DTEND;TZID=America/New_York:20260910T170000
DTSTAMP:20260421T004544
CREATED:20260420T151942Z
LAST-MODIFIED:20260420T151942Z
UID:10001403-1789027200-1789059600@springfieldparkplace.com
SUMMARY:Garbage Pick Up
DESCRIPTION:
URL:https://springfieldparkplace.com/event/garbage-pick-up-2/2026-09-10/
END:VEVENT
BEGIN:VEVENT
DTSTART;VALUE=DATE:20260914
DTEND;VALUE=DATE:20260915
DTSTAMP:20260421T004544
CREATED:20251011T082052Z
LAST-MODIFIED:20251028T154637Z
UID:10000054-1789344000-1789430399@springfieldparkplace.com
SUMMARY:Garbage Pick up
DESCRIPTION:
URL:https://springfieldparkplace.com/event/garbage-pick-up/2026-09-14/
END:VEVENT
BEGIN:VEVENT
DTSTART;TZID=America/New_York:20260914T080000
DTEND;TZID=America/New_York:20260914T170000
DTSTAMP:20260421T004544
CREATED:20260420T151942Z
LAST-MODIFIED:20260420T151942Z
UID:10001404-1789372800-1789405200@springfieldparkplace.com
SUMMARY:Garbage Pick Up
DESCRIPTION:
URL:https://springfieldparkplace.com/event/garbage-pick-up-2/2026-09-14/
END:VEVENT
BEGIN:VEVENT
DTSTART;VALUE=DATE:20260916
DTEND;VALUE=DATE:20260917
DTSTAMP:20260421T004544
CREATED:20251011T082156Z
LAST-MODIFIED:20251011T082156Z
UID:10000315-1789516800-1789603199@springfieldparkplace.com
SUMMARY:Recycling
DESCRIPTION:
URL:https://springfieldparkplace.com/event/recycling/2026-09-16/
END:VEVENT
BEGIN:VEVENT
DTSTART;TZID=America/New_York:20260916T190000
DTEND;TZID=America/New_York:20260916T210000
DTSTAMP:20260421T004544
CREATED:20251218T185012Z
LAST-MODIFIED:20251218T185012Z
UID:10000828-1789585200-1789592400@springfieldparkplace.com
SUMMARY:Open Board Meeting
DESCRIPTION:📌 Open Board MeetingThis is an open meeting of the Board of Directors. All homeowners are welcome to attend.
URL:https://springfieldparkplace.com/event/open-board-meeting-3/
END:VEVENT
BEGIN:VEVENT
DTSTART;TZID=America/New_York:20260917T080000
DTEND;TZID=America/New_York:20260917T170000
DTSTAMP:20260421T004544
CREATED:20260420T151942Z
LAST-MODIFIED:20260420T151942Z
UID:10001405-1789632000-1789664400@springfieldparkplace.com
SUMMARY:Garbage Pick Up
DESCRIPTION:
URL:https://springfieldparkplace.com/event/garbage-pick-up-2/2026-09-17/
END:VEVENT
BEGIN:VEVENT
DTSTART;VALUE=DATE:20260921
DTEND;VALUE=DATE:20260922
DTSTAMP:20260421T004544
CREATED:20251011T082052Z
LAST-MODIFIED:20251028T154637Z
UID:10000055-1789948800-1790035199@springfieldparkplace.com
SUMMARY:Garbage Pick up
DESCRIPTION:
URL:https://springfieldparkplace.com/event/garbage-pick-up/2026-09-21/
END:VEVENT
BEGIN:VEVENT
DTSTART;TZID=America/New_York:20260921T080000
DTEND;TZID=America/New_York:20260921T170000
DTSTAMP:20260421T004544
CREATED:20260420T151942Z
LAST-MODIFIED:20260420T151942Z
UID:10001406-1789977600-1790010000@springfieldparkplace.com
SUMMARY:Garbage Pick Up
DESCRIPTION:
URL:https://springfieldparkplace.com/event/garbage-pick-up-2/2026-09-21/
END:VEVENT
BEGIN:VEVENT
DTSTART;VALUE=DATE:20260923
DTEND;VALUE=DATE:20260924
DTSTAMP:20260421T004544
CREATED:20251011T082156Z
LAST-MODIFIED:20251011T082156Z
UID:10000316-1790121600-1790207999@springfieldparkplace.com
SUMMARY:Recycling
DESCRIPTION:
URL:https://springfieldparkplace.com/event/recycling/2026-09-23/
END:VEVENT
BEGIN:VEVENT
DTSTART;TZID=America/New_York:20260924T080000
DTEND;TZID=America/New_York:20260924T170000
DTSTAMP:20260421T004544
CREATED:20260420T151942Z
LAST-MODIFIED:20260420T151942Z
UID:10001407-1790236800-1790269200@springfieldparkplace.com
SUMMARY:Garbage Pick Up
DESCRIPTION:
URL:https://springfieldparkplace.com/event/garbage-pick-up-2/2026-09-24/
END:VEVENT
BEGIN:VEVENT
DTSTART;VALUE=DATE:20260928
DTEND;VALUE=DATE:20260929
DTSTAMP:20260421T004544
CREATED:20251011T082052Z
LAST-MODIFIED:20251028T154637Z
UID:10000056-1790553600-1790639999@springfieldparkplace.com
SUMMARY:Garbage Pick up
DESCRIPTION:
URL:https://springfieldparkplace.com/event/garbage-pick-up/2026-09-28/
END:VEVENT
BEGIN:VEVENT
DTSTART;TZID=America/New_York:20260928T080000
DTEND;TZID=America/New_York:20260928T170000
DTSTAMP:20260421T004544
CREATED:20260420T151942Z
LAST-MODIFIED:20260420T151942Z
UID:10001408-1790582400-1790614800@springfieldparkplace.com
SUMMARY:Garbage Pick Up
DESCRIPTION:
URL:https://springfieldparkplace.com/event/garbage-pick-up-2/2026-09-28/
END:VEVENT
BEGIN:VEVENT
DTSTART;VALUE=DATE:20260930
DTEND;VALUE=DATE:20261001
DTSTAMP:20260421T004544
CREATED:20251011T082156Z
LAST-MODIFIED:20251011T082156Z
UID:10000317-1790726400-1790812799@springfieldparkplace.com
SUMMARY:Recycling
DESCRIPTION:
URL:https://springfieldparkplace.com/event/recycling/2026-09-30/
END:VEVENT
BEGIN:VEVENT
DTSTART;TZID=America/New_York:20261001T080000
DTEND;TZID=America/New_York:20261001T170000
DTSTAMP:20260421T004544
CREATED:20260420T151942Z
LAST-MODIFIED:20260420T151942Z
UID:10001409-1790841600-1790874000@springfieldparkplace.com
SUMMARY:Garbage Pick Up
DESCRIPTION:
URL:https://springfieldparkplace.com/event/garbage-pick-up-2/2026-10-01/
END:VEVENT
BEGIN:VEVENT
DTSTART;VALUE=DATE:20261005
DTEND;VALUE=DATE:20261006
DTSTAMP:20260421T004544
CREATED:20251011T082052Z
LAST-MODIFIED:20251028T154637Z
UID:10000057-1791158400-1791244799@springfieldparkplace.com
SUMMARY:Garbage Pick up
DESCRIPTION:
URL:https://springfieldparkplace.com/event/garbage-pick-up/2026-10-05/
END:VEVENT
BEGIN:VEVENT
DTSTART;TZID=America/New_York:20261005T080000
DTEND;TZID=America/New_York:20261005T170000
DTSTAMP:20260421T004544
CREATED:20260420T151942Z
LAST-MODIFIED:20260420T151942Z
UID:10001410-1791187200-1791219600@springfieldparkplace.com
SUMMARY:Garbage Pick Up
DESCRIPTION:
URL:https://springfieldparkplace.com/event/garbage-pick-up-2/2026-10-05/
END:VEVENT
BEGIN:VEVENT
DTSTART;VALUE=DATE:20261007
DTEND;VALUE=DATE:20261008
DTSTAMP:20260421T004544
CREATED:20251011T082156Z
LAST-MODIFIED:20251011T082156Z
UID:10000318-1791331200-1791417599@springfieldparkplace.com
SUMMARY:Recycling
DESCRIPTION:
URL:https://springfieldparkplace.com/event/recycling/2026-10-07/
END:VEVENT
BEGIN:VEVENT
DTSTART;TZID=America/New_York:20261008T080000
DTEND;TZID=America/New_York:20261008T170000
DTSTAMP:20260421T004544
CREATED:20260420T151942Z
LAST-MODIFIED:20260420T151942Z
UID:10001411-1791446400-1791478800@springfieldparkplace.com
SUMMARY:Garbage Pick Up
DESCRIPTION:
URL:https://springfieldparkplace.com/event/garbage-pick-up-2/2026-10-08/
END:VEVENT
BEGIN:VEVENT
DTSTART;VALUE=DATE:20261012
DTEND;VALUE=DATE:20261013
DTSTAMP:20260421T004544
CREATED:20251011T082052Z
LAST-MODIFIED:20251028T154637Z
UID:10000058-1791763200-1791849599@springfieldparkplace.com
SUMMARY:Garbage Pick up
DESCRIPTION:
URL:https://springfieldparkplace.com/event/garbage-pick-up/2026-10-12/
END:VEVENT
BEGIN:VEVENT
DTSTART;TZID=America/New_York:20261012T080000
DTEND;TZID=America/New_York:20261012T170000
DTSTAMP:20260421T004544
CREATED:20260420T151942Z
LAST-MODIFIED:20260420T151942Z
UID:10001412-1791792000-1791824400@springfieldparkplace.com
SUMMARY:Garbage Pick Up
DESCRIPTION:
URL:https://springfieldparkplace.com/event/garbage-pick-up-2/2026-10-12/
END:VEVENT
BEGIN:VEVENT
DTSTART;VALUE=DATE:20261014
DTEND;VALUE=DATE:20261015
DTSTAMP:20260421T004544
CREATED:20251011T082156Z
LAST-MODIFIED:20251011T082156Z
UID:10000319-1791936000-1792022399@springfieldparkplace.com
SUMMARY:Recycling
DESCRIPTION:
URL:https://springfieldparkplace.com/event/recycling/2026-10-14/
END:VEVENT
BEGIN:VEVENT
DTSTART;TZID=America/New_York:20261015T080000
DTEND;TZID=America/New_York:20261015T170000
DTSTAMP:20260421T004544
CREATED:20260420T151942Z
LAST-MODIFIED:20260420T151942Z
UID:10001413-1792051200-1792083600@springfieldparkplace.com
SUMMARY:Garbage Pick Up
DESCRIPTION:
URL:https://springfieldparkplace.com/event/garbage-pick-up-2/2026-10-15/
END:VEVENT
BEGIN:VEVENT
DTSTART;TZID=America/New_York:20261017T080000
DTEND;TZID=America/New_York:20261017T170000
DTSTAMP:20260421T004544
CREATED:20260420T153025Z
LAST-MODIFIED:20260420T153025Z
UID:10001885-1792224000-1792256400@springfieldparkplace.com
SUMMARY:Trivia Night
DESCRIPTION:
URL:https://springfieldparkplace.com/event/trivia-night/
END:VEVENT
BEGIN:VEVENT
DTSTART;VALUE=DATE:20261019
DTEND;VALUE=DATE:20261020
DTSTAMP:20260421T004544
CREATED:20251011T082052Z
LAST-MODIFIED:20251028T154637Z
UID:10000059-1792368000-1792454399@springfieldparkplace.com
SUMMARY:Garbage Pick up
DESCRIPTION:
URL:https://springfieldparkplace.com/event/garbage-pick-up/2026-10-19/
END:VEVENT
BEGIN:VEVENT
DTSTART;TZID=America/New_York:20261019T080000
DTEND;TZID=America/New_York:20261019T170000
DTSTAMP:20260421T004544
CREATED:20260420T151942Z
LAST-MODIFIED:20260420T151942Z
UID:10001414-1792396800-1792429200@springfieldparkplace.com
SUMMARY:Garbage Pick Up
DESCRIPTION:
URL:https://springfieldparkplace.com/event/garbage-pick-up-2/2026-10-19/
END:VEVENT
BEGIN:VEVENT
DTSTART;VALUE=DATE:20261021
DTEND;VALUE=DATE:20261022
DTSTAMP:20260421T004544
CREATED:20251011T082156Z
LAST-MODIFIED:20251011T082156Z
UID:10000320-1792540800-1792627199@springfieldparkplace.com
SUMMARY:Recycling
DESCRIPTION:
URL:https://springfieldparkplace.com/event/recycling/2026-10-21/
END:VEVENT
END:VCALENDAR