BEGIN:VCALENDAR
VERSION:2.0
PRODID:-//Springfield Park Place Condominium Association - ECPv6.15.20//NONSGML v1.0//EN
CALSCALE:GREGORIAN
METHOD:PUBLISH
X-ORIGINAL-URL:https://springfieldparkplace.com
X-WR-CALDESC:Events for Springfield Park Place Condominium Association
REFRESH-INTERVAL;VALUE=DURATION:PT1H
X-Robots-Tag:noindex
X-PUBLISHED-TTL:PT1H
BEGIN:VTIMEZONE
TZID:America/New_York
BEGIN:DAYLIGHT
TZOFFSETFROM:-0500
TZOFFSETTO:-0400
TZNAME:EDT
DTSTART:20260308T070000
END:DAYLIGHT
BEGIN:STANDARD
TZOFFSETFROM:-0400
TZOFFSETTO:-0500
TZNAME:EST
DTSTART:20261101T060000
END:STANDARD
BEGIN:DAYLIGHT
TZOFFSETFROM:-0500
TZOFFSETTO:-0400
TZNAME:EDT
DTSTART:20270314T070000
END:DAYLIGHT
BEGIN:STANDARD
TZOFFSETFROM:-0400
TZOFFSETTO:-0500
TZNAME:EST
DTSTART:20271107T060000
END:STANDARD
BEGIN:DAYLIGHT
TZOFFSETFROM:-0500
TZOFFSETTO:-0400
TZNAME:EDT
DTSTART:20280312T070000
END:DAYLIGHT
BEGIN:STANDARD
TZOFFSETFROM:-0400
TZOFFSETTO:-0500
TZNAME:EST
DTSTART:20281105T060000
END:STANDARD
END:VTIMEZONE
BEGIN:VEVENT
DTSTART;TZID=America/New_York:20270422T080000
DTEND;TZID=America/New_York:20270422T170000
DTSTAMP:20260421T020324
CREATED:20260420T151942Z
LAST-MODIFIED:20260420T151942Z
UID:10001467-1808380800-1808413200@springfieldparkplace.com
SUMMARY:Garbage Pick Up
DESCRIPTION:
URL:https://springfieldparkplace.com/event/garbage-pick-up-2/2027-04-22/
END:VEVENT
BEGIN:VEVENT
DTSTART;VALUE=DATE:20270426
DTEND;VALUE=DATE:20270427
DTSTAMP:20260421T020324
CREATED:20251011T082052Z
LAST-MODIFIED:20251028T154637Z
UID:10000086-1808697600-1808783999@springfieldparkplace.com
SUMMARY:Garbage Pick up
DESCRIPTION:
URL:https://springfieldparkplace.com/event/garbage-pick-up/2027-04-26/
END:VEVENT
BEGIN:VEVENT
DTSTART;TZID=America/New_York:20270426T080000
DTEND;TZID=America/New_York:20270426T170000
DTSTAMP:20260421T020324
CREATED:20260420T151942Z
LAST-MODIFIED:20260420T151942Z
UID:10001468-1808726400-1808758800@springfieldparkplace.com
SUMMARY:Garbage Pick Up
DESCRIPTION:
URL:https://springfieldparkplace.com/event/garbage-pick-up-2/2027-04-26/
END:VEVENT
BEGIN:VEVENT
DTSTART;VALUE=DATE:20270428
DTEND;VALUE=DATE:20270429
DTSTAMP:20260421T020324
CREATED:20251011T082156Z
LAST-MODIFIED:20251011T082156Z
UID:10000347-1808870400-1808956799@springfieldparkplace.com
SUMMARY:Recycling
DESCRIPTION:
URL:https://springfieldparkplace.com/event/recycling/2027-04-28/
END:VEVENT
BEGIN:VEVENT
DTSTART;TZID=America/New_York:20270429T080000
DTEND;TZID=America/New_York:20270429T170000
DTSTAMP:20260421T020324
CREATED:20260420T151942Z
LAST-MODIFIED:20260420T151942Z
UID:10001469-1808985600-1809018000@springfieldparkplace.com
SUMMARY:Garbage Pick Up
DESCRIPTION:
URL:https://springfieldparkplace.com/event/garbage-pick-up-2/2027-04-29/
END:VEVENT
BEGIN:VEVENT
DTSTART;VALUE=DATE:20270503
DTEND;VALUE=DATE:20270504
DTSTAMP:20260421T020324
CREATED:20251011T082052Z
LAST-MODIFIED:20251028T154637Z
UID:10000087-1809302400-1809388799@springfieldparkplace.com
SUMMARY:Garbage Pick up
DESCRIPTION:
URL:https://springfieldparkplace.com/event/garbage-pick-up/2027-05-03/
END:VEVENT
BEGIN:VEVENT
DTSTART;TZID=America/New_York:20270503T080000
DTEND;TZID=America/New_York:20270503T170000
DTSTAMP:20260421T020324
CREATED:20260420T151942Z
LAST-MODIFIED:20260420T151942Z
UID:10001470-1809331200-1809363600@springfieldparkplace.com
SUMMARY:Garbage Pick Up
DESCRIPTION:
URL:https://springfieldparkplace.com/event/garbage-pick-up-2/2027-05-03/
END:VEVENT
BEGIN:VEVENT
DTSTART;VALUE=DATE:20270505
DTEND;VALUE=DATE:20270506
DTSTAMP:20260421T020324
CREATED:20251011T082156Z
LAST-MODIFIED:20251011T082156Z
UID:10000348-1809475200-1809561599@springfieldparkplace.com
SUMMARY:Recycling
DESCRIPTION:
URL:https://springfieldparkplace.com/event/recycling/2027-05-05/
END:VEVENT
BEGIN:VEVENT
DTSTART;TZID=America/New_York:20270506T080000
DTEND;TZID=America/New_York:20270506T170000
DTSTAMP:20260421T020324
CREATED:20260420T151942Z
LAST-MODIFIED:20260420T151942Z
UID:10001471-1809590400-1809622800@springfieldparkplace.com
SUMMARY:Garbage Pick Up
DESCRIPTION:
URL:https://springfieldparkplace.com/event/garbage-pick-up-2/2027-05-06/
END:VEVENT
BEGIN:VEVENT
DTSTART;VALUE=DATE:20270510
DTEND;VALUE=DATE:20270511
DTSTAMP:20260421T020324
CREATED:20251011T082052Z
LAST-MODIFIED:20251028T154637Z
UID:10000088-1809907200-1809993599@springfieldparkplace.com
SUMMARY:Garbage Pick up
DESCRIPTION:
URL:https://springfieldparkplace.com/event/garbage-pick-up/2027-05-10/
END:VEVENT
BEGIN:VEVENT
DTSTART;TZID=America/New_York:20270510T080000
DTEND;TZID=America/New_York:20270510T170000
DTSTAMP:20260421T020324
CREATED:20260420T151942Z
LAST-MODIFIED:20260420T151942Z
UID:10001472-1809936000-1809968400@springfieldparkplace.com
SUMMARY:Garbage Pick Up
DESCRIPTION:
URL:https://springfieldparkplace.com/event/garbage-pick-up-2/2027-05-10/
END:VEVENT
BEGIN:VEVENT
DTSTART;VALUE=DATE:20270512
DTEND;VALUE=DATE:20270513
DTSTAMP:20260421T020324
CREATED:20251011T082156Z
LAST-MODIFIED:20251011T082156Z
UID:10000349-1810080000-1810166399@springfieldparkplace.com
SUMMARY:Recycling
DESCRIPTION:
URL:https://springfieldparkplace.com/event/recycling/2027-05-12/
END:VEVENT
BEGIN:VEVENT
DTSTART;TZID=America/New_York:20270513T080000
DTEND;TZID=America/New_York:20270513T170000
DTSTAMP:20260421T020324
CREATED:20260420T151942Z
LAST-MODIFIED:20260420T151942Z
UID:10001473-1810195200-1810227600@springfieldparkplace.com
SUMMARY:Garbage Pick Up
DESCRIPTION:
URL:https://springfieldparkplace.com/event/garbage-pick-up-2/2027-05-13/
END:VEVENT
BEGIN:VEVENT
DTSTART;VALUE=DATE:20270517
DTEND;VALUE=DATE:20270518
DTSTAMP:20260421T020324
CREATED:20251011T082052Z
LAST-MODIFIED:20251028T154637Z
UID:10000089-1810512000-1810598399@springfieldparkplace.com
SUMMARY:Garbage Pick up
DESCRIPTION:
URL:https://springfieldparkplace.com/event/garbage-pick-up/2027-05-17/
END:VEVENT
BEGIN:VEVENT
DTSTART;TZID=America/New_York:20270517T080000
DTEND;TZID=America/New_York:20270517T170000
DTSTAMP:20260421T020324
CREATED:20260420T151942Z
LAST-MODIFIED:20260420T151942Z
UID:10001474-1810540800-1810573200@springfieldparkplace.com
SUMMARY:Garbage Pick Up
DESCRIPTION:
URL:https://springfieldparkplace.com/event/garbage-pick-up-2/2027-05-17/
END:VEVENT
BEGIN:VEVENT
DTSTART;VALUE=DATE:20270519
DTEND;VALUE=DATE:20270520
DTSTAMP:20260421T020324
CREATED:20251011T082156Z
LAST-MODIFIED:20251011T082156Z
UID:10000350-1810684800-1810771199@springfieldparkplace.com
SUMMARY:Recycling
DESCRIPTION:
URL:https://springfieldparkplace.com/event/recycling/2027-05-19/
END:VEVENT
BEGIN:VEVENT
DTSTART;TZID=America/New_York:20270520T080000
DTEND;TZID=America/New_York:20270520T170000
DTSTAMP:20260421T020324
CREATED:20260420T151942Z
LAST-MODIFIED:20260420T151942Z
UID:10001475-1810800000-1810832400@springfieldparkplace.com
SUMMARY:Garbage Pick Up
DESCRIPTION:
URL:https://springfieldparkplace.com/event/garbage-pick-up-2/2027-05-20/
END:VEVENT
BEGIN:VEVENT
DTSTART;VALUE=DATE:20270524
DTEND;VALUE=DATE:20270525
DTSTAMP:20260421T020324
CREATED:20251011T082052Z
LAST-MODIFIED:20251028T154637Z
UID:10000090-1811116800-1811203199@springfieldparkplace.com
SUMMARY:Garbage Pick up
DESCRIPTION:
URL:https://springfieldparkplace.com/event/garbage-pick-up/2027-05-24/
END:VEVENT
BEGIN:VEVENT
DTSTART;TZID=America/New_York:20270524T080000
DTEND;TZID=America/New_York:20270524T170000
DTSTAMP:20260421T020324
CREATED:20260420T151942Z
LAST-MODIFIED:20260420T151942Z
UID:10001476-1811145600-1811178000@springfieldparkplace.com
SUMMARY:Garbage Pick Up
DESCRIPTION:
URL:https://springfieldparkplace.com/event/garbage-pick-up-2/2027-05-24/
END:VEVENT
BEGIN:VEVENT
DTSTART;VALUE=DATE:20270526
DTEND;VALUE=DATE:20270527
DTSTAMP:20260421T020324
CREATED:20251011T082156Z
LAST-MODIFIED:20251011T082156Z
UID:10000351-1811289600-1811375999@springfieldparkplace.com
SUMMARY:Recycling
DESCRIPTION:
URL:https://springfieldparkplace.com/event/recycling/2027-05-26/
END:VEVENT
BEGIN:VEVENT
DTSTART;TZID=America/New_York:20270527T080000
DTEND;TZID=America/New_York:20270527T170000
DTSTAMP:20260421T020324
CREATED:20260420T151942Z
LAST-MODIFIED:20260420T151942Z
UID:10001477-1811404800-1811437200@springfieldparkplace.com
SUMMARY:Garbage Pick Up
DESCRIPTION:
URL:https://springfieldparkplace.com/event/garbage-pick-up-2/2027-05-27/
END:VEVENT
BEGIN:VEVENT
DTSTART;VALUE=DATE:20270531
DTEND;VALUE=DATE:20270601
DTSTAMP:20260421T020324
CREATED:20251011T082052Z
LAST-MODIFIED:20251028T154637Z
UID:10000091-1811721600-1811807999@springfieldparkplace.com
SUMMARY:Garbage Pick up
DESCRIPTION:
URL:https://springfieldparkplace.com/event/garbage-pick-up/2027-05-31/
END:VEVENT
BEGIN:VEVENT
DTSTART;TZID=America/New_York:20270531T080000
DTEND;TZID=America/New_York:20270531T170000
DTSTAMP:20260421T020324
CREATED:20260420T151942Z
LAST-MODIFIED:20260420T151942Z
UID:10001478-1811750400-1811782800@springfieldparkplace.com
SUMMARY:Garbage Pick Up
DESCRIPTION:
URL:https://springfieldparkplace.com/event/garbage-pick-up-2/2027-05-31/
END:VEVENT
BEGIN:VEVENT
DTSTART;VALUE=DATE:20270602
DTEND;VALUE=DATE:20270603
DTSTAMP:20260421T020324
CREATED:20251011T082156Z
LAST-MODIFIED:20251011T082156Z
UID:10000352-1811894400-1811980799@springfieldparkplace.com
SUMMARY:Recycling
DESCRIPTION:
URL:https://springfieldparkplace.com/event/recycling/2027-06-02/
END:VEVENT
BEGIN:VEVENT
DTSTART;TZID=America/New_York:20270603T080000
DTEND;TZID=America/New_York:20270603T170000
DTSTAMP:20260421T020325
CREATED:20260420T151942Z
LAST-MODIFIED:20260420T151942Z
UID:10001479-1812009600-1812042000@springfieldparkplace.com
SUMMARY:Garbage Pick Up
DESCRIPTION:
URL:https://springfieldparkplace.com/event/garbage-pick-up-2/2027-06-03/
END:VEVENT
BEGIN:VEVENT
DTSTART;VALUE=DATE:20270607
DTEND;VALUE=DATE:20270608
DTSTAMP:20260421T020325
CREATED:20251011T082052Z
LAST-MODIFIED:20251028T154637Z
UID:10000092-1812326400-1812412799@springfieldparkplace.com
SUMMARY:Garbage Pick up
DESCRIPTION:
URL:https://springfieldparkplace.com/event/garbage-pick-up/2027-06-07/
END:VEVENT
BEGIN:VEVENT
DTSTART;TZID=America/New_York:20270607T080000
DTEND;TZID=America/New_York:20270607T170000
DTSTAMP:20260421T020325
CREATED:20260420T151942Z
LAST-MODIFIED:20260420T151942Z
UID:10001480-1812355200-1812387600@springfieldparkplace.com
SUMMARY:Garbage Pick Up
DESCRIPTION:
URL:https://springfieldparkplace.com/event/garbage-pick-up-2/2027-06-07/
END:VEVENT
BEGIN:VEVENT
DTSTART;VALUE=DATE:20270609
DTEND;VALUE=DATE:20270610
DTSTAMP:20260421T020325
CREATED:20251011T082156Z
LAST-MODIFIED:20251011T082156Z
UID:10000353-1812499200-1812585599@springfieldparkplace.com
SUMMARY:Recycling
DESCRIPTION:
URL:https://springfieldparkplace.com/event/recycling/2027-06-09/
END:VEVENT
BEGIN:VEVENT
DTSTART;TZID=America/New_York:20270610T080000
DTEND;TZID=America/New_York:20270610T170000
DTSTAMP:20260421T020325
CREATED:20260420T151942Z
LAST-MODIFIED:20260420T151942Z
UID:10001481-1812614400-1812646800@springfieldparkplace.com
SUMMARY:Garbage Pick Up
DESCRIPTION:
URL:https://springfieldparkplace.com/event/garbage-pick-up-2/2027-06-10/
END:VEVENT
BEGIN:VEVENT
DTSTART;VALUE=DATE:20270614
DTEND;VALUE=DATE:20270615
DTSTAMP:20260421T020325
CREATED:20251011T082052Z
LAST-MODIFIED:20251028T154637Z
UID:10000093-1812931200-1813017599@springfieldparkplace.com
SUMMARY:Garbage Pick up
DESCRIPTION:
URL:https://springfieldparkplace.com/event/garbage-pick-up/2027-06-14/
END:VEVENT
END:VCALENDAR