BEGIN:VCALENDAR
VERSION:2.0
PRODID:-//Springfield Park Place Condominium Association - ECPv6.15.20//NONSGML v1.0//EN
CALSCALE:GREGORIAN
METHOD:PUBLISH
X-ORIGINAL-URL:https://springfieldparkplace.com
X-WR-CALDESC:Events for Springfield Park Place Condominium Association
REFRESH-INTERVAL;VALUE=DURATION:PT1H
X-Robots-Tag:noindex
X-PUBLISHED-TTL:PT1H
BEGIN:VTIMEZONE
TZID:America/New_York
BEGIN:DAYLIGHT
TZOFFSETFROM:-0500
TZOFFSETTO:-0400
TZNAME:EDT
DTSTART:20260308T070000
END:DAYLIGHT
BEGIN:STANDARD
TZOFFSETFROM:-0400
TZOFFSETTO:-0500
TZNAME:EST
DTSTART:20261101T060000
END:STANDARD
BEGIN:DAYLIGHT
TZOFFSETFROM:-0500
TZOFFSETTO:-0400
TZNAME:EDT
DTSTART:20270314T070000
END:DAYLIGHT
BEGIN:STANDARD
TZOFFSETFROM:-0400
TZOFFSETTO:-0500
TZNAME:EST
DTSTART:20271107T060000
END:STANDARD
BEGIN:DAYLIGHT
TZOFFSETFROM:-0500
TZOFFSETTO:-0400
TZNAME:EDT
DTSTART:20280312T070000
END:DAYLIGHT
BEGIN:STANDARD
TZOFFSETFROM:-0400
TZOFFSETTO:-0500
TZNAME:EST
DTSTART:20281105T060000
END:STANDARD
END:VTIMEZONE
BEGIN:VEVENT
DTSTART;TZID=America/New_York:20270614T080000
DTEND;TZID=America/New_York:20270614T170000
DTSTAMP:20260421T020232
CREATED:20260420T151942Z
LAST-MODIFIED:20260420T151942Z
UID:10001482-1812960000-1812992400@springfieldparkplace.com
SUMMARY:Garbage Pick Up
DESCRIPTION:
URL:https://springfieldparkplace.com/event/garbage-pick-up-2/2027-06-14/
END:VEVENT
BEGIN:VEVENT
DTSTART;VALUE=DATE:20270616
DTEND;VALUE=DATE:20270617
DTSTAMP:20260421T020232
CREATED:20251011T082156Z
LAST-MODIFIED:20251011T082156Z
UID:10000354-1813104000-1813190399@springfieldparkplace.com
SUMMARY:Recycling
DESCRIPTION:
URL:https://springfieldparkplace.com/event/recycling/2027-06-16/
END:VEVENT
BEGIN:VEVENT
DTSTART;TZID=America/New_York:20270617T080000
DTEND;TZID=America/New_York:20270617T170000
DTSTAMP:20260421T020232
CREATED:20260420T151942Z
LAST-MODIFIED:20260420T151942Z
UID:10001483-1813219200-1813251600@springfieldparkplace.com
SUMMARY:Garbage Pick Up
DESCRIPTION:
URL:https://springfieldparkplace.com/event/garbage-pick-up-2/2027-06-17/
END:VEVENT
BEGIN:VEVENT
DTSTART;VALUE=DATE:20270621
DTEND;VALUE=DATE:20270622
DTSTAMP:20260421T020232
CREATED:20251011T082052Z
LAST-MODIFIED:20251028T154637Z
UID:10000094-1813536000-1813622399@springfieldparkplace.com
SUMMARY:Garbage Pick up
DESCRIPTION:
URL:https://springfieldparkplace.com/event/garbage-pick-up/2027-06-21/
END:VEVENT
BEGIN:VEVENT
DTSTART;TZID=America/New_York:20270621T080000
DTEND;TZID=America/New_York:20270621T170000
DTSTAMP:20260421T020232
CREATED:20260420T151942Z
LAST-MODIFIED:20260420T151942Z
UID:10001484-1813564800-1813597200@springfieldparkplace.com
SUMMARY:Garbage Pick Up
DESCRIPTION:
URL:https://springfieldparkplace.com/event/garbage-pick-up-2/2027-06-21/
END:VEVENT
BEGIN:VEVENT
DTSTART;VALUE=DATE:20270623
DTEND;VALUE=DATE:20270624
DTSTAMP:20260421T020232
CREATED:20251011T082156Z
LAST-MODIFIED:20251011T082156Z
UID:10000355-1813708800-1813795199@springfieldparkplace.com
SUMMARY:Recycling
DESCRIPTION:
URL:https://springfieldparkplace.com/event/recycling/2027-06-23/
END:VEVENT
BEGIN:VEVENT
DTSTART;TZID=America/New_York:20270624T080000
DTEND;TZID=America/New_York:20270624T170000
DTSTAMP:20260421T020232
CREATED:20260420T151942Z
LAST-MODIFIED:20260420T151942Z
UID:10001485-1813824000-1813856400@springfieldparkplace.com
SUMMARY:Garbage Pick Up
DESCRIPTION:
URL:https://springfieldparkplace.com/event/garbage-pick-up-2/2027-06-24/
END:VEVENT
BEGIN:VEVENT
DTSTART;VALUE=DATE:20270628
DTEND;VALUE=DATE:20270629
DTSTAMP:20260421T020232
CREATED:20251011T082052Z
LAST-MODIFIED:20251028T154637Z
UID:10000095-1814140800-1814227199@springfieldparkplace.com
SUMMARY:Garbage Pick up
DESCRIPTION:
URL:https://springfieldparkplace.com/event/garbage-pick-up/2027-06-28/
END:VEVENT
BEGIN:VEVENT
DTSTART;TZID=America/New_York:20270628T080000
DTEND;TZID=America/New_York:20270628T170000
DTSTAMP:20260421T020232
CREATED:20260420T151942Z
LAST-MODIFIED:20260420T151942Z
UID:10001486-1814169600-1814202000@springfieldparkplace.com
SUMMARY:Garbage Pick Up
DESCRIPTION:
URL:https://springfieldparkplace.com/event/garbage-pick-up-2/2027-06-28/
END:VEVENT
BEGIN:VEVENT
DTSTART;VALUE=DATE:20270630
DTEND;VALUE=DATE:20270701
DTSTAMP:20260421T020232
CREATED:20251011T082156Z
LAST-MODIFIED:20251011T082156Z
UID:10000356-1814313600-1814399999@springfieldparkplace.com
SUMMARY:Recycling
DESCRIPTION:
URL:https://springfieldparkplace.com/event/recycling/2027-06-30/
END:VEVENT
BEGIN:VEVENT
DTSTART;TZID=America/New_York:20270701T080000
DTEND;TZID=America/New_York:20270701T170000
DTSTAMP:20260421T020232
CREATED:20260420T151942Z
LAST-MODIFIED:20260420T151942Z
UID:10001487-1814428800-1814461200@springfieldparkplace.com
SUMMARY:Garbage Pick Up
DESCRIPTION:
URL:https://springfieldparkplace.com/event/garbage-pick-up-2/2027-07-01/
END:VEVENT
BEGIN:VEVENT
DTSTART;VALUE=DATE:20270705
DTEND;VALUE=DATE:20270706
DTSTAMP:20260421T020232
CREATED:20251011T082052Z
LAST-MODIFIED:20251028T154637Z
UID:10000096-1814745600-1814831999@springfieldparkplace.com
SUMMARY:Garbage Pick up
DESCRIPTION:
URL:https://springfieldparkplace.com/event/garbage-pick-up/2027-07-05/
END:VEVENT
BEGIN:VEVENT
DTSTART;TZID=America/New_York:20270705T080000
DTEND;TZID=America/New_York:20270705T170000
DTSTAMP:20260421T020232
CREATED:20260420T151942Z
LAST-MODIFIED:20260420T151942Z
UID:10001488-1814774400-1814806800@springfieldparkplace.com
SUMMARY:Garbage Pick Up
DESCRIPTION:
URL:https://springfieldparkplace.com/event/garbage-pick-up-2/2027-07-05/
END:VEVENT
BEGIN:VEVENT
DTSTART;VALUE=DATE:20270707
DTEND;VALUE=DATE:20270708
DTSTAMP:20260421T020232
CREATED:20251011T082156Z
LAST-MODIFIED:20251011T082156Z
UID:10000357-1814918400-1815004799@springfieldparkplace.com
SUMMARY:Recycling
DESCRIPTION:
URL:https://springfieldparkplace.com/event/recycling/2027-07-07/
END:VEVENT
BEGIN:VEVENT
DTSTART;TZID=America/New_York:20270708T080000
DTEND;TZID=America/New_York:20270708T170000
DTSTAMP:20260421T020232
CREATED:20260420T151942Z
LAST-MODIFIED:20260420T151942Z
UID:10001489-1815033600-1815066000@springfieldparkplace.com
SUMMARY:Garbage Pick Up
DESCRIPTION:
URL:https://springfieldparkplace.com/event/garbage-pick-up-2/2027-07-08/
END:VEVENT
BEGIN:VEVENT
DTSTART;VALUE=DATE:20270712
DTEND;VALUE=DATE:20270713
DTSTAMP:20260421T020232
CREATED:20251011T082052Z
LAST-MODIFIED:20251028T154637Z
UID:10000097-1815350400-1815436799@springfieldparkplace.com
SUMMARY:Garbage Pick up
DESCRIPTION:
URL:https://springfieldparkplace.com/event/garbage-pick-up/2027-07-12/
END:VEVENT
BEGIN:VEVENT
DTSTART;TZID=America/New_York:20270712T080000
DTEND;TZID=America/New_York:20270712T170000
DTSTAMP:20260421T020233
CREATED:20260420T151942Z
LAST-MODIFIED:20260420T151942Z
UID:10001490-1815379200-1815411600@springfieldparkplace.com
SUMMARY:Garbage Pick Up
DESCRIPTION:
URL:https://springfieldparkplace.com/event/garbage-pick-up-2/2027-07-12/
END:VEVENT
BEGIN:VEVENT
DTSTART;VALUE=DATE:20270714
DTEND;VALUE=DATE:20270715
DTSTAMP:20260421T020233
CREATED:20251011T082156Z
LAST-MODIFIED:20251011T082156Z
UID:10000358-1815523200-1815609599@springfieldparkplace.com
SUMMARY:Recycling
DESCRIPTION:
URL:https://springfieldparkplace.com/event/recycling/2027-07-14/
END:VEVENT
BEGIN:VEVENT
DTSTART;TZID=America/New_York:20270715T080000
DTEND;TZID=America/New_York:20270715T170000
DTSTAMP:20260421T020233
CREATED:20260420T151942Z
LAST-MODIFIED:20260420T151942Z
UID:10001491-1815638400-1815670800@springfieldparkplace.com
SUMMARY:Garbage Pick Up
DESCRIPTION:
URL:https://springfieldparkplace.com/event/garbage-pick-up-2/2027-07-15/
END:VEVENT
BEGIN:VEVENT
DTSTART;VALUE=DATE:20270719
DTEND;VALUE=DATE:20270720
DTSTAMP:20260421T020233
CREATED:20251011T082052Z
LAST-MODIFIED:20251028T154637Z
UID:10000098-1815955200-1816041599@springfieldparkplace.com
SUMMARY:Garbage Pick up
DESCRIPTION:
URL:https://springfieldparkplace.com/event/garbage-pick-up/2027-07-19/
END:VEVENT
BEGIN:VEVENT
DTSTART;TZID=America/New_York:20270719T080000
DTEND;TZID=America/New_York:20270719T170000
DTSTAMP:20260421T020233
CREATED:20260420T151942Z
LAST-MODIFIED:20260420T151942Z
UID:10001492-1815984000-1816016400@springfieldparkplace.com
SUMMARY:Garbage Pick Up
DESCRIPTION:
URL:https://springfieldparkplace.com/event/garbage-pick-up-2/2027-07-19/
END:VEVENT
BEGIN:VEVENT
DTSTART;VALUE=DATE:20270721
DTEND;VALUE=DATE:20270722
DTSTAMP:20260421T020233
CREATED:20251011T082156Z
LAST-MODIFIED:20251011T082156Z
UID:10000359-1816128000-1816214399@springfieldparkplace.com
SUMMARY:Recycling
DESCRIPTION:
URL:https://springfieldparkplace.com/event/recycling/2027-07-21/
END:VEVENT
BEGIN:VEVENT
DTSTART;TZID=America/New_York:20270722T080000
DTEND;TZID=America/New_York:20270722T170000
DTSTAMP:20260421T020233
CREATED:20260420T151942Z
LAST-MODIFIED:20260420T151942Z
UID:10001493-1816243200-1816275600@springfieldparkplace.com
SUMMARY:Garbage Pick Up
DESCRIPTION:
URL:https://springfieldparkplace.com/event/garbage-pick-up-2/2027-07-22/
END:VEVENT
BEGIN:VEVENT
DTSTART;VALUE=DATE:20270726
DTEND;VALUE=DATE:20270727
DTSTAMP:20260421T020233
CREATED:20251011T082052Z
LAST-MODIFIED:20251028T154637Z
UID:10000099-1816560000-1816646399@springfieldparkplace.com
SUMMARY:Garbage Pick up
DESCRIPTION:
URL:https://springfieldparkplace.com/event/garbage-pick-up/2027-07-26/
END:VEVENT
BEGIN:VEVENT
DTSTART;TZID=America/New_York:20270726T080000
DTEND;TZID=America/New_York:20270726T170000
DTSTAMP:20260421T020233
CREATED:20260420T151942Z
LAST-MODIFIED:20260420T151942Z
UID:10001494-1816588800-1816621200@springfieldparkplace.com
SUMMARY:Garbage Pick Up
DESCRIPTION:
URL:https://springfieldparkplace.com/event/garbage-pick-up-2/2027-07-26/
END:VEVENT
BEGIN:VEVENT
DTSTART;VALUE=DATE:20270728
DTEND;VALUE=DATE:20270729
DTSTAMP:20260421T020233
CREATED:20251011T082156Z
LAST-MODIFIED:20251011T082156Z
UID:10000360-1816732800-1816819199@springfieldparkplace.com
SUMMARY:Recycling
DESCRIPTION:
URL:https://springfieldparkplace.com/event/recycling/2027-07-28/
END:VEVENT
BEGIN:VEVENT
DTSTART;TZID=America/New_York:20270729T080000
DTEND;TZID=America/New_York:20270729T170000
DTSTAMP:20260421T020233
CREATED:20260420T151942Z
LAST-MODIFIED:20260420T151942Z
UID:10001495-1816848000-1816880400@springfieldparkplace.com
SUMMARY:Garbage Pick Up
DESCRIPTION:
URL:https://springfieldparkplace.com/event/garbage-pick-up-2/2027-07-29/
END:VEVENT
BEGIN:VEVENT
DTSTART;VALUE=DATE:20270802
DTEND;VALUE=DATE:20270803
DTSTAMP:20260421T020233
CREATED:20251011T082052Z
LAST-MODIFIED:20251028T154637Z
UID:10000100-1817164800-1817251199@springfieldparkplace.com
SUMMARY:Garbage Pick up
DESCRIPTION:
URL:https://springfieldparkplace.com/event/garbage-pick-up/2027-08-02/
END:VEVENT
BEGIN:VEVENT
DTSTART;TZID=America/New_York:20270802T080000
DTEND;TZID=America/New_York:20270802T170000
DTSTAMP:20260421T020233
CREATED:20260420T151942Z
LAST-MODIFIED:20260420T151942Z
UID:10001496-1817193600-1817226000@springfieldparkplace.com
SUMMARY:Garbage Pick Up
DESCRIPTION:
URL:https://springfieldparkplace.com/event/garbage-pick-up-2/2027-08-02/
END:VEVENT
BEGIN:VEVENT
DTSTART;VALUE=DATE:20270804
DTEND;VALUE=DATE:20270805
DTSTAMP:20260421T020233
CREATED:20251011T082156Z
LAST-MODIFIED:20251011T082156Z
UID:10000361-1817337600-1817423999@springfieldparkplace.com
SUMMARY:Recycling
DESCRIPTION:
URL:https://springfieldparkplace.com/event/recycling/2027-08-04/
END:VEVENT
END:VCALENDAR