BEGIN:VCALENDAR
VERSION:2.0
PRODID:-//Springfield Park Place Condominium Association - ECPv6.15.20//NONSGML v1.0//EN
CALSCALE:GREGORIAN
METHOD:PUBLISH
X-ORIGINAL-URL:https://springfieldparkplace.com
X-WR-CALDESC:Events for Springfield Park Place Condominium Association
REFRESH-INTERVAL;VALUE=DURATION:PT1H
X-Robots-Tag:noindex
X-PUBLISHED-TTL:PT1H
BEGIN:VTIMEZONE
TZID:America/New_York
BEGIN:DAYLIGHT
TZOFFSETFROM:-0500
TZOFFSETTO:-0400
TZNAME:EDT
DTSTART:20270314T070000
END:DAYLIGHT
BEGIN:STANDARD
TZOFFSETFROM:-0400
TZOFFSETTO:-0500
TZNAME:EST
DTSTART:20271107T060000
END:STANDARD
BEGIN:DAYLIGHT
TZOFFSETFROM:-0500
TZOFFSETTO:-0400
TZNAME:EDT
DTSTART:20280312T070000
END:DAYLIGHT
BEGIN:STANDARD
TZOFFSETFROM:-0400
TZOFFSETTO:-0500
TZNAME:EST
DTSTART:20281105T060000
END:STANDARD
BEGIN:DAYLIGHT
TZOFFSETFROM:-0500
TZOFFSETTO:-0400
TZNAME:EDT
DTSTART:20290311T070000
END:DAYLIGHT
BEGIN:STANDARD
TZOFFSETFROM:-0400
TZOFFSETTO:-0500
TZNAME:EST
DTSTART:20291104T060000
END:STANDARD
END:VTIMEZONE
BEGIN:VEVENT
DTSTART;VALUE=DATE:20280412
DTEND;VALUE=DATE:20280413
DTSTAMP:20260421T215858
CREATED:20251011T082156Z
LAST-MODIFIED:20251011T082156Z
UID:10000397-1839110400-1839196799@springfieldparkplace.com
SUMMARY:Recycling
DESCRIPTION:
URL:https://springfieldparkplace.com/event/recycling/2028-04-12/
END:VEVENT
BEGIN:VEVENT
DTSTART;TZID=America/New_York:20280413T080000
DTEND;TZID=America/New_York:20280413T170000
DTSTAMP:20260421T215858
CREATED:20260420T151942Z
LAST-MODIFIED:20260420T151942Z
UID:10001569-1839225600-1839258000@springfieldparkplace.com
SUMMARY:Garbage Pick Up
DESCRIPTION:
URL:https://springfieldparkplace.com/event/garbage-pick-up-2/2028-04-13/
END:VEVENT
BEGIN:VEVENT
DTSTART;VALUE=DATE:20280417
DTEND;VALUE=DATE:20280418
DTSTAMP:20260421T215858
CREATED:20251011T082052Z
LAST-MODIFIED:20251028T154637Z
UID:10000137-1839542400-1839628799@springfieldparkplace.com
SUMMARY:Garbage Pick up
DESCRIPTION:
URL:https://springfieldparkplace.com/event/garbage-pick-up/2028-04-17/
END:VEVENT
BEGIN:VEVENT
DTSTART;TZID=America/New_York:20280417T080000
DTEND;TZID=America/New_York:20280417T170000
DTSTAMP:20260421T215858
CREATED:20260420T151942Z
LAST-MODIFIED:20260420T151942Z
UID:10001570-1839571200-1839603600@springfieldparkplace.com
SUMMARY:Garbage Pick Up
DESCRIPTION:
URL:https://springfieldparkplace.com/event/garbage-pick-up-2/2028-04-17/
END:VEVENT
BEGIN:VEVENT
DTSTART;VALUE=DATE:20280419
DTEND;VALUE=DATE:20280420
DTSTAMP:20260421T215858
CREATED:20251011T082156Z
LAST-MODIFIED:20251011T082156Z
UID:10000398-1839715200-1839801599@springfieldparkplace.com
SUMMARY:Recycling
DESCRIPTION:
URL:https://springfieldparkplace.com/event/recycling/2028-04-19/
END:VEVENT
BEGIN:VEVENT
DTSTART;TZID=America/New_York:20280420T080000
DTEND;TZID=America/New_York:20280420T170000
DTSTAMP:20260421T215858
CREATED:20260420T151942Z
LAST-MODIFIED:20260420T151942Z
UID:10001571-1839830400-1839862800@springfieldparkplace.com
SUMMARY:Garbage Pick Up
DESCRIPTION:
URL:https://springfieldparkplace.com/event/garbage-pick-up-2/2028-04-20/
END:VEVENT
BEGIN:VEVENT
DTSTART;VALUE=DATE:20280424
DTEND;VALUE=DATE:20280425
DTSTAMP:20260421T215858
CREATED:20251011T082052Z
LAST-MODIFIED:20251028T154637Z
UID:10000138-1840147200-1840233599@springfieldparkplace.com
SUMMARY:Garbage Pick up
DESCRIPTION:
URL:https://springfieldparkplace.com/event/garbage-pick-up/2028-04-24/
END:VEVENT
BEGIN:VEVENT
DTSTART;TZID=America/New_York:20280424T080000
DTEND;TZID=America/New_York:20280424T170000
DTSTAMP:20260421T215858
CREATED:20260420T151942Z
LAST-MODIFIED:20260420T151942Z
UID:10001572-1840176000-1840208400@springfieldparkplace.com
SUMMARY:Garbage Pick Up
DESCRIPTION:
URL:https://springfieldparkplace.com/event/garbage-pick-up-2/2028-04-24/
END:VEVENT
BEGIN:VEVENT
DTSTART;VALUE=DATE:20280426
DTEND;VALUE=DATE:20280427
DTSTAMP:20260421T215858
CREATED:20251011T082156Z
LAST-MODIFIED:20251011T082156Z
UID:10000399-1840320000-1840406399@springfieldparkplace.com
SUMMARY:Recycling
DESCRIPTION:
URL:https://springfieldparkplace.com/event/recycling/2028-04-26/
END:VEVENT
BEGIN:VEVENT
DTSTART;TZID=America/New_York:20280427T080000
DTEND;TZID=America/New_York:20280427T170000
DTSTAMP:20260421T215858
CREATED:20260420T151942Z
LAST-MODIFIED:20260420T151942Z
UID:10001573-1840435200-1840467600@springfieldparkplace.com
SUMMARY:Garbage Pick Up
DESCRIPTION:
URL:https://springfieldparkplace.com/event/garbage-pick-up-2/2028-04-27/
END:VEVENT
BEGIN:VEVENT
DTSTART;VALUE=DATE:20280501
DTEND;VALUE=DATE:20280502
DTSTAMP:20260421T215858
CREATED:20251011T082052Z
LAST-MODIFIED:20251028T154637Z
UID:10000139-1840752000-1840838399@springfieldparkplace.com
SUMMARY:Garbage Pick up
DESCRIPTION:
URL:https://springfieldparkplace.com/event/garbage-pick-up/2028-05-01/
END:VEVENT
BEGIN:VEVENT
DTSTART;TZID=America/New_York:20280501T080000
DTEND;TZID=America/New_York:20280501T170000
DTSTAMP:20260421T215858
CREATED:20260420T151942Z
LAST-MODIFIED:20260420T151942Z
UID:10001574-1840780800-1840813200@springfieldparkplace.com
SUMMARY:Garbage Pick Up
DESCRIPTION:
URL:https://springfieldparkplace.com/event/garbage-pick-up-2/2028-05-01/
END:VEVENT
BEGIN:VEVENT
DTSTART;VALUE=DATE:20280503
DTEND;VALUE=DATE:20280504
DTSTAMP:20260421T215858
CREATED:20251011T082156Z
LAST-MODIFIED:20251011T082156Z
UID:10000400-1840924800-1841011199@springfieldparkplace.com
SUMMARY:Recycling
DESCRIPTION:
URL:https://springfieldparkplace.com/event/recycling/2028-05-03/
END:VEVENT
BEGIN:VEVENT
DTSTART;TZID=America/New_York:20280504T080000
DTEND;TZID=America/New_York:20280504T170000
DTSTAMP:20260421T215858
CREATED:20260420T151942Z
LAST-MODIFIED:20260420T151942Z
UID:10001575-1841040000-1841072400@springfieldparkplace.com
SUMMARY:Garbage Pick Up
DESCRIPTION:
URL:https://springfieldparkplace.com/event/garbage-pick-up-2/2028-05-04/
END:VEVENT
BEGIN:VEVENT
DTSTART;VALUE=DATE:20280508
DTEND;VALUE=DATE:20280509
DTSTAMP:20260421T215858
CREATED:20251011T082052Z
LAST-MODIFIED:20251028T154637Z
UID:10000140-1841356800-1841443199@springfieldparkplace.com
SUMMARY:Garbage Pick up
DESCRIPTION:
URL:https://springfieldparkplace.com/event/garbage-pick-up/2028-05-08/
END:VEVENT
BEGIN:VEVENT
DTSTART;TZID=America/New_York:20280508T080000
DTEND;TZID=America/New_York:20280508T170000
DTSTAMP:20260421T215858
CREATED:20260420T151942Z
LAST-MODIFIED:20260420T151942Z
UID:10001576-1841385600-1841418000@springfieldparkplace.com
SUMMARY:Garbage Pick Up
DESCRIPTION:
URL:https://springfieldparkplace.com/event/garbage-pick-up-2/2028-05-08/
END:VEVENT
BEGIN:VEVENT
DTSTART;VALUE=DATE:20280510
DTEND;VALUE=DATE:20280511
DTSTAMP:20260421T215858
CREATED:20251011T082156Z
LAST-MODIFIED:20251011T082156Z
UID:10000401-1841529600-1841615999@springfieldparkplace.com
SUMMARY:Recycling
DESCRIPTION:
URL:https://springfieldparkplace.com/event/recycling/2028-05-10/
END:VEVENT
BEGIN:VEVENT
DTSTART;TZID=America/New_York:20280511T080000
DTEND;TZID=America/New_York:20280511T170000
DTSTAMP:20260421T215858
CREATED:20260420T151942Z
LAST-MODIFIED:20260420T151942Z
UID:10001577-1841644800-1841677200@springfieldparkplace.com
SUMMARY:Garbage Pick Up
DESCRIPTION:
URL:https://springfieldparkplace.com/event/garbage-pick-up-2/2028-05-11/
END:VEVENT
BEGIN:VEVENT
DTSTART;VALUE=DATE:20280515
DTEND;VALUE=DATE:20280516
DTSTAMP:20260421T215858
CREATED:20251011T082052Z
LAST-MODIFIED:20251028T154637Z
UID:10000141-1841961600-1842047999@springfieldparkplace.com
SUMMARY:Garbage Pick up
DESCRIPTION:
URL:https://springfieldparkplace.com/event/garbage-pick-up/2028-05-15/
END:VEVENT
BEGIN:VEVENT
DTSTART;TZID=America/New_York:20280515T080000
DTEND;TZID=America/New_York:20280515T170000
DTSTAMP:20260421T215858
CREATED:20260420T151942Z
LAST-MODIFIED:20260420T151942Z
UID:10001578-1841990400-1842022800@springfieldparkplace.com
SUMMARY:Garbage Pick Up
DESCRIPTION:
URL:https://springfieldparkplace.com/event/garbage-pick-up-2/2028-05-15/
END:VEVENT
BEGIN:VEVENT
DTSTART;VALUE=DATE:20280517
DTEND;VALUE=DATE:20280518
DTSTAMP:20260421T215858
CREATED:20251011T082156Z
LAST-MODIFIED:20251011T082156Z
UID:10000402-1842134400-1842220799@springfieldparkplace.com
SUMMARY:Recycling
DESCRIPTION:
URL:https://springfieldparkplace.com/event/recycling/2028-05-17/
END:VEVENT
BEGIN:VEVENT
DTSTART;TZID=America/New_York:20280518T080000
DTEND;TZID=America/New_York:20280518T170000
DTSTAMP:20260421T215858
CREATED:20260420T151942Z
LAST-MODIFIED:20260420T151942Z
UID:10001579-1842249600-1842282000@springfieldparkplace.com
SUMMARY:Garbage Pick Up
DESCRIPTION:
URL:https://springfieldparkplace.com/event/garbage-pick-up-2/2028-05-18/
END:VEVENT
BEGIN:VEVENT
DTSTART;VALUE=DATE:20280522
DTEND;VALUE=DATE:20280523
DTSTAMP:20260421T215858
CREATED:20251011T082052Z
LAST-MODIFIED:20251028T154637Z
UID:10000142-1842566400-1842652799@springfieldparkplace.com
SUMMARY:Garbage Pick up
DESCRIPTION:
URL:https://springfieldparkplace.com/event/garbage-pick-up/2028-05-22/
END:VEVENT
BEGIN:VEVENT
DTSTART;TZID=America/New_York:20280522T080000
DTEND;TZID=America/New_York:20280522T170000
DTSTAMP:20260421T215858
CREATED:20260420T151942Z
LAST-MODIFIED:20260420T151942Z
UID:10001580-1842595200-1842627600@springfieldparkplace.com
SUMMARY:Garbage Pick Up
DESCRIPTION:
URL:https://springfieldparkplace.com/event/garbage-pick-up-2/2028-05-22/
END:VEVENT
BEGIN:VEVENT
DTSTART;VALUE=DATE:20280524
DTEND;VALUE=DATE:20280525
DTSTAMP:20260421T215858
CREATED:20251011T082156Z
LAST-MODIFIED:20251011T082156Z
UID:10000403-1842739200-1842825599@springfieldparkplace.com
SUMMARY:Recycling
DESCRIPTION:
URL:https://springfieldparkplace.com/event/recycling/2028-05-24/
END:VEVENT
BEGIN:VEVENT
DTSTART;TZID=America/New_York:20280525T080000
DTEND;TZID=America/New_York:20280525T170000
DTSTAMP:20260421T215858
CREATED:20260420T151942Z
LAST-MODIFIED:20260420T151942Z
UID:10001581-1842854400-1842886800@springfieldparkplace.com
SUMMARY:Garbage Pick Up
DESCRIPTION:
URL:https://springfieldparkplace.com/event/garbage-pick-up-2/2028-05-25/
END:VEVENT
BEGIN:VEVENT
DTSTART;VALUE=DATE:20280529
DTEND;VALUE=DATE:20280530
DTSTAMP:20260421T215858
CREATED:20251011T082052Z
LAST-MODIFIED:20251028T154637Z
UID:10000143-1843171200-1843257599@springfieldparkplace.com
SUMMARY:Garbage Pick up
DESCRIPTION:
URL:https://springfieldparkplace.com/event/garbage-pick-up/2028-05-29/
END:VEVENT
BEGIN:VEVENT
DTSTART;TZID=America/New_York:20280529T080000
DTEND;TZID=America/New_York:20280529T170000
DTSTAMP:20260421T215858
CREATED:20260420T151942Z
LAST-MODIFIED:20260420T151942Z
UID:10001582-1843200000-1843232400@springfieldparkplace.com
SUMMARY:Garbage Pick Up
DESCRIPTION:
URL:https://springfieldparkplace.com/event/garbage-pick-up-2/2028-05-29/
END:VEVENT
BEGIN:VEVENT
DTSTART;VALUE=DATE:20280531
DTEND;VALUE=DATE:20280601
DTSTAMP:20260421T215858
CREATED:20251011T082156Z
LAST-MODIFIED:20251011T082156Z
UID:10000404-1843344000-1843430399@springfieldparkplace.com
SUMMARY:Recycling
DESCRIPTION:
URL:https://springfieldparkplace.com/event/recycling/2028-05-31/
END:VEVENT
BEGIN:VEVENT
DTSTART;TZID=America/New_York:20280601T080000
DTEND;TZID=America/New_York:20280601T170000
DTSTAMP:20260421T215858
CREATED:20260420T151942Z
LAST-MODIFIED:20260420T151942Z
UID:10001583-1843459200-1843491600@springfieldparkplace.com
SUMMARY:Garbage Pick Up
DESCRIPTION:
URL:https://springfieldparkplace.com/event/garbage-pick-up-2/2028-06-01/
END:VEVENT
END:VCALENDAR