BEGIN:VCALENDAR
VERSION:2.0
PRODID:-//Springfield Park Place Condominium Association - ECPv6.15.20//NONSGML v1.0//EN
CALSCALE:GREGORIAN
METHOD:PUBLISH
X-ORIGINAL-URL:https://springfieldparkplace.com
X-WR-CALDESC:Events for Springfield Park Place Condominium Association
REFRESH-INTERVAL;VALUE=DURATION:PT1H
X-Robots-Tag:noindex
X-PUBLISHED-TTL:PT1H
BEGIN:VTIMEZONE
TZID:America/New_York
BEGIN:DAYLIGHT
TZOFFSETFROM:-0500
TZOFFSETTO:-0400
TZNAME:EDT
DTSTART:20260308T070000
END:DAYLIGHT
BEGIN:STANDARD
TZOFFSETFROM:-0400
TZOFFSETTO:-0500
TZNAME:EST
DTSTART:20261101T060000
END:STANDARD
BEGIN:DAYLIGHT
TZOFFSETFROM:-0500
TZOFFSETTO:-0400
TZNAME:EDT
DTSTART:20270314T070000
END:DAYLIGHT
BEGIN:STANDARD
TZOFFSETFROM:-0400
TZOFFSETTO:-0500
TZNAME:EST
DTSTART:20271107T060000
END:STANDARD
BEGIN:DAYLIGHT
TZOFFSETFROM:-0500
TZOFFSETTO:-0400
TZNAME:EDT
DTSTART:20280312T070000
END:DAYLIGHT
BEGIN:STANDARD
TZOFFSETFROM:-0400
TZOFFSETTO:-0500
TZNAME:EST
DTSTART:20281105T060000
END:STANDARD
END:VTIMEZONE
BEGIN:VEVENT
DTSTART;VALUE=DATE:20270920
DTEND;VALUE=DATE:20270921
DTSTAMP:20260421T152139
CREATED:20251011T082052Z
LAST-MODIFIED:20251028T154637Z
UID:10000107-1821398400-1821484799@springfieldparkplace.com
SUMMARY:Garbage Pick up
DESCRIPTION:
URL:https://springfieldparkplace.com/event/garbage-pick-up/2027-09-20/
END:VEVENT
BEGIN:VEVENT
DTSTART;TZID=America/New_York:20270920T080000
DTEND;TZID=America/New_York:20270920T170000
DTSTAMP:20260421T152139
CREATED:20260420T151942Z
LAST-MODIFIED:20260420T151942Z
UID:10001510-1821427200-1821459600@springfieldparkplace.com
SUMMARY:Garbage Pick Up
DESCRIPTION:
URL:https://springfieldparkplace.com/event/garbage-pick-up-2/2027-09-20/
END:VEVENT
BEGIN:VEVENT
DTSTART;VALUE=DATE:20270922
DTEND;VALUE=DATE:20270923
DTSTAMP:20260421T152139
CREATED:20251011T082156Z
LAST-MODIFIED:20251011T082156Z
UID:10000368-1821571200-1821657599@springfieldparkplace.com
SUMMARY:Recycling
DESCRIPTION:
URL:https://springfieldparkplace.com/event/recycling/2027-09-22/
END:VEVENT
BEGIN:VEVENT
DTSTART;TZID=America/New_York:20270923T080000
DTEND;TZID=America/New_York:20270923T170000
DTSTAMP:20260421T152139
CREATED:20260420T151942Z
LAST-MODIFIED:20260420T151942Z
UID:10001511-1821686400-1821718800@springfieldparkplace.com
SUMMARY:Garbage Pick Up
DESCRIPTION:
URL:https://springfieldparkplace.com/event/garbage-pick-up-2/2027-09-23/
END:VEVENT
BEGIN:VEVENT
DTSTART;VALUE=DATE:20270927
DTEND;VALUE=DATE:20270928
DTSTAMP:20260421T152139
CREATED:20251011T082052Z
LAST-MODIFIED:20251028T154637Z
UID:10000108-1822003200-1822089599@springfieldparkplace.com
SUMMARY:Garbage Pick up
DESCRIPTION:
URL:https://springfieldparkplace.com/event/garbage-pick-up/2027-09-27/
END:VEVENT
BEGIN:VEVENT
DTSTART;TZID=America/New_York:20270927T080000
DTEND;TZID=America/New_York:20270927T170000
DTSTAMP:20260421T152139
CREATED:20260420T151942Z
LAST-MODIFIED:20260420T151942Z
UID:10001512-1822032000-1822064400@springfieldparkplace.com
SUMMARY:Garbage Pick Up
DESCRIPTION:
URL:https://springfieldparkplace.com/event/garbage-pick-up-2/2027-09-27/
END:VEVENT
BEGIN:VEVENT
DTSTART;VALUE=DATE:20270929
DTEND;VALUE=DATE:20270930
DTSTAMP:20260421T152139
CREATED:20251011T082156Z
LAST-MODIFIED:20251011T082156Z
UID:10000369-1822176000-1822262399@springfieldparkplace.com
SUMMARY:Recycling
DESCRIPTION:
URL:https://springfieldparkplace.com/event/recycling/2027-09-29/
END:VEVENT
BEGIN:VEVENT
DTSTART;TZID=America/New_York:20270930T080000
DTEND;TZID=America/New_York:20270930T170000
DTSTAMP:20260421T152139
CREATED:20260420T151942Z
LAST-MODIFIED:20260420T151942Z
UID:10001513-1822291200-1822323600@springfieldparkplace.com
SUMMARY:Garbage Pick Up
DESCRIPTION:
URL:https://springfieldparkplace.com/event/garbage-pick-up-2/2027-09-30/
END:VEVENT
BEGIN:VEVENT
DTSTART;VALUE=DATE:20271004
DTEND;VALUE=DATE:20271005
DTSTAMP:20260421T152139
CREATED:20251011T082052Z
LAST-MODIFIED:20251028T154637Z
UID:10000109-1822608000-1822694399@springfieldparkplace.com
SUMMARY:Garbage Pick up
DESCRIPTION:
URL:https://springfieldparkplace.com/event/garbage-pick-up/2027-10-04/
END:VEVENT
BEGIN:VEVENT
DTSTART;TZID=America/New_York:20271004T080000
DTEND;TZID=America/New_York:20271004T170000
DTSTAMP:20260421T152139
CREATED:20260420T151942Z
LAST-MODIFIED:20260420T151942Z
UID:10001514-1822636800-1822669200@springfieldparkplace.com
SUMMARY:Garbage Pick Up
DESCRIPTION:
URL:https://springfieldparkplace.com/event/garbage-pick-up-2/2027-10-04/
END:VEVENT
BEGIN:VEVENT
DTSTART;VALUE=DATE:20271006
DTEND;VALUE=DATE:20271007
DTSTAMP:20260421T152139
CREATED:20251011T082156Z
LAST-MODIFIED:20251011T082156Z
UID:10000370-1822780800-1822867199@springfieldparkplace.com
SUMMARY:Recycling
DESCRIPTION:
URL:https://springfieldparkplace.com/event/recycling/2027-10-06/
END:VEVENT
BEGIN:VEVENT
DTSTART;TZID=America/New_York:20271007T080000
DTEND;TZID=America/New_York:20271007T170000
DTSTAMP:20260421T152139
CREATED:20260420T151942Z
LAST-MODIFIED:20260420T151942Z
UID:10001515-1822896000-1822928400@springfieldparkplace.com
SUMMARY:Garbage Pick Up
DESCRIPTION:
URL:https://springfieldparkplace.com/event/garbage-pick-up-2/2027-10-07/
END:VEVENT
BEGIN:VEVENT
DTSTART;VALUE=DATE:20271011
DTEND;VALUE=DATE:20271012
DTSTAMP:20260421T152139
CREATED:20251011T082052Z
LAST-MODIFIED:20251028T154637Z
UID:10000110-1823212800-1823299199@springfieldparkplace.com
SUMMARY:Garbage Pick up
DESCRIPTION:
URL:https://springfieldparkplace.com/event/garbage-pick-up/2027-10-11/
END:VEVENT
BEGIN:VEVENT
DTSTART;TZID=America/New_York:20271011T080000
DTEND;TZID=America/New_York:20271011T170000
DTSTAMP:20260421T152139
CREATED:20260420T151942Z
LAST-MODIFIED:20260420T151942Z
UID:10001516-1823241600-1823274000@springfieldparkplace.com
SUMMARY:Garbage Pick Up
DESCRIPTION:
URL:https://springfieldparkplace.com/event/garbage-pick-up-2/2027-10-11/
END:VEVENT
BEGIN:VEVENT
DTSTART;VALUE=DATE:20271013
DTEND;VALUE=DATE:20271014
DTSTAMP:20260421T152139
CREATED:20251011T082156Z
LAST-MODIFIED:20251011T082156Z
UID:10000371-1823385600-1823471999@springfieldparkplace.com
SUMMARY:Recycling
DESCRIPTION:
URL:https://springfieldparkplace.com/event/recycling/2027-10-13/
END:VEVENT
BEGIN:VEVENT
DTSTART;TZID=America/New_York:20271014T080000
DTEND;TZID=America/New_York:20271014T170000
DTSTAMP:20260421T152139
CREATED:20260420T151942Z
LAST-MODIFIED:20260420T151942Z
UID:10001517-1823500800-1823533200@springfieldparkplace.com
SUMMARY:Garbage Pick Up
DESCRIPTION:
URL:https://springfieldparkplace.com/event/garbage-pick-up-2/2027-10-14/
END:VEVENT
BEGIN:VEVENT
DTSTART;VALUE=DATE:20271018
DTEND;VALUE=DATE:20271019
DTSTAMP:20260421T152139
CREATED:20251011T082052Z
LAST-MODIFIED:20251028T154637Z
UID:10000111-1823817600-1823903999@springfieldparkplace.com
SUMMARY:Garbage Pick up
DESCRIPTION:
URL:https://springfieldparkplace.com/event/garbage-pick-up/2027-10-18/
END:VEVENT
BEGIN:VEVENT
DTSTART;TZID=America/New_York:20271018T080000
DTEND;TZID=America/New_York:20271018T170000
DTSTAMP:20260421T152139
CREATED:20260420T151942Z
LAST-MODIFIED:20260420T151942Z
UID:10001518-1823846400-1823878800@springfieldparkplace.com
SUMMARY:Garbage Pick Up
DESCRIPTION:
URL:https://springfieldparkplace.com/event/garbage-pick-up-2/2027-10-18/
END:VEVENT
BEGIN:VEVENT
DTSTART;VALUE=DATE:20271020
DTEND;VALUE=DATE:20271021
DTSTAMP:20260421T152139
CREATED:20251011T082156Z
LAST-MODIFIED:20251011T082156Z
UID:10000372-1823990400-1824076799@springfieldparkplace.com
SUMMARY:Recycling
DESCRIPTION:
URL:https://springfieldparkplace.com/event/recycling/2027-10-20/
END:VEVENT
BEGIN:VEVENT
DTSTART;TZID=America/New_York:20271021T080000
DTEND;TZID=America/New_York:20271021T170000
DTSTAMP:20260421T152139
CREATED:20260420T151942Z
LAST-MODIFIED:20260420T151942Z
UID:10001519-1824105600-1824138000@springfieldparkplace.com
SUMMARY:Garbage Pick Up
DESCRIPTION:
URL:https://springfieldparkplace.com/event/garbage-pick-up-2/2027-10-21/
END:VEVENT
BEGIN:VEVENT
DTSTART;VALUE=DATE:20271025
DTEND;VALUE=DATE:20271026
DTSTAMP:20260421T152139
CREATED:20251011T082052Z
LAST-MODIFIED:20251028T154637Z
UID:10000112-1824422400-1824508799@springfieldparkplace.com
SUMMARY:Garbage Pick up
DESCRIPTION:
URL:https://springfieldparkplace.com/event/garbage-pick-up/2027-10-25/
END:VEVENT
BEGIN:VEVENT
DTSTART;TZID=America/New_York:20271025T080000
DTEND;TZID=America/New_York:20271025T170000
DTSTAMP:20260421T152139
CREATED:20260420T151942Z
LAST-MODIFIED:20260420T151942Z
UID:10001520-1824451200-1824483600@springfieldparkplace.com
SUMMARY:Garbage Pick Up
DESCRIPTION:
URL:https://springfieldparkplace.com/event/garbage-pick-up-2/2027-10-25/
END:VEVENT
BEGIN:VEVENT
DTSTART;VALUE=DATE:20271027
DTEND;VALUE=DATE:20271028
DTSTAMP:20260421T152139
CREATED:20251011T082156Z
LAST-MODIFIED:20251011T082156Z
UID:10000373-1824595200-1824681599@springfieldparkplace.com
SUMMARY:Recycling
DESCRIPTION:
URL:https://springfieldparkplace.com/event/recycling/2027-10-27/
END:VEVENT
BEGIN:VEVENT
DTSTART;TZID=America/New_York:20271028T080000
DTEND;TZID=America/New_York:20271028T170000
DTSTAMP:20260421T152139
CREATED:20260420T151942Z
LAST-MODIFIED:20260420T151942Z
UID:10001521-1824710400-1824742800@springfieldparkplace.com
SUMMARY:Garbage Pick Up
DESCRIPTION:
URL:https://springfieldparkplace.com/event/garbage-pick-up-2/2027-10-28/
END:VEVENT
BEGIN:VEVENT
DTSTART;VALUE=DATE:20271101
DTEND;VALUE=DATE:20271102
DTSTAMP:20260421T152139
CREATED:20251011T082052Z
LAST-MODIFIED:20251028T154637Z
UID:10000113-1825027200-1825113599@springfieldparkplace.com
SUMMARY:Garbage Pick up
DESCRIPTION:
URL:https://springfieldparkplace.com/event/garbage-pick-up/2027-11-01/
END:VEVENT
BEGIN:VEVENT
DTSTART;TZID=America/New_York:20271101T080000
DTEND;TZID=America/New_York:20271101T170000
DTSTAMP:20260421T152139
CREATED:20260420T151942Z
LAST-MODIFIED:20260420T151942Z
UID:10001522-1825056000-1825088400@springfieldparkplace.com
SUMMARY:Garbage Pick Up
DESCRIPTION:
URL:https://springfieldparkplace.com/event/garbage-pick-up-2/2027-11-01/
END:VEVENT
BEGIN:VEVENT
DTSTART;VALUE=DATE:20271103
DTEND;VALUE=DATE:20271104
DTSTAMP:20260421T152139
CREATED:20251011T082156Z
LAST-MODIFIED:20251011T082156Z
UID:10000374-1825200000-1825286399@springfieldparkplace.com
SUMMARY:Recycling
DESCRIPTION:
URL:https://springfieldparkplace.com/event/recycling/2027-11-03/
END:VEVENT
BEGIN:VEVENT
DTSTART;TZID=America/New_York:20271104T080000
DTEND;TZID=America/New_York:20271104T170000
DTSTAMP:20260421T152139
CREATED:20260420T151942Z
LAST-MODIFIED:20260420T151942Z
UID:10001523-1825315200-1825347600@springfieldparkplace.com
SUMMARY:Garbage Pick Up
DESCRIPTION:
URL:https://springfieldparkplace.com/event/garbage-pick-up-2/2027-11-04/
END:VEVENT
BEGIN:VEVENT
DTSTART;VALUE=DATE:20271108
DTEND;VALUE=DATE:20271109
DTSTAMP:20260421T152139
CREATED:20251011T082052Z
LAST-MODIFIED:20251028T154637Z
UID:10000114-1825632000-1825718399@springfieldparkplace.com
SUMMARY:Garbage Pick up
DESCRIPTION:
URL:https://springfieldparkplace.com/event/garbage-pick-up/2027-11-08/
END:VEVENT
BEGIN:VEVENT
DTSTART;TZID=America/New_York:20271108T080000
DTEND;TZID=America/New_York:20271108T170000
DTSTAMP:20260421T152139
CREATED:20260420T151942Z
LAST-MODIFIED:20260420T151942Z
UID:10001524-1825660800-1825693200@springfieldparkplace.com
SUMMARY:Garbage Pick Up
DESCRIPTION:
URL:https://springfieldparkplace.com/event/garbage-pick-up-2/2027-11-08/
END:VEVENT
END:VCALENDAR