BEGIN:VCALENDAR
VERSION:2.0
PRODID:-//Springfield Park Place Condominium Association - ECPv6.15.20//NONSGML v1.0//EN
CALSCALE:GREGORIAN
METHOD:PUBLISH
X-WR-CALNAME:Springfield Park Place Condominium Association
X-ORIGINAL-URL:https://springfieldparkplace.com
X-WR-CALDESC:Events for Springfield Park Place Condominium Association
REFRESH-INTERVAL;VALUE=DURATION:PT1H
X-Robots-Tag:noindex
X-PUBLISHED-TTL:PT1H
BEGIN:VTIMEZONE
TZID:America/New_York
BEGIN:DAYLIGHT
TZOFFSETFROM:-0500
TZOFFSETTO:-0400
TZNAME:EDT
DTSTART:20270314T070000
END:DAYLIGHT
BEGIN:STANDARD
TZOFFSETFROM:-0400
TZOFFSETTO:-0500
TZNAME:EST
DTSTART:20271107T060000
END:STANDARD
BEGIN:DAYLIGHT
TZOFFSETFROM:-0500
TZOFFSETTO:-0400
TZNAME:EDT
DTSTART:20280312T070000
END:DAYLIGHT
BEGIN:STANDARD
TZOFFSETFROM:-0400
TZOFFSETTO:-0500
TZNAME:EST
DTSTART:20281105T060000
END:STANDARD
BEGIN:DAYLIGHT
TZOFFSETFROM:-0500
TZOFFSETTO:-0400
TZNAME:EDT
DTSTART:20290311T070000
END:DAYLIGHT
BEGIN:STANDARD
TZOFFSETFROM:-0400
TZOFFSETTO:-0500
TZNAME:EST
DTSTART:20291104T060000
END:STANDARD
END:VTIMEZONE
BEGIN:VEVENT
DTSTART;VALUE=DATE:20280710
DTEND;VALUE=DATE:20280711
DTSTAMP:20260422T185631
CREATED:20251011T082052Z
LAST-MODIFIED:20251028T154637Z
UID:10000149-1846800000-1846886399@springfieldparkplace.com
SUMMARY:Garbage Pick up
DESCRIPTION:
URL:https://springfieldparkplace.com/event/garbage-pick-up/2028-07-10/
END:VEVENT
BEGIN:VEVENT
DTSTART;TZID=America/New_York:20280710T080000
DTEND;TZID=America/New_York:20280710T170000
DTSTAMP:20260422T185631
CREATED:20260420T151942Z
LAST-MODIFIED:20260420T151942Z
UID:10001594-1846828800-1846861200@springfieldparkplace.com
SUMMARY:Garbage Pick Up
DESCRIPTION:
URL:https://springfieldparkplace.com/event/garbage-pick-up-2/2028-07-10/
END:VEVENT
BEGIN:VEVENT
DTSTART;VALUE=DATE:20280712
DTEND;VALUE=DATE:20280713
DTSTAMP:20260422T185631
CREATED:20251011T082156Z
LAST-MODIFIED:20251011T082156Z
UID:10000410-1846972800-1847059199@springfieldparkplace.com
SUMMARY:Recycling
DESCRIPTION:
URL:https://springfieldparkplace.com/event/recycling/2028-07-12/
END:VEVENT
BEGIN:VEVENT
DTSTART;TZID=America/New_York:20280713T080000
DTEND;TZID=America/New_York:20280713T170000
DTSTAMP:20260422T185631
CREATED:20260420T151942Z
LAST-MODIFIED:20260420T151942Z
UID:10001595-1847088000-1847120400@springfieldparkplace.com
SUMMARY:Garbage Pick Up
DESCRIPTION:
URL:https://springfieldparkplace.com/event/garbage-pick-up-2/2028-07-13/
END:VEVENT
BEGIN:VEVENT
DTSTART;VALUE=DATE:20280717
DTEND;VALUE=DATE:20280718
DTSTAMP:20260422T185631
CREATED:20251011T082052Z
LAST-MODIFIED:20251028T154637Z
UID:10000150-1847404800-1847491199@springfieldparkplace.com
SUMMARY:Garbage Pick up
DESCRIPTION:
URL:https://springfieldparkplace.com/event/garbage-pick-up/2028-07-17/
END:VEVENT
BEGIN:VEVENT
DTSTART;TZID=America/New_York:20280717T080000
DTEND;TZID=America/New_York:20280717T170000
DTSTAMP:20260422T185631
CREATED:20260420T151942Z
LAST-MODIFIED:20260420T151942Z
UID:10001596-1847433600-1847466000@springfieldparkplace.com
SUMMARY:Garbage Pick Up
DESCRIPTION:
URL:https://springfieldparkplace.com/event/garbage-pick-up-2/2028-07-17/
END:VEVENT
BEGIN:VEVENT
DTSTART;VALUE=DATE:20280719
DTEND;VALUE=DATE:20280720
DTSTAMP:20260422T185631
CREATED:20251011T082156Z
LAST-MODIFIED:20251011T082156Z
UID:10000411-1847577600-1847663999@springfieldparkplace.com
SUMMARY:Recycling
DESCRIPTION:
URL:https://springfieldparkplace.com/event/recycling/2028-07-19/
END:VEVENT
BEGIN:VEVENT
DTSTART;TZID=America/New_York:20280720T080000
DTEND;TZID=America/New_York:20280720T170000
DTSTAMP:20260422T185631
CREATED:20260420T151942Z
LAST-MODIFIED:20260420T151942Z
UID:10001597-1847692800-1847725200@springfieldparkplace.com
SUMMARY:Garbage Pick Up
DESCRIPTION:
URL:https://springfieldparkplace.com/event/garbage-pick-up-2/2028-07-20/
END:VEVENT
BEGIN:VEVENT
DTSTART;VALUE=DATE:20280724
DTEND;VALUE=DATE:20280725
DTSTAMP:20260422T185631
CREATED:20251011T082052Z
LAST-MODIFIED:20251028T154637Z
UID:10000151-1848009600-1848095999@springfieldparkplace.com
SUMMARY:Garbage Pick up
DESCRIPTION:
URL:https://springfieldparkplace.com/event/garbage-pick-up/2028-07-24/
END:VEVENT
BEGIN:VEVENT
DTSTART;TZID=America/New_York:20280724T080000
DTEND;TZID=America/New_York:20280724T170000
DTSTAMP:20260422T185631
CREATED:20260420T151942Z
LAST-MODIFIED:20260420T151942Z
UID:10001598-1848038400-1848070800@springfieldparkplace.com
SUMMARY:Garbage Pick Up
DESCRIPTION:
URL:https://springfieldparkplace.com/event/garbage-pick-up-2/2028-07-24/
END:VEVENT
BEGIN:VEVENT
DTSTART;VALUE=DATE:20280726
DTEND;VALUE=DATE:20280727
DTSTAMP:20260422T185631
CREATED:20251011T082156Z
LAST-MODIFIED:20251011T082156Z
UID:10000412-1848182400-1848268799@springfieldparkplace.com
SUMMARY:Recycling
DESCRIPTION:
URL:https://springfieldparkplace.com/event/recycling/2028-07-26/
END:VEVENT
BEGIN:VEVENT
DTSTART;TZID=America/New_York:20280727T080000
DTEND;TZID=America/New_York:20280727T170000
DTSTAMP:20260422T185631
CREATED:20260420T151942Z
LAST-MODIFIED:20260420T151942Z
UID:10001599-1848297600-1848330000@springfieldparkplace.com
SUMMARY:Garbage Pick Up
DESCRIPTION:
URL:https://springfieldparkplace.com/event/garbage-pick-up-2/2028-07-27/
END:VEVENT
BEGIN:VEVENT
DTSTART;VALUE=DATE:20280731
DTEND;VALUE=DATE:20280801
DTSTAMP:20260422T185631
CREATED:20251011T082052Z
LAST-MODIFIED:20251028T154637Z
UID:10000152-1848614400-1848700799@springfieldparkplace.com
SUMMARY:Garbage Pick up
DESCRIPTION:
URL:https://springfieldparkplace.com/event/garbage-pick-up/2028-07-31/
END:VEVENT
BEGIN:VEVENT
DTSTART;TZID=America/New_York:20280731T080000
DTEND;TZID=America/New_York:20280731T170000
DTSTAMP:20260422T185631
CREATED:20260420T151942Z
LAST-MODIFIED:20260420T151942Z
UID:10001600-1848643200-1848675600@springfieldparkplace.com
SUMMARY:Garbage Pick Up
DESCRIPTION:
URL:https://springfieldparkplace.com/event/garbage-pick-up-2/2028-07-31/
END:VEVENT
BEGIN:VEVENT
DTSTART;VALUE=DATE:20280802
DTEND;VALUE=DATE:20280803
DTSTAMP:20260422T185631
CREATED:20251011T082156Z
LAST-MODIFIED:20251011T082156Z
UID:10000413-1848787200-1848873599@springfieldparkplace.com
SUMMARY:Recycling
DESCRIPTION:
URL:https://springfieldparkplace.com/event/recycling/2028-08-02/
END:VEVENT
BEGIN:VEVENT
DTSTART;TZID=America/New_York:20280803T080000
DTEND;TZID=America/New_York:20280803T170000
DTSTAMP:20260422T185631
CREATED:20260420T151942Z
LAST-MODIFIED:20260420T151942Z
UID:10001601-1848902400-1848934800@springfieldparkplace.com
SUMMARY:Garbage Pick Up
DESCRIPTION:
URL:https://springfieldparkplace.com/event/garbage-pick-up-2/2028-08-03/
END:VEVENT
BEGIN:VEVENT
DTSTART;VALUE=DATE:20280807
DTEND;VALUE=DATE:20280808
DTSTAMP:20260422T185631
CREATED:20251011T082052Z
LAST-MODIFIED:20251028T154637Z
UID:10000153-1849219200-1849305599@springfieldparkplace.com
SUMMARY:Garbage Pick up
DESCRIPTION:
URL:https://springfieldparkplace.com/event/garbage-pick-up/2028-08-07/
END:VEVENT
BEGIN:VEVENT
DTSTART;TZID=America/New_York:20280807T080000
DTEND;TZID=America/New_York:20280807T170000
DTSTAMP:20260422T185631
CREATED:20260420T151942Z
LAST-MODIFIED:20260420T151942Z
UID:10001602-1849248000-1849280400@springfieldparkplace.com
SUMMARY:Garbage Pick Up
DESCRIPTION:
URL:https://springfieldparkplace.com/event/garbage-pick-up-2/2028-08-07/
END:VEVENT
BEGIN:VEVENT
DTSTART;VALUE=DATE:20280809
DTEND;VALUE=DATE:20280810
DTSTAMP:20260422T185631
CREATED:20251011T082156Z
LAST-MODIFIED:20251011T082156Z
UID:10000414-1849392000-1849478399@springfieldparkplace.com
SUMMARY:Recycling
DESCRIPTION:
URL:https://springfieldparkplace.com/event/recycling/2028-08-09/
END:VEVENT
BEGIN:VEVENT
DTSTART;TZID=America/New_York:20280810T080000
DTEND;TZID=America/New_York:20280810T170000
DTSTAMP:20260422T185631
CREATED:20260420T151942Z
LAST-MODIFIED:20260420T151942Z
UID:10001603-1849507200-1849539600@springfieldparkplace.com
SUMMARY:Garbage Pick Up
DESCRIPTION:
URL:https://springfieldparkplace.com/event/garbage-pick-up-2/2028-08-10/
END:VEVENT
BEGIN:VEVENT
DTSTART;VALUE=DATE:20280814
DTEND;VALUE=DATE:20280815
DTSTAMP:20260422T185631
CREATED:20251011T082052Z
LAST-MODIFIED:20251028T154637Z
UID:10000154-1849824000-1849910399@springfieldparkplace.com
SUMMARY:Garbage Pick up
DESCRIPTION:
URL:https://springfieldparkplace.com/event/garbage-pick-up/2028-08-14/
END:VEVENT
BEGIN:VEVENT
DTSTART;TZID=America/New_York:20280814T080000
DTEND;TZID=America/New_York:20280814T170000
DTSTAMP:20260422T185631
CREATED:20260420T151942Z
LAST-MODIFIED:20260420T151942Z
UID:10001604-1849852800-1849885200@springfieldparkplace.com
SUMMARY:Garbage Pick Up
DESCRIPTION:
URL:https://springfieldparkplace.com/event/garbage-pick-up-2/2028-08-14/
END:VEVENT
BEGIN:VEVENT
DTSTART;VALUE=DATE:20280816
DTEND;VALUE=DATE:20280817
DTSTAMP:20260422T185631
CREATED:20251011T082156Z
LAST-MODIFIED:20251011T082156Z
UID:10000415-1849996800-1850083199@springfieldparkplace.com
SUMMARY:Recycling
DESCRIPTION:
URL:https://springfieldparkplace.com/event/recycling/2028-08-16/
END:VEVENT
BEGIN:VEVENT
DTSTART;TZID=America/New_York:20280817T080000
DTEND;TZID=America/New_York:20280817T170000
DTSTAMP:20260422T185631
CREATED:20260420T151942Z
LAST-MODIFIED:20260420T151942Z
UID:10001605-1850112000-1850144400@springfieldparkplace.com
SUMMARY:Garbage Pick Up
DESCRIPTION:
URL:https://springfieldparkplace.com/event/garbage-pick-up-2/2028-08-17/
END:VEVENT
BEGIN:VEVENT
DTSTART;VALUE=DATE:20280821
DTEND;VALUE=DATE:20280822
DTSTAMP:20260422T185631
CREATED:20251011T082052Z
LAST-MODIFIED:20251028T154637Z
UID:10000155-1850428800-1850515199@springfieldparkplace.com
SUMMARY:Garbage Pick up
DESCRIPTION:
URL:https://springfieldparkplace.com/event/garbage-pick-up/2028-08-21/
END:VEVENT
BEGIN:VEVENT
DTSTART;TZID=America/New_York:20280821T080000
DTEND;TZID=America/New_York:20280821T170000
DTSTAMP:20260422T185631
CREATED:20260420T151942Z
LAST-MODIFIED:20260420T151942Z
UID:10001606-1850457600-1850490000@springfieldparkplace.com
SUMMARY:Garbage Pick Up
DESCRIPTION:
URL:https://springfieldparkplace.com/event/garbage-pick-up-2/2028-08-21/
END:VEVENT
BEGIN:VEVENT
DTSTART;VALUE=DATE:20280823
DTEND;VALUE=DATE:20280824
DTSTAMP:20260422T185631
CREATED:20251011T082156Z
LAST-MODIFIED:20251011T082156Z
UID:10000416-1850601600-1850687999@springfieldparkplace.com
SUMMARY:Recycling
DESCRIPTION:
URL:https://springfieldparkplace.com/event/recycling/2028-08-23/
END:VEVENT
BEGIN:VEVENT
DTSTART;TZID=America/New_York:20280824T080000
DTEND;TZID=America/New_York:20280824T170000
DTSTAMP:20260422T185631
CREATED:20260420T151942Z
LAST-MODIFIED:20260420T151942Z
UID:10001607-1850716800-1850749200@springfieldparkplace.com
SUMMARY:Garbage Pick Up
DESCRIPTION:
URL:https://springfieldparkplace.com/event/garbage-pick-up-2/2028-08-24/
END:VEVENT
BEGIN:VEVENT
DTSTART;VALUE=DATE:20280828
DTEND;VALUE=DATE:20280829
DTSTAMP:20260422T185631
CREATED:20251011T082052Z
LAST-MODIFIED:20251028T154637Z
UID:10000156-1851033600-1851119999@springfieldparkplace.com
SUMMARY:Garbage Pick up
DESCRIPTION:
URL:https://springfieldparkplace.com/event/garbage-pick-up/2028-08-28/
END:VEVENT
BEGIN:VEVENT
DTSTART;TZID=America/New_York:20280828T080000
DTEND;TZID=America/New_York:20280828T170000
DTSTAMP:20260422T185631
CREATED:20260420T151942Z
LAST-MODIFIED:20260420T151942Z
UID:10001608-1851062400-1851094800@springfieldparkplace.com
SUMMARY:Garbage Pick Up
DESCRIPTION:
URL:https://springfieldparkplace.com/event/garbage-pick-up-2/2028-08-28/
END:VEVENT
END:VCALENDAR