BEGIN:VCALENDAR
VERSION:2.0
PRODID:-//Springfield Park Place Condominium Association - ECPv6.15.20//NONSGML v1.0//EN
CALSCALE:GREGORIAN
METHOD:PUBLISH
X-WR-CALNAME:Springfield Park Place Condominium Association
X-ORIGINAL-URL:https://springfieldparkplace.com
X-WR-CALDESC:Events for Springfield Park Place Condominium Association
REFRESH-INTERVAL;VALUE=DURATION:PT1H
X-Robots-Tag:noindex
X-PUBLISHED-TTL:PT1H
BEGIN:VTIMEZONE
TZID:America/New_York
BEGIN:DAYLIGHT
TZOFFSETFROM:-0500
TZOFFSETTO:-0400
TZNAME:EDT
DTSTART:20270314T070000
END:DAYLIGHT
BEGIN:STANDARD
TZOFFSETFROM:-0400
TZOFFSETTO:-0500
TZNAME:EST
DTSTART:20271107T060000
END:STANDARD
BEGIN:DAYLIGHT
TZOFFSETFROM:-0500
TZOFFSETTO:-0400
TZNAME:EDT
DTSTART:20280312T070000
END:DAYLIGHT
BEGIN:STANDARD
TZOFFSETFROM:-0400
TZOFFSETTO:-0500
TZNAME:EST
DTSTART:20281105T060000
END:STANDARD
BEGIN:DAYLIGHT
TZOFFSETFROM:-0500
TZOFFSETTO:-0400
TZNAME:EDT
DTSTART:20290311T070000
END:DAYLIGHT
BEGIN:STANDARD
TZOFFSETFROM:-0400
TZOFFSETTO:-0500
TZNAME:EST
DTSTART:20291104T060000
END:STANDARD
END:VTIMEZONE
BEGIN:VEVENT
DTSTART;TZID=America/New_York:20280921T080000
DTEND;TZID=America/New_York:20280921T170000
DTSTAMP:20260422T185555
CREATED:20260420T151942Z
LAST-MODIFIED:20260420T151942Z
UID:10001615-1853136000-1853168400@springfieldparkplace.com
SUMMARY:Garbage Pick Up
DESCRIPTION:
URL:https://springfieldparkplace.com/event/garbage-pick-up-2/2028-09-21/
END:VEVENT
BEGIN:VEVENT
DTSTART;VALUE=DATE:20280925
DTEND;VALUE=DATE:20280926
DTSTAMP:20260422T185555
CREATED:20251011T082052Z
LAST-MODIFIED:20251028T154637Z
UID:10000160-1853452800-1853539199@springfieldparkplace.com
SUMMARY:Garbage Pick up
DESCRIPTION:
URL:https://springfieldparkplace.com/event/garbage-pick-up/2028-09-25/
END:VEVENT
BEGIN:VEVENT
DTSTART;TZID=America/New_York:20280925T080000
DTEND;TZID=America/New_York:20280925T170000
DTSTAMP:20260422T185555
CREATED:20260420T151942Z
LAST-MODIFIED:20260420T151942Z
UID:10001616-1853481600-1853514000@springfieldparkplace.com
SUMMARY:Garbage Pick Up
DESCRIPTION:
URL:https://springfieldparkplace.com/event/garbage-pick-up-2/2028-09-25/
END:VEVENT
BEGIN:VEVENT
DTSTART;VALUE=DATE:20280927
DTEND;VALUE=DATE:20280928
DTSTAMP:20260422T185555
CREATED:20251011T082156Z
LAST-MODIFIED:20251011T082156Z
UID:10000421-1853625600-1853711999@springfieldparkplace.com
SUMMARY:Recycling
DESCRIPTION:
URL:https://springfieldparkplace.com/event/recycling/2028-09-27/
END:VEVENT
BEGIN:VEVENT
DTSTART;TZID=America/New_York:20280928T080000
DTEND;TZID=America/New_York:20280928T170000
DTSTAMP:20260422T185555
CREATED:20260420T151942Z
LAST-MODIFIED:20260420T151942Z
UID:10001617-1853740800-1853773200@springfieldparkplace.com
SUMMARY:Garbage Pick Up
DESCRIPTION:
URL:https://springfieldparkplace.com/event/garbage-pick-up-2/2028-09-28/
END:VEVENT
BEGIN:VEVENT
DTSTART;VALUE=DATE:20281002
DTEND;VALUE=DATE:20281003
DTSTAMP:20260422T185555
CREATED:20251011T082052Z
LAST-MODIFIED:20251028T154637Z
UID:10000161-1854057600-1854143999@springfieldparkplace.com
SUMMARY:Garbage Pick up
DESCRIPTION:
URL:https://springfieldparkplace.com/event/garbage-pick-up/2028-10-02/
END:VEVENT
BEGIN:VEVENT
DTSTART;TZID=America/New_York:20281002T080000
DTEND;TZID=America/New_York:20281002T170000
DTSTAMP:20260422T185555
CREATED:20260420T151942Z
LAST-MODIFIED:20260420T151942Z
UID:10001618-1854086400-1854118800@springfieldparkplace.com
SUMMARY:Garbage Pick Up
DESCRIPTION:
URL:https://springfieldparkplace.com/event/garbage-pick-up-2/2028-10-02/
END:VEVENT
BEGIN:VEVENT
DTSTART;VALUE=DATE:20281004
DTEND;VALUE=DATE:20281005
DTSTAMP:20260422T185555
CREATED:20251011T082156Z
LAST-MODIFIED:20251011T082156Z
UID:10000422-1854230400-1854316799@springfieldparkplace.com
SUMMARY:Recycling
DESCRIPTION:
URL:https://springfieldparkplace.com/event/recycling/2028-10-04/
END:VEVENT
BEGIN:VEVENT
DTSTART;TZID=America/New_York:20281005T080000
DTEND;TZID=America/New_York:20281005T170000
DTSTAMP:20260422T185555
CREATED:20260420T151942Z
LAST-MODIFIED:20260420T151942Z
UID:10001619-1854345600-1854378000@springfieldparkplace.com
SUMMARY:Garbage Pick Up
DESCRIPTION:
URL:https://springfieldparkplace.com/event/garbage-pick-up-2/2028-10-05/
END:VEVENT
BEGIN:VEVENT
DTSTART;VALUE=DATE:20281009
DTEND;VALUE=DATE:20281010
DTSTAMP:20260422T185555
CREATED:20251011T082052Z
LAST-MODIFIED:20251028T154637Z
UID:10000162-1854662400-1854748799@springfieldparkplace.com
SUMMARY:Garbage Pick up
DESCRIPTION:
URL:https://springfieldparkplace.com/event/garbage-pick-up/2028-10-09/
END:VEVENT
BEGIN:VEVENT
DTSTART;TZID=America/New_York:20281009T080000
DTEND;TZID=America/New_York:20281009T170000
DTSTAMP:20260422T185555
CREATED:20260420T151942Z
LAST-MODIFIED:20260420T151942Z
UID:10001620-1854691200-1854723600@springfieldparkplace.com
SUMMARY:Garbage Pick Up
DESCRIPTION:
URL:https://springfieldparkplace.com/event/garbage-pick-up-2/2028-10-09/
END:VEVENT
BEGIN:VEVENT
DTSTART;VALUE=DATE:20281011
DTEND;VALUE=DATE:20281012
DTSTAMP:20260422T185555
CREATED:20251011T082156Z
LAST-MODIFIED:20251011T082156Z
UID:10000423-1854835200-1854921599@springfieldparkplace.com
SUMMARY:Recycling
DESCRIPTION:
URL:https://springfieldparkplace.com/event/recycling/2028-10-11/
END:VEVENT
BEGIN:VEVENT
DTSTART;TZID=America/New_York:20281012T080000
DTEND;TZID=America/New_York:20281012T170000
DTSTAMP:20260422T185555
CREATED:20260420T151942Z
LAST-MODIFIED:20260420T151942Z
UID:10001621-1854950400-1854982800@springfieldparkplace.com
SUMMARY:Garbage Pick Up
DESCRIPTION:
URL:https://springfieldparkplace.com/event/garbage-pick-up-2/2028-10-12/
END:VEVENT
BEGIN:VEVENT
DTSTART;VALUE=DATE:20281016
DTEND;VALUE=DATE:20281017
DTSTAMP:20260422T185555
CREATED:20251011T082052Z
LAST-MODIFIED:20251028T154637Z
UID:10000163-1855267200-1855353599@springfieldparkplace.com
SUMMARY:Garbage Pick up
DESCRIPTION:
URL:https://springfieldparkplace.com/event/garbage-pick-up/2028-10-16/
END:VEVENT
BEGIN:VEVENT
DTSTART;TZID=America/New_York:20281016T080000
DTEND;TZID=America/New_York:20281016T170000
DTSTAMP:20260422T185555
CREATED:20260420T151942Z
LAST-MODIFIED:20260420T151942Z
UID:10001622-1855296000-1855328400@springfieldparkplace.com
SUMMARY:Garbage Pick Up
DESCRIPTION:
URL:https://springfieldparkplace.com/event/garbage-pick-up-2/2028-10-16/
END:VEVENT
BEGIN:VEVENT
DTSTART;VALUE=DATE:20281018
DTEND;VALUE=DATE:20281019
DTSTAMP:20260422T185555
CREATED:20251011T082156Z
LAST-MODIFIED:20251011T082156Z
UID:10000424-1855440000-1855526399@springfieldparkplace.com
SUMMARY:Recycling
DESCRIPTION:
URL:https://springfieldparkplace.com/event/recycling/2028-10-18/
END:VEVENT
BEGIN:VEVENT
DTSTART;TZID=America/New_York:20281019T080000
DTEND;TZID=America/New_York:20281019T170000
DTSTAMP:20260422T185555
CREATED:20260420T151942Z
LAST-MODIFIED:20260420T151942Z
UID:10001623-1855555200-1855587600@springfieldparkplace.com
SUMMARY:Garbage Pick Up
DESCRIPTION:
URL:https://springfieldparkplace.com/event/garbage-pick-up-2/2028-10-19/
END:VEVENT
BEGIN:VEVENT
DTSTART;VALUE=DATE:20281023
DTEND;VALUE=DATE:20281024
DTSTAMP:20260422T185555
CREATED:20251011T082052Z
LAST-MODIFIED:20251028T154637Z
UID:10000164-1855872000-1855958399@springfieldparkplace.com
SUMMARY:Garbage Pick up
DESCRIPTION:
URL:https://springfieldparkplace.com/event/garbage-pick-up/2028-10-23/
END:VEVENT
BEGIN:VEVENT
DTSTART;TZID=America/New_York:20281023T080000
DTEND;TZID=America/New_York:20281023T170000
DTSTAMP:20260422T185555
CREATED:20260420T151942Z
LAST-MODIFIED:20260420T151942Z
UID:10001624-1855900800-1855933200@springfieldparkplace.com
SUMMARY:Garbage Pick Up
DESCRIPTION:
URL:https://springfieldparkplace.com/event/garbage-pick-up-2/2028-10-23/
END:VEVENT
BEGIN:VEVENT
DTSTART;VALUE=DATE:20281025
DTEND;VALUE=DATE:20281026
DTSTAMP:20260422T185555
CREATED:20251011T082156Z
LAST-MODIFIED:20251011T082156Z
UID:10000425-1856044800-1856131199@springfieldparkplace.com
SUMMARY:Recycling
DESCRIPTION:
URL:https://springfieldparkplace.com/event/recycling/2028-10-25/
END:VEVENT
BEGIN:VEVENT
DTSTART;TZID=America/New_York:20281026T080000
DTEND;TZID=America/New_York:20281026T170000
DTSTAMP:20260422T185555
CREATED:20260420T151942Z
LAST-MODIFIED:20260420T151942Z
UID:10001625-1856160000-1856192400@springfieldparkplace.com
SUMMARY:Garbage Pick Up
DESCRIPTION:
URL:https://springfieldparkplace.com/event/garbage-pick-up-2/2028-10-26/
END:VEVENT
BEGIN:VEVENT
DTSTART;VALUE=DATE:20281030
DTEND;VALUE=DATE:20281031
DTSTAMP:20260422T185555
CREATED:20251011T082052Z
LAST-MODIFIED:20251028T154637Z
UID:10000165-1856476800-1856563199@springfieldparkplace.com
SUMMARY:Garbage Pick up
DESCRIPTION:
URL:https://springfieldparkplace.com/event/garbage-pick-up/2028-10-30/
END:VEVENT
BEGIN:VEVENT
DTSTART;TZID=America/New_York:20281030T080000
DTEND;TZID=America/New_York:20281030T170000
DTSTAMP:20260422T185555
CREATED:20260420T151942Z
LAST-MODIFIED:20260420T151942Z
UID:10001626-1856505600-1856538000@springfieldparkplace.com
SUMMARY:Garbage Pick Up
DESCRIPTION:
URL:https://springfieldparkplace.com/event/garbage-pick-up-2/2028-10-30/
END:VEVENT
BEGIN:VEVENT
DTSTART;VALUE=DATE:20281101
DTEND;VALUE=DATE:20281102
DTSTAMP:20260422T185555
CREATED:20251011T082156Z
LAST-MODIFIED:20251011T082156Z
UID:10000426-1856649600-1856735999@springfieldparkplace.com
SUMMARY:Recycling
DESCRIPTION:
URL:https://springfieldparkplace.com/event/recycling/2028-11-01/
END:VEVENT
BEGIN:VEVENT
DTSTART;TZID=America/New_York:20281102T080000
DTEND;TZID=America/New_York:20281102T170000
DTSTAMP:20260422T185555
CREATED:20260420T151942Z
LAST-MODIFIED:20260420T151942Z
UID:10001627-1856764800-1856797200@springfieldparkplace.com
SUMMARY:Garbage Pick Up
DESCRIPTION:
URL:https://springfieldparkplace.com/event/garbage-pick-up-2/2028-11-02/
END:VEVENT
BEGIN:VEVENT
DTSTART;VALUE=DATE:20281106
DTEND;VALUE=DATE:20281107
DTSTAMP:20260422T185555
CREATED:20251011T082052Z
LAST-MODIFIED:20251028T154637Z
UID:10000166-1857081600-1857167999@springfieldparkplace.com
SUMMARY:Garbage Pick up
DESCRIPTION:
URL:https://springfieldparkplace.com/event/garbage-pick-up/2028-11-06/
END:VEVENT
BEGIN:VEVENT
DTSTART;TZID=America/New_York:20281106T080000
DTEND;TZID=America/New_York:20281106T170000
DTSTAMP:20260422T185555
CREATED:20260420T151942Z
LAST-MODIFIED:20260420T151942Z
UID:10001628-1857110400-1857142800@springfieldparkplace.com
SUMMARY:Garbage Pick Up
DESCRIPTION:
URL:https://springfieldparkplace.com/event/garbage-pick-up-2/2028-11-06/
END:VEVENT
BEGIN:VEVENT
DTSTART;VALUE=DATE:20281108
DTEND;VALUE=DATE:20281109
DTSTAMP:20260422T185555
CREATED:20251011T082156Z
LAST-MODIFIED:20251011T082156Z
UID:10000427-1857254400-1857340799@springfieldparkplace.com
SUMMARY:Recycling
DESCRIPTION:
URL:https://springfieldparkplace.com/event/recycling/2028-11-08/
END:VEVENT
BEGIN:VEVENT
DTSTART;TZID=America/New_York:20281109T080000
DTEND;TZID=America/New_York:20281109T170000
DTSTAMP:20260422T185555
CREATED:20260420T151942Z
LAST-MODIFIED:20260420T151942Z
UID:10001629-1857369600-1857402000@springfieldparkplace.com
SUMMARY:Garbage Pick Up
DESCRIPTION:
URL:https://springfieldparkplace.com/event/garbage-pick-up-2/2028-11-09/
END:VEVENT
BEGIN:VEVENT
DTSTART;VALUE=DATE:20281113
DTEND;VALUE=DATE:20281114
DTSTAMP:20260422T185555
CREATED:20251011T082052Z
LAST-MODIFIED:20251028T154637Z
UID:10000167-1857686400-1857772799@springfieldparkplace.com
SUMMARY:Garbage Pick up
DESCRIPTION:
URL:https://springfieldparkplace.com/event/garbage-pick-up/2028-11-13/
END:VEVENT
END:VCALENDAR