BEGIN:VCALENDAR
VERSION:2.0
PRODID:-//Springfield Park Place Condominium Association - ECPv6.15.20//NONSGML v1.0//EN
CALSCALE:GREGORIAN
METHOD:PUBLISH
X-WR-CALNAME:Springfield Park Place Condominium Association
X-ORIGINAL-URL:https://springfieldparkplace.com
X-WR-CALDESC:Events for Springfield Park Place Condominium Association
REFRESH-INTERVAL;VALUE=DURATION:PT1H
X-Robots-Tag:noindex
X-PUBLISHED-TTL:PT1H
BEGIN:VTIMEZONE
TZID:America/New_York
BEGIN:DAYLIGHT
TZOFFSETFROM:-0500
TZOFFSETTO:-0400
TZNAME:EDT
DTSTART:20280312T070000
END:DAYLIGHT
BEGIN:STANDARD
TZOFFSETFROM:-0400
TZOFFSETTO:-0500
TZNAME:EST
DTSTART:20281105T060000
END:STANDARD
BEGIN:DAYLIGHT
TZOFFSETFROM:-0500
TZOFFSETTO:-0400
TZNAME:EDT
DTSTART:20290311T070000
END:DAYLIGHT
BEGIN:STANDARD
TZOFFSETFROM:-0400
TZOFFSETTO:-0500
TZNAME:EST
DTSTART:20291104T060000
END:STANDARD
BEGIN:DAYLIGHT
TZOFFSETFROM:-0500
TZOFFSETTO:-0400
TZNAME:EDT
DTSTART:20300310T070000
END:DAYLIGHT
BEGIN:STANDARD
TZOFFSETFROM:-0400
TZOFFSETTO:-0500
TZNAME:EST
DTSTART:20301103T060000
END:STANDARD
END:VTIMEZONE
BEGIN:VEVENT
DTSTART;TZID=America/New_York:20290315T080000
DTEND;TZID=America/New_York:20290315T170000
DTSTAMP:20260422T175300
CREATED:20260420T151942Z
LAST-MODIFIED:20260420T151942Z
UID:10001665-1868256000-1868288400@springfieldparkplace.com
SUMMARY:Garbage Pick Up
DESCRIPTION:
URL:https://springfieldparkplace.com/event/garbage-pick-up-2/2029-03-15/
END:VEVENT
BEGIN:VEVENT
DTSTART;VALUE=DATE:20290319
DTEND;VALUE=DATE:20290320
DTSTAMP:20260422T175300
CREATED:20251011T082052Z
LAST-MODIFIED:20251028T154637Z
UID:10000185-1868572800-1868659199@springfieldparkplace.com
SUMMARY:Garbage Pick up
DESCRIPTION:
URL:https://springfieldparkplace.com/event/garbage-pick-up/2029-03-19/
END:VEVENT
BEGIN:VEVENT
DTSTART;TZID=America/New_York:20290319T080000
DTEND;TZID=America/New_York:20290319T170000
DTSTAMP:20260422T175300
CREATED:20260420T151942Z
LAST-MODIFIED:20260420T151942Z
UID:10001666-1868601600-1868634000@springfieldparkplace.com
SUMMARY:Garbage Pick Up
DESCRIPTION:
URL:https://springfieldparkplace.com/event/garbage-pick-up-2/2029-03-19/
END:VEVENT
BEGIN:VEVENT
DTSTART;VALUE=DATE:20290321
DTEND;VALUE=DATE:20290322
DTSTAMP:20260422T175300
CREATED:20251011T082156Z
LAST-MODIFIED:20251011T082156Z
UID:10000446-1868745600-1868831999@springfieldparkplace.com
SUMMARY:Recycling
DESCRIPTION:
URL:https://springfieldparkplace.com/event/recycling/2029-03-21/
END:VEVENT
BEGIN:VEVENT
DTSTART;TZID=America/New_York:20290322T080000
DTEND;TZID=America/New_York:20290322T170000
DTSTAMP:20260422T175300
CREATED:20260420T151942Z
LAST-MODIFIED:20260420T151942Z
UID:10001667-1868860800-1868893200@springfieldparkplace.com
SUMMARY:Garbage Pick Up
DESCRIPTION:
URL:https://springfieldparkplace.com/event/garbage-pick-up-2/2029-03-22/
END:VEVENT
BEGIN:VEVENT
DTSTART;VALUE=DATE:20290326
DTEND;VALUE=DATE:20290327
DTSTAMP:20260422T175300
CREATED:20251011T082052Z
LAST-MODIFIED:20251028T154637Z
UID:10000186-1869177600-1869263999@springfieldparkplace.com
SUMMARY:Garbage Pick up
DESCRIPTION:
URL:https://springfieldparkplace.com/event/garbage-pick-up/2029-03-26/
END:VEVENT
BEGIN:VEVENT
DTSTART;TZID=America/New_York:20290326T080000
DTEND;TZID=America/New_York:20290326T170000
DTSTAMP:20260422T175300
CREATED:20260420T151942Z
LAST-MODIFIED:20260420T151942Z
UID:10001668-1869206400-1869238800@springfieldparkplace.com
SUMMARY:Garbage Pick Up
DESCRIPTION:
URL:https://springfieldparkplace.com/event/garbage-pick-up-2/2029-03-26/
END:VEVENT
BEGIN:VEVENT
DTSTART;VALUE=DATE:20290328
DTEND;VALUE=DATE:20290329
DTSTAMP:20260422T175300
CREATED:20251011T082156Z
LAST-MODIFIED:20251011T082156Z
UID:10000447-1869350400-1869436799@springfieldparkplace.com
SUMMARY:Recycling
DESCRIPTION:
URL:https://springfieldparkplace.com/event/recycling/2029-03-28/
END:VEVENT
BEGIN:VEVENT
DTSTART;TZID=America/New_York:20290329T080000
DTEND;TZID=America/New_York:20290329T170000
DTSTAMP:20260422T175300
CREATED:20260420T151942Z
LAST-MODIFIED:20260420T151942Z
UID:10001669-1869465600-1869498000@springfieldparkplace.com
SUMMARY:Garbage Pick Up
DESCRIPTION:
URL:https://springfieldparkplace.com/event/garbage-pick-up-2/2029-03-29/
END:VEVENT
BEGIN:VEVENT
DTSTART;VALUE=DATE:20290402
DTEND;VALUE=DATE:20290403
DTSTAMP:20260422T175300
CREATED:20251011T082052Z
LAST-MODIFIED:20251028T154637Z
UID:10000187-1869782400-1869868799@springfieldparkplace.com
SUMMARY:Garbage Pick up
DESCRIPTION:
URL:https://springfieldparkplace.com/event/garbage-pick-up/2029-04-02/
END:VEVENT
BEGIN:VEVENT
DTSTART;TZID=America/New_York:20290402T080000
DTEND;TZID=America/New_York:20290402T170000
DTSTAMP:20260422T175300
CREATED:20260420T151942Z
LAST-MODIFIED:20260420T151942Z
UID:10001670-1869811200-1869843600@springfieldparkplace.com
SUMMARY:Garbage Pick Up
DESCRIPTION:
URL:https://springfieldparkplace.com/event/garbage-pick-up-2/2029-04-02/
END:VEVENT
BEGIN:VEVENT
DTSTART;VALUE=DATE:20290404
DTEND;VALUE=DATE:20290405
DTSTAMP:20260422T175300
CREATED:20251011T082156Z
LAST-MODIFIED:20251011T082156Z
UID:10000448-1869955200-1870041599@springfieldparkplace.com
SUMMARY:Recycling
DESCRIPTION:
URL:https://springfieldparkplace.com/event/recycling/2029-04-04/
END:VEVENT
BEGIN:VEVENT
DTSTART;TZID=America/New_York:20290405T080000
DTEND;TZID=America/New_York:20290405T170000
DTSTAMP:20260422T175300
CREATED:20260420T151942Z
LAST-MODIFIED:20260420T151942Z
UID:10001671-1870070400-1870102800@springfieldparkplace.com
SUMMARY:Garbage Pick Up
DESCRIPTION:
URL:https://springfieldparkplace.com/event/garbage-pick-up-2/2029-04-05/
END:VEVENT
BEGIN:VEVENT
DTSTART;VALUE=DATE:20290409
DTEND;VALUE=DATE:20290410
DTSTAMP:20260422T175300
CREATED:20251011T082052Z
LAST-MODIFIED:20251028T154637Z
UID:10000188-1870387200-1870473599@springfieldparkplace.com
SUMMARY:Garbage Pick up
DESCRIPTION:
URL:https://springfieldparkplace.com/event/garbage-pick-up/2029-04-09/
END:VEVENT
BEGIN:VEVENT
DTSTART;TZID=America/New_York:20290409T080000
DTEND;TZID=America/New_York:20290409T170000
DTSTAMP:20260422T175300
CREATED:20260420T151942Z
LAST-MODIFIED:20260420T151942Z
UID:10001672-1870416000-1870448400@springfieldparkplace.com
SUMMARY:Garbage Pick Up
DESCRIPTION:
URL:https://springfieldparkplace.com/event/garbage-pick-up-2/2029-04-09/
END:VEVENT
BEGIN:VEVENT
DTSTART;VALUE=DATE:20290411
DTEND;VALUE=DATE:20290412
DTSTAMP:20260422T175300
CREATED:20251011T082156Z
LAST-MODIFIED:20251011T082156Z
UID:10000449-1870560000-1870646399@springfieldparkplace.com
SUMMARY:Recycling
DESCRIPTION:
URL:https://springfieldparkplace.com/event/recycling/2029-04-11/
END:VEVENT
BEGIN:VEVENT
DTSTART;TZID=America/New_York:20290412T080000
DTEND;TZID=America/New_York:20290412T170000
DTSTAMP:20260422T175300
CREATED:20260420T151942Z
LAST-MODIFIED:20260420T151942Z
UID:10001673-1870675200-1870707600@springfieldparkplace.com
SUMMARY:Garbage Pick Up
DESCRIPTION:
URL:https://springfieldparkplace.com/event/garbage-pick-up-2/2029-04-12/
END:VEVENT
BEGIN:VEVENT
DTSTART;VALUE=DATE:20290416
DTEND;VALUE=DATE:20290417
DTSTAMP:20260422T175300
CREATED:20251011T082052Z
LAST-MODIFIED:20251028T154637Z
UID:10000189-1870992000-1871078399@springfieldparkplace.com
SUMMARY:Garbage Pick up
DESCRIPTION:
URL:https://springfieldparkplace.com/event/garbage-pick-up/2029-04-16/
END:VEVENT
BEGIN:VEVENT
DTSTART;TZID=America/New_York:20290416T080000
DTEND;TZID=America/New_York:20290416T170000
DTSTAMP:20260422T175300
CREATED:20260420T151942Z
LAST-MODIFIED:20260420T151942Z
UID:10001674-1871020800-1871053200@springfieldparkplace.com
SUMMARY:Garbage Pick Up
DESCRIPTION:
URL:https://springfieldparkplace.com/event/garbage-pick-up-2/2029-04-16/
END:VEVENT
BEGIN:VEVENT
DTSTART;VALUE=DATE:20290418
DTEND;VALUE=DATE:20290419
DTSTAMP:20260422T175300
CREATED:20251011T082156Z
LAST-MODIFIED:20251011T082156Z
UID:10000450-1871164800-1871251199@springfieldparkplace.com
SUMMARY:Recycling
DESCRIPTION:
URL:https://springfieldparkplace.com/event/recycling/2029-04-18/
END:VEVENT
BEGIN:VEVENT
DTSTART;TZID=America/New_York:20290419T080000
DTEND;TZID=America/New_York:20290419T170000
DTSTAMP:20260422T175300
CREATED:20260420T151942Z
LAST-MODIFIED:20260420T151942Z
UID:10001675-1871280000-1871312400@springfieldparkplace.com
SUMMARY:Garbage Pick Up
DESCRIPTION:
URL:https://springfieldparkplace.com/event/garbage-pick-up-2/2029-04-19/
END:VEVENT
BEGIN:VEVENT
DTSTART;VALUE=DATE:20290423
DTEND;VALUE=DATE:20290424
DTSTAMP:20260422T175300
CREATED:20251011T082052Z
LAST-MODIFIED:20251028T154637Z
UID:10000190-1871596800-1871683199@springfieldparkplace.com
SUMMARY:Garbage Pick up
DESCRIPTION:
URL:https://springfieldparkplace.com/event/garbage-pick-up/2029-04-23/
END:VEVENT
BEGIN:VEVENT
DTSTART;TZID=America/New_York:20290423T080000
DTEND;TZID=America/New_York:20290423T170000
DTSTAMP:20260422T175300
CREATED:20260420T151942Z
LAST-MODIFIED:20260420T151942Z
UID:10001676-1871625600-1871658000@springfieldparkplace.com
SUMMARY:Garbage Pick Up
DESCRIPTION:
URL:https://springfieldparkplace.com/event/garbage-pick-up-2/2029-04-23/
END:VEVENT
BEGIN:VEVENT
DTSTART;VALUE=DATE:20290425
DTEND;VALUE=DATE:20290426
DTSTAMP:20260422T175300
CREATED:20251011T082156Z
LAST-MODIFIED:20251011T082156Z
UID:10000451-1871769600-1871855999@springfieldparkplace.com
SUMMARY:Recycling
DESCRIPTION:
URL:https://springfieldparkplace.com/event/recycling/2029-04-25/
END:VEVENT
BEGIN:VEVENT
DTSTART;TZID=America/New_York:20290426T080000
DTEND;TZID=America/New_York:20290426T170000
DTSTAMP:20260422T175300
CREATED:20260420T151942Z
LAST-MODIFIED:20260420T151942Z
UID:10001677-1871884800-1871917200@springfieldparkplace.com
SUMMARY:Garbage Pick Up
DESCRIPTION:
URL:https://springfieldparkplace.com/event/garbage-pick-up-2/2029-04-26/
END:VEVENT
BEGIN:VEVENT
DTSTART;VALUE=DATE:20290430
DTEND;VALUE=DATE:20290501
DTSTAMP:20260422T175300
CREATED:20251011T082052Z
LAST-MODIFIED:20251028T154637Z
UID:10000191-1872201600-1872287999@springfieldparkplace.com
SUMMARY:Garbage Pick up
DESCRIPTION:
URL:https://springfieldparkplace.com/event/garbage-pick-up/2029-04-30/
END:VEVENT
BEGIN:VEVENT
DTSTART;TZID=America/New_York:20290430T080000
DTEND;TZID=America/New_York:20290430T170000
DTSTAMP:20260422T175300
CREATED:20260420T151942Z
LAST-MODIFIED:20260420T151942Z
UID:10001678-1872230400-1872262800@springfieldparkplace.com
SUMMARY:Garbage Pick Up
DESCRIPTION:
URL:https://springfieldparkplace.com/event/garbage-pick-up-2/2029-04-30/
END:VEVENT
BEGIN:VEVENT
DTSTART;VALUE=DATE:20290502
DTEND;VALUE=DATE:20290503
DTSTAMP:20260422T175300
CREATED:20251011T082156Z
LAST-MODIFIED:20251011T082156Z
UID:10000452-1872374400-1872460799@springfieldparkplace.com
SUMMARY:Recycling
DESCRIPTION:
URL:https://springfieldparkplace.com/event/recycling/2029-05-02/
END:VEVENT
BEGIN:VEVENT
DTSTART;TZID=America/New_York:20290503T080000
DTEND;TZID=America/New_York:20290503T170000
DTSTAMP:20260422T175300
CREATED:20260420T151942Z
LAST-MODIFIED:20260420T151942Z
UID:10001679-1872489600-1872522000@springfieldparkplace.com
SUMMARY:Garbage Pick Up
DESCRIPTION:
URL:https://springfieldparkplace.com/event/garbage-pick-up-2/2029-05-03/
END:VEVENT
BEGIN:VEVENT
DTSTART;VALUE=DATE:20290507
DTEND;VALUE=DATE:20290508
DTSTAMP:20260422T175300
CREATED:20251011T082052Z
LAST-MODIFIED:20251028T154637Z
UID:10000192-1872806400-1872892799@springfieldparkplace.com
SUMMARY:Garbage Pick up
DESCRIPTION:
URL:https://springfieldparkplace.com/event/garbage-pick-up/2029-05-07/
END:VEVENT
END:VCALENDAR