BEGIN:VCALENDAR
VERSION:2.0
PRODID:-//Springfield Park Place Condominium Association - ECPv6.15.20//NONSGML v1.0//EN
CALSCALE:GREGORIAN
METHOD:PUBLISH
X-ORIGINAL-URL:https://springfieldparkplace.com
X-WR-CALDESC:Events for Springfield Park Place Condominium Association
REFRESH-INTERVAL;VALUE=DURATION:PT1H
X-Robots-Tag:noindex
X-PUBLISHED-TTL:PT1H
BEGIN:VTIMEZONE
TZID:America/New_York
BEGIN:DAYLIGHT
TZOFFSETFROM:-0500
TZOFFSETTO:-0400
TZNAME:EDT
DTSTART:20270314T070000
END:DAYLIGHT
BEGIN:STANDARD
TZOFFSETFROM:-0400
TZOFFSETTO:-0500
TZNAME:EST
DTSTART:20271107T060000
END:STANDARD
BEGIN:DAYLIGHT
TZOFFSETFROM:-0500
TZOFFSETTO:-0400
TZNAME:EDT
DTSTART:20280312T070000
END:DAYLIGHT
BEGIN:STANDARD
TZOFFSETFROM:-0400
TZOFFSETTO:-0500
TZNAME:EST
DTSTART:20281105T060000
END:STANDARD
BEGIN:DAYLIGHT
TZOFFSETFROM:-0500
TZOFFSETTO:-0400
TZNAME:EDT
DTSTART:20290311T070000
END:DAYLIGHT
BEGIN:STANDARD
TZOFFSETFROM:-0400
TZOFFSETTO:-0500
TZNAME:EST
DTSTART:20291104T060000
END:STANDARD
BEGIN:DAYLIGHT
TZOFFSETFROM:-0500
TZOFFSETTO:-0400
TZNAME:EDT
DTSTART:20300310T070000
END:DAYLIGHT
BEGIN:STANDARD
TZOFFSETFROM:-0400
TZOFFSETTO:-0500
TZNAME:EST
DTSTART:20301103T060000
END:STANDARD
END:VTIMEZONE
BEGIN:VEVENT
DTSTART;TZID=America/New_York:20281214T080000
DTEND;TZID=America/New_York:20281214T170000
DTSTAMP:20260422T182658
CREATED:20260420T151942Z
LAST-MODIFIED:20260420T151942Z
UID:10001639-1860393600-1860426000@springfieldparkplace.com
SUMMARY:Garbage Pick Up
DESCRIPTION:
URL:https://springfieldparkplace.com/event/garbage-pick-up-2/2028-12-14/
END:VEVENT
BEGIN:VEVENT
DTSTART;VALUE=DATE:20281218
DTEND;VALUE=DATE:20281219
DTSTAMP:20260422T182658
CREATED:20251011T082052Z
LAST-MODIFIED:20251028T154637Z
UID:10000172-1860710400-1860796799@springfieldparkplace.com
SUMMARY:Garbage Pick up
DESCRIPTION:
URL:https://springfieldparkplace.com/event/garbage-pick-up/2028-12-18/
END:VEVENT
BEGIN:VEVENT
DTSTART;TZID=America/New_York:20281218T080000
DTEND;TZID=America/New_York:20281218T170000
DTSTAMP:20260422T182658
CREATED:20260420T151942Z
LAST-MODIFIED:20260420T151942Z
UID:10001640-1860739200-1860771600@springfieldparkplace.com
SUMMARY:Garbage Pick Up
DESCRIPTION:
URL:https://springfieldparkplace.com/event/garbage-pick-up-2/2028-12-18/
END:VEVENT
BEGIN:VEVENT
DTSTART;VALUE=DATE:20281220
DTEND;VALUE=DATE:20281221
DTSTAMP:20260422T182658
CREATED:20251011T082156Z
LAST-MODIFIED:20251011T082156Z
UID:10000433-1860883200-1860969599@springfieldparkplace.com
SUMMARY:Recycling
DESCRIPTION:
URL:https://springfieldparkplace.com/event/recycling/2028-12-20/
END:VEVENT
BEGIN:VEVENT
DTSTART;TZID=America/New_York:20281221T080000
DTEND;TZID=America/New_York:20281221T170000
DTSTAMP:20260422T182658
CREATED:20260420T151942Z
LAST-MODIFIED:20260420T151942Z
UID:10001641-1860998400-1861030800@springfieldparkplace.com
SUMMARY:Garbage Pick Up
DESCRIPTION:
URL:https://springfieldparkplace.com/event/garbage-pick-up-2/2028-12-21/
END:VEVENT
BEGIN:VEVENT
DTSTART;VALUE=DATE:20281225
DTEND;VALUE=DATE:20281226
DTSTAMP:20260422T182658
CREATED:20251011T082052Z
LAST-MODIFIED:20251028T154637Z
UID:10000173-1861315200-1861401599@springfieldparkplace.com
SUMMARY:Garbage Pick up
DESCRIPTION:
URL:https://springfieldparkplace.com/event/garbage-pick-up/2028-12-25/
END:VEVENT
BEGIN:VEVENT
DTSTART;TZID=America/New_York:20281225T080000
DTEND;TZID=America/New_York:20281225T170000
DTSTAMP:20260422T182658
CREATED:20260420T151942Z
LAST-MODIFIED:20260420T151942Z
UID:10001642-1861344000-1861376400@springfieldparkplace.com
SUMMARY:Garbage Pick Up
DESCRIPTION:
URL:https://springfieldparkplace.com/event/garbage-pick-up-2/2028-12-25/
END:VEVENT
BEGIN:VEVENT
DTSTART;VALUE=DATE:20281227
DTEND;VALUE=DATE:20281228
DTSTAMP:20260422T182658
CREATED:20251011T082156Z
LAST-MODIFIED:20251011T082156Z
UID:10000434-1861488000-1861574399@springfieldparkplace.com
SUMMARY:Recycling
DESCRIPTION:
URL:https://springfieldparkplace.com/event/recycling/2028-12-27/
END:VEVENT
BEGIN:VEVENT
DTSTART;TZID=America/New_York:20281228T080000
DTEND;TZID=America/New_York:20281228T170000
DTSTAMP:20260422T182658
CREATED:20260420T151942Z
LAST-MODIFIED:20260420T151942Z
UID:10001643-1861603200-1861635600@springfieldparkplace.com
SUMMARY:Garbage Pick Up
DESCRIPTION:
URL:https://springfieldparkplace.com/event/garbage-pick-up-2/2028-12-28/
END:VEVENT
BEGIN:VEVENT
DTSTART;VALUE=DATE:20290101
DTEND;VALUE=DATE:20290102
DTSTAMP:20260422T182658
CREATED:20251011T082052Z
LAST-MODIFIED:20251028T154637Z
UID:10000174-1861920000-1862006399@springfieldparkplace.com
SUMMARY:Garbage Pick up
DESCRIPTION:
URL:https://springfieldparkplace.com/event/garbage-pick-up/2029-01-01/
END:VEVENT
BEGIN:VEVENT
DTSTART;TZID=America/New_York:20290101T080000
DTEND;TZID=America/New_York:20290101T170000
DTSTAMP:20260422T182658
CREATED:20260420T151942Z
LAST-MODIFIED:20260420T151942Z
UID:10001644-1861948800-1861981200@springfieldparkplace.com
SUMMARY:Garbage Pick Up
DESCRIPTION:
URL:https://springfieldparkplace.com/event/garbage-pick-up-2/2029-01-01/
END:VEVENT
BEGIN:VEVENT
DTSTART;VALUE=DATE:20290103
DTEND;VALUE=DATE:20290104
DTSTAMP:20260422T182658
CREATED:20251011T082156Z
LAST-MODIFIED:20251011T082156Z
UID:10000435-1862092800-1862179199@springfieldparkplace.com
SUMMARY:Recycling
DESCRIPTION:
URL:https://springfieldparkplace.com/event/recycling/2029-01-03/
END:VEVENT
BEGIN:VEVENT
DTSTART;TZID=America/New_York:20290104T080000
DTEND;TZID=America/New_York:20290104T170000
DTSTAMP:20260422T182658
CREATED:20260420T151942Z
LAST-MODIFIED:20260420T151942Z
UID:10001645-1862208000-1862240400@springfieldparkplace.com
SUMMARY:Garbage Pick Up
DESCRIPTION:
URL:https://springfieldparkplace.com/event/garbage-pick-up-2/2029-01-04/
END:VEVENT
BEGIN:VEVENT
DTSTART;VALUE=DATE:20290108
DTEND;VALUE=DATE:20290109
DTSTAMP:20260422T182658
CREATED:20251011T082052Z
LAST-MODIFIED:20251028T154637Z
UID:10000175-1862524800-1862611199@springfieldparkplace.com
SUMMARY:Garbage Pick up
DESCRIPTION:
URL:https://springfieldparkplace.com/event/garbage-pick-up/2029-01-08/
END:VEVENT
BEGIN:VEVENT
DTSTART;TZID=America/New_York:20290108T080000
DTEND;TZID=America/New_York:20290108T170000
DTSTAMP:20260422T182658
CREATED:20260420T151942Z
LAST-MODIFIED:20260420T151942Z
UID:10001646-1862553600-1862586000@springfieldparkplace.com
SUMMARY:Garbage Pick Up
DESCRIPTION:
URL:https://springfieldparkplace.com/event/garbage-pick-up-2/2029-01-08/
END:VEVENT
BEGIN:VEVENT
DTSTART;VALUE=DATE:20290110
DTEND;VALUE=DATE:20290111
DTSTAMP:20260422T182658
CREATED:20251011T082156Z
LAST-MODIFIED:20251011T082156Z
UID:10000436-1862697600-1862783999@springfieldparkplace.com
SUMMARY:Recycling
DESCRIPTION:
URL:https://springfieldparkplace.com/event/recycling/2029-01-10/
END:VEVENT
BEGIN:VEVENT
DTSTART;TZID=America/New_York:20290111T080000
DTEND;TZID=America/New_York:20290111T170000
DTSTAMP:20260422T182658
CREATED:20260420T151942Z
LAST-MODIFIED:20260420T151942Z
UID:10001647-1862812800-1862845200@springfieldparkplace.com
SUMMARY:Garbage Pick Up
DESCRIPTION:
URL:https://springfieldparkplace.com/event/garbage-pick-up-2/2029-01-11/
END:VEVENT
BEGIN:VEVENT
DTSTART;VALUE=DATE:20290115
DTEND;VALUE=DATE:20290116
DTSTAMP:20260422T182658
CREATED:20251011T082052Z
LAST-MODIFIED:20251028T154637Z
UID:10000176-1863129600-1863215999@springfieldparkplace.com
SUMMARY:Garbage Pick up
DESCRIPTION:
URL:https://springfieldparkplace.com/event/garbage-pick-up/2029-01-15/
END:VEVENT
BEGIN:VEVENT
DTSTART;TZID=America/New_York:20290115T080000
DTEND;TZID=America/New_York:20290115T170000
DTSTAMP:20260422T182658
CREATED:20260420T151942Z
LAST-MODIFIED:20260420T151942Z
UID:10001648-1863158400-1863190800@springfieldparkplace.com
SUMMARY:Garbage Pick Up
DESCRIPTION:
URL:https://springfieldparkplace.com/event/garbage-pick-up-2/2029-01-15/
END:VEVENT
BEGIN:VEVENT
DTSTART;VALUE=DATE:20290117
DTEND;VALUE=DATE:20290118
DTSTAMP:20260422T182658
CREATED:20251011T082156Z
LAST-MODIFIED:20251011T082156Z
UID:10000437-1863302400-1863388799@springfieldparkplace.com
SUMMARY:Recycling
DESCRIPTION:
URL:https://springfieldparkplace.com/event/recycling/2029-01-17/
END:VEVENT
BEGIN:VEVENT
DTSTART;TZID=America/New_York:20290118T080000
DTEND;TZID=America/New_York:20290118T170000
DTSTAMP:20260422T182658
CREATED:20260420T151942Z
LAST-MODIFIED:20260420T151942Z
UID:10001649-1863417600-1863450000@springfieldparkplace.com
SUMMARY:Garbage Pick Up
DESCRIPTION:
URL:https://springfieldparkplace.com/event/garbage-pick-up-2/2029-01-18/
END:VEVENT
BEGIN:VEVENT
DTSTART;VALUE=DATE:20290122
DTEND;VALUE=DATE:20290123
DTSTAMP:20260422T182658
CREATED:20251011T082052Z
LAST-MODIFIED:20251028T154637Z
UID:10000177-1863734400-1863820799@springfieldparkplace.com
SUMMARY:Garbage Pick up
DESCRIPTION:
URL:https://springfieldparkplace.com/event/garbage-pick-up/2029-01-22/
END:VEVENT
BEGIN:VEVENT
DTSTART;TZID=America/New_York:20290122T080000
DTEND;TZID=America/New_York:20290122T170000
DTSTAMP:20260422T182658
CREATED:20260420T151942Z
LAST-MODIFIED:20260420T151942Z
UID:10001650-1863763200-1863795600@springfieldparkplace.com
SUMMARY:Garbage Pick Up
DESCRIPTION:
URL:https://springfieldparkplace.com/event/garbage-pick-up-2/2029-01-22/
END:VEVENT
BEGIN:VEVENT
DTSTART;VALUE=DATE:20290124
DTEND;VALUE=DATE:20290125
DTSTAMP:20260422T182658
CREATED:20251011T082156Z
LAST-MODIFIED:20251011T082156Z
UID:10000438-1863907200-1863993599@springfieldparkplace.com
SUMMARY:Recycling
DESCRIPTION:
URL:https://springfieldparkplace.com/event/recycling/2029-01-24/
END:VEVENT
BEGIN:VEVENT
DTSTART;TZID=America/New_York:20290125T080000
DTEND;TZID=America/New_York:20290125T170000
DTSTAMP:20260422T182658
CREATED:20260420T151942Z
LAST-MODIFIED:20260420T151942Z
UID:10001651-1864022400-1864054800@springfieldparkplace.com
SUMMARY:Garbage Pick Up
DESCRIPTION:
URL:https://springfieldparkplace.com/event/garbage-pick-up-2/2029-01-25/
END:VEVENT
BEGIN:VEVENT
DTSTART;VALUE=DATE:20290129
DTEND;VALUE=DATE:20290130
DTSTAMP:20260422T182658
CREATED:20251011T082052Z
LAST-MODIFIED:20251028T154637Z
UID:10000178-1864339200-1864425599@springfieldparkplace.com
SUMMARY:Garbage Pick up
DESCRIPTION:
URL:https://springfieldparkplace.com/event/garbage-pick-up/2029-01-29/
END:VEVENT
BEGIN:VEVENT
DTSTART;TZID=America/New_York:20290129T080000
DTEND;TZID=America/New_York:20290129T170000
DTSTAMP:20260422T182658
CREATED:20260420T151942Z
LAST-MODIFIED:20260420T151942Z
UID:10001652-1864368000-1864400400@springfieldparkplace.com
SUMMARY:Garbage Pick Up
DESCRIPTION:
URL:https://springfieldparkplace.com/event/garbage-pick-up-2/2029-01-29/
END:VEVENT
BEGIN:VEVENT
DTSTART;VALUE=DATE:20290131
DTEND;VALUE=DATE:20290201
DTSTAMP:20260422T182658
CREATED:20251011T082156Z
LAST-MODIFIED:20251011T082156Z
UID:10000439-1864512000-1864598399@springfieldparkplace.com
SUMMARY:Recycling
DESCRIPTION:
URL:https://springfieldparkplace.com/event/recycling/2029-01-31/
END:VEVENT
BEGIN:VEVENT
DTSTART;TZID=America/New_York:20290201T080000
DTEND;TZID=America/New_York:20290201T170000
DTSTAMP:20260422T182658
CREATED:20260420T151942Z
LAST-MODIFIED:20260420T151942Z
UID:10001653-1864627200-1864659600@springfieldparkplace.com
SUMMARY:Garbage Pick Up
DESCRIPTION:
URL:https://springfieldparkplace.com/event/garbage-pick-up-2/2029-02-01/
END:VEVENT
BEGIN:VEVENT
DTSTART;VALUE=DATE:20290205
DTEND;VALUE=DATE:20290206
DTSTAMP:20260422T182658
CREATED:20251011T082052Z
LAST-MODIFIED:20251028T154637Z
UID:10000179-1864944000-1865030399@springfieldparkplace.com
SUMMARY:Garbage Pick up
DESCRIPTION:
URL:https://springfieldparkplace.com/event/garbage-pick-up/2029-02-05/
END:VEVENT
END:VCALENDAR