BEGIN:VCALENDAR
VERSION:2.0
PRODID:-//Springfield Park Place Condominium Association - ECPv6.15.20//NONSGML v1.0//EN
CALSCALE:GREGORIAN
METHOD:PUBLISH
X-WR-CALNAME:Springfield Park Place Condominium Association
X-ORIGINAL-URL:https://springfieldparkplace.com
X-WR-CALDESC:Events for Springfield Park Place Condominium Association
REFRESH-INTERVAL;VALUE=DURATION:PT1H
X-Robots-Tag:noindex
X-PUBLISHED-TTL:PT1H
BEGIN:VTIMEZONE
TZID:America/New_York
BEGIN:DAYLIGHT
TZOFFSETFROM:-0500
TZOFFSETTO:-0400
TZNAME:EDT
DTSTART:20250309T070000
END:DAYLIGHT
BEGIN:STANDARD
TZOFFSETFROM:-0400
TZOFFSETTO:-0500
TZNAME:EST
DTSTART:20251102T060000
END:STANDARD
BEGIN:DAYLIGHT
TZOFFSETFROM:-0500
TZOFFSETTO:-0400
TZNAME:EDT
DTSTART:20260308T070000
END:DAYLIGHT
BEGIN:STANDARD
TZOFFSETFROM:-0400
TZOFFSETTO:-0500
TZNAME:EST
DTSTART:20261101T060000
END:STANDARD
BEGIN:DAYLIGHT
TZOFFSETFROM:-0500
TZOFFSETTO:-0400
TZNAME:EDT
DTSTART:20270314T070000
END:DAYLIGHT
BEGIN:STANDARD
TZOFFSETFROM:-0400
TZOFFSETTO:-0500
TZNAME:EST
DTSTART:20271107T060000
END:STANDARD
END:VTIMEZONE
BEGIN:VEVENT
DTSTART;VALUE=DATE:20261028
DTEND;VALUE=DATE:20261029
DTSTAMP:20260420T135057
CREATED:20251011T082156Z
LAST-MODIFIED:20251011T082156Z
UID:10000321-1793145600-1793231999@springfieldparkplace.com
SUMMARY:Recycling
DESCRIPTION:
URL:https://springfieldparkplace.com/event/recycling/2026-10-28/
END:VEVENT
BEGIN:VEVENT
DTSTART;TZID=America/New_York:20261029T080000
DTEND;TZID=America/New_York:20261029T170000
DTSTAMP:20260420T135057
CREATED:20260420T151942Z
LAST-MODIFIED:20260420T151942Z
UID:10001417-1793260800-1793293200@springfieldparkplace.com
SUMMARY:Garbage Pick Up
DESCRIPTION:
URL:https://springfieldparkplace.com/event/garbage-pick-up-2/2026-10-29/
END:VEVENT
BEGIN:VEVENT
DTSTART;VALUE=DATE:20261102
DTEND;VALUE=DATE:20261103
DTSTAMP:20260420T135057
CREATED:20251011T082052Z
LAST-MODIFIED:20251028T154637Z
UID:10000061-1793577600-1793663999@springfieldparkplace.com
SUMMARY:Garbage Pick up
DESCRIPTION:
URL:https://springfieldparkplace.com/event/garbage-pick-up/2026-11-02/
END:VEVENT
BEGIN:VEVENT
DTSTART;TZID=America/New_York:20261102T080000
DTEND;TZID=America/New_York:20261102T170000
DTSTAMP:20260420T135057
CREATED:20260420T151942Z
LAST-MODIFIED:20260420T151942Z
UID:10001418-1793606400-1793638800@springfieldparkplace.com
SUMMARY:Garbage Pick Up
DESCRIPTION:
URL:https://springfieldparkplace.com/event/garbage-pick-up-2/2026-11-02/
END:VEVENT
BEGIN:VEVENT
DTSTART;VALUE=DATE:20261104
DTEND;VALUE=DATE:20261105
DTSTAMP:20260420T135057
CREATED:20251011T082156Z
LAST-MODIFIED:20251011T082156Z
UID:10000322-1793750400-1793836799@springfieldparkplace.com
SUMMARY:Recycling
DESCRIPTION:
URL:https://springfieldparkplace.com/event/recycling/2026-11-04/
END:VEVENT
BEGIN:VEVENT
DTSTART;TZID=America/New_York:20261105T080000
DTEND;TZID=America/New_York:20261105T170000
DTSTAMP:20260420T135057
CREATED:20260420T151942Z
LAST-MODIFIED:20260420T151942Z
UID:10001419-1793865600-1793898000@springfieldparkplace.com
SUMMARY:Garbage Pick Up
DESCRIPTION:
URL:https://springfieldparkplace.com/event/garbage-pick-up-2/2026-11-05/
END:VEVENT
BEGIN:VEVENT
DTSTART;VALUE=DATE:20261109
DTEND;VALUE=DATE:20261110
DTSTAMP:20260420T135057
CREATED:20251011T082052Z
LAST-MODIFIED:20251028T154637Z
UID:10000062-1794182400-1794268799@springfieldparkplace.com
SUMMARY:Garbage Pick up
DESCRIPTION:
URL:https://springfieldparkplace.com/event/garbage-pick-up/2026-11-09/
END:VEVENT
BEGIN:VEVENT
DTSTART;TZID=America/New_York:20261109T080000
DTEND;TZID=America/New_York:20261109T170000
DTSTAMP:20260420T135057
CREATED:20260420T151942Z
LAST-MODIFIED:20260420T151942Z
UID:10001420-1794211200-1794243600@springfieldparkplace.com
SUMMARY:Garbage Pick Up
DESCRIPTION:
URL:https://springfieldparkplace.com/event/garbage-pick-up-2/2026-11-09/
END:VEVENT
BEGIN:VEVENT
DTSTART;VALUE=DATE:20261111
DTEND;VALUE=DATE:20261112
DTSTAMP:20260420T135057
CREATED:20251011T082156Z
LAST-MODIFIED:20251011T082156Z
UID:10000323-1794355200-1794441599@springfieldparkplace.com
SUMMARY:Recycling
DESCRIPTION:
URL:https://springfieldparkplace.com/event/recycling/2026-11-11/
END:VEVENT
BEGIN:VEVENT
DTSTART;TZID=America/New_York:20261112T080000
DTEND;TZID=America/New_York:20261112T170000
DTSTAMP:20260420T135057
CREATED:20260420T151942Z
LAST-MODIFIED:20260420T151942Z
UID:10001421-1794470400-1794502800@springfieldparkplace.com
SUMMARY:Garbage Pick Up
DESCRIPTION:
URL:https://springfieldparkplace.com/event/garbage-pick-up-2/2026-11-12/
END:VEVENT
BEGIN:VEVENT
DTSTART;VALUE=DATE:20261116
DTEND;VALUE=DATE:20261117
DTSTAMP:20260420T135057
CREATED:20251011T082052Z
LAST-MODIFIED:20251028T154637Z
UID:10000063-1794787200-1794873599@springfieldparkplace.com
SUMMARY:Garbage Pick up
DESCRIPTION:
URL:https://springfieldparkplace.com/event/garbage-pick-up/2026-11-16/
END:VEVENT
BEGIN:VEVENT
DTSTART;TZID=America/New_York:20261116T080000
DTEND;TZID=America/New_York:20261116T170000
DTSTAMP:20260420T135057
CREATED:20260420T151942Z
LAST-MODIFIED:20260420T151942Z
UID:10001422-1794816000-1794848400@springfieldparkplace.com
SUMMARY:Garbage Pick Up
DESCRIPTION:
URL:https://springfieldparkplace.com/event/garbage-pick-up-2/2026-11-16/
END:VEVENT
BEGIN:VEVENT
DTSTART;VALUE=DATE:20261118
DTEND;VALUE=DATE:20261119
DTSTAMP:20260420T135057
CREATED:20251011T082156Z
LAST-MODIFIED:20251011T082156Z
UID:10000324-1794960000-1795046399@springfieldparkplace.com
SUMMARY:Recycling
DESCRIPTION:
URL:https://springfieldparkplace.com/event/recycling/2026-11-18/
END:VEVENT
BEGIN:VEVENT
DTSTART;TZID=America/New_York:20261119T080000
DTEND;TZID=America/New_York:20261119T170000
DTSTAMP:20260420T135057
CREATED:20260420T151942Z
LAST-MODIFIED:20260420T151942Z
UID:10001423-1795075200-1795107600@springfieldparkplace.com
SUMMARY:Garbage Pick Up
DESCRIPTION:
URL:https://springfieldparkplace.com/event/garbage-pick-up-2/2026-11-19/
END:VEVENT
BEGIN:VEVENT
DTSTART;VALUE=DATE:20261123
DTEND;VALUE=DATE:20261124
DTSTAMP:20260420T135057
CREATED:20251011T082052Z
LAST-MODIFIED:20251028T154637Z
UID:10000064-1795392000-1795478399@springfieldparkplace.com
SUMMARY:Garbage Pick up
DESCRIPTION:
URL:https://springfieldparkplace.com/event/garbage-pick-up/2026-11-23/
END:VEVENT
BEGIN:VEVENT
DTSTART;TZID=America/New_York:20261123T080000
DTEND;TZID=America/New_York:20261123T170000
DTSTAMP:20260420T135057
CREATED:20260420T151942Z
LAST-MODIFIED:20260420T151942Z
UID:10001424-1795420800-1795453200@springfieldparkplace.com
SUMMARY:Garbage Pick Up
DESCRIPTION:
URL:https://springfieldparkplace.com/event/garbage-pick-up-2/2026-11-23/
END:VEVENT
BEGIN:VEVENT
DTSTART;VALUE=DATE:20261125
DTEND;VALUE=DATE:20261126
DTSTAMP:20260420T135057
CREATED:20251011T082156Z
LAST-MODIFIED:20251011T082156Z
UID:10000325-1795564800-1795651199@springfieldparkplace.com
SUMMARY:Recycling
DESCRIPTION:
URL:https://springfieldparkplace.com/event/recycling/2026-11-25/
END:VEVENT
BEGIN:VEVENT
DTSTART;TZID=America/New_York:20261126T080000
DTEND;TZID=America/New_York:20261126T170000
DTSTAMP:20260420T135057
CREATED:20260420T151942Z
LAST-MODIFIED:20260420T151942Z
UID:10001425-1795680000-1795712400@springfieldparkplace.com
SUMMARY:Garbage Pick Up
DESCRIPTION:
URL:https://springfieldparkplace.com/event/garbage-pick-up-2/2026-11-26/
END:VEVENT
BEGIN:VEVENT
DTSTART;VALUE=DATE:20261130
DTEND;VALUE=DATE:20261201
DTSTAMP:20260420T135057
CREATED:20251011T082052Z
LAST-MODIFIED:20251028T154637Z
UID:10000065-1795996800-1796083199@springfieldparkplace.com
SUMMARY:Garbage Pick up
DESCRIPTION:
URL:https://springfieldparkplace.com/event/garbage-pick-up/2026-11-30/
END:VEVENT
BEGIN:VEVENT
DTSTART;TZID=America/New_York:20261130T080000
DTEND;TZID=America/New_York:20261130T170000
DTSTAMP:20260420T135057
CREATED:20260420T151942Z
LAST-MODIFIED:20260420T151942Z
UID:10001426-1796025600-1796058000@springfieldparkplace.com
SUMMARY:Garbage Pick Up
DESCRIPTION:
URL:https://springfieldparkplace.com/event/garbage-pick-up-2/2026-11-30/
END:VEVENT
BEGIN:VEVENT
DTSTART;VALUE=DATE:20261202
DTEND;VALUE=DATE:20261203
DTSTAMP:20260420T135057
CREATED:20251011T082156Z
LAST-MODIFIED:20251011T082156Z
UID:10000326-1796169600-1796255999@springfieldparkplace.com
SUMMARY:Recycling
DESCRIPTION:
URL:https://springfieldparkplace.com/event/recycling/2026-12-02/
END:VEVENT
BEGIN:VEVENT
DTSTART;TZID=America/New_York:20261203T080000
DTEND;TZID=America/New_York:20261203T170000
DTSTAMP:20260420T135057
CREATED:20260420T151942Z
LAST-MODIFIED:20260420T151942Z
UID:10001427-1796284800-1796317200@springfieldparkplace.com
SUMMARY:Garbage Pick Up
DESCRIPTION:
URL:https://springfieldparkplace.com/event/garbage-pick-up-2/2026-12-03/
END:VEVENT
BEGIN:VEVENT
DTSTART;VALUE=DATE:20261207
DTEND;VALUE=DATE:20261208
DTSTAMP:20260420T135057
CREATED:20251011T082052Z
LAST-MODIFIED:20251028T154637Z
UID:10000066-1796601600-1796687999@springfieldparkplace.com
SUMMARY:Garbage Pick up
DESCRIPTION:
URL:https://springfieldparkplace.com/event/garbage-pick-up/2026-12-07/
END:VEVENT
BEGIN:VEVENT
DTSTART;TZID=America/New_York:20261207T080000
DTEND;TZID=America/New_York:20261207T170000
DTSTAMP:20260420T135057
CREATED:20260420T151942Z
LAST-MODIFIED:20260420T151942Z
UID:10001428-1796630400-1796662800@springfieldparkplace.com
SUMMARY:Garbage Pick Up
DESCRIPTION:
URL:https://springfieldparkplace.com/event/garbage-pick-up-2/2026-12-07/
END:VEVENT
BEGIN:VEVENT
DTSTART;VALUE=DATE:20261209
DTEND;VALUE=DATE:20261210
DTSTAMP:20260420T135057
CREATED:20251011T082156Z
LAST-MODIFIED:20251011T082156Z
UID:10000327-1796774400-1796860799@springfieldparkplace.com
SUMMARY:Recycling
DESCRIPTION:
URL:https://springfieldparkplace.com/event/recycling/2026-12-09/
END:VEVENT
BEGIN:VEVENT
DTSTART;TZID=America/New_York:20261210T080000
DTEND;TZID=America/New_York:20261210T170000
DTSTAMP:20260420T135057
CREATED:20260420T151942Z
LAST-MODIFIED:20260420T151942Z
UID:10001429-1796889600-1796922000@springfieldparkplace.com
SUMMARY:Garbage Pick Up
DESCRIPTION:
URL:https://springfieldparkplace.com/event/garbage-pick-up-2/2026-12-10/
END:VEVENT
BEGIN:VEVENT
DTSTART;VALUE=DATE:20261214
DTEND;VALUE=DATE:20261215
DTSTAMP:20260420T135057
CREATED:20251011T082052Z
LAST-MODIFIED:20251028T154637Z
UID:10000067-1797206400-1797292799@springfieldparkplace.com
SUMMARY:Garbage Pick up
DESCRIPTION:
URL:https://springfieldparkplace.com/event/garbage-pick-up/2026-12-14/
END:VEVENT
BEGIN:VEVENT
DTSTART;TZID=America/New_York:20261214T080000
DTEND;TZID=America/New_York:20261214T170000
DTSTAMP:20260420T135057
CREATED:20260420T151942Z
LAST-MODIFIED:20260420T151942Z
UID:10001430-1797235200-1797267600@springfieldparkplace.com
SUMMARY:Garbage Pick Up
DESCRIPTION:
URL:https://springfieldparkplace.com/event/garbage-pick-up-2/2026-12-14/
END:VEVENT
BEGIN:VEVENT
DTSTART;VALUE=DATE:20261216
DTEND;VALUE=DATE:20261217
DTSTAMP:20260420T135057
CREATED:20251011T082156Z
LAST-MODIFIED:20251011T082156Z
UID:10000328-1797379200-1797465599@springfieldparkplace.com
SUMMARY:Recycling
DESCRIPTION:
URL:https://springfieldparkplace.com/event/recycling/2026-12-16/
END:VEVENT
BEGIN:VEVENT
DTSTART;TZID=America/New_York:20261216T190000
DTEND;TZID=America/New_York:20261216T210000
DTSTAMP:20260420T135057
CREATED:20251218T185153Z
LAST-MODIFIED:20251218T185153Z
UID:10000829-1797447600-1797454800@springfieldparkplace.com
SUMMARY:Open Board Meeting
DESCRIPTION:📌 Open Board MeetingThis is an open meeting of the Board of Directors. All homeowners are welcome to attend.
URL:https://springfieldparkplace.com/event/open-board-meeting-4/
END:VEVENT
END:VCALENDAR