BEGIN:VCALENDAR
VERSION:2.0
PRODID:-//Springfield Park Place Condominium Association - ECPv6.15.20//NONSGML v1.0//EN
CALSCALE:GREGORIAN
METHOD:PUBLISH
X-WR-CALNAME:Springfield Park Place Condominium Association
X-ORIGINAL-URL:https://springfieldparkplace.com
X-WR-CALDESC:Events for Springfield Park Place Condominium Association
REFRESH-INTERVAL;VALUE=DURATION:PT1H
X-Robots-Tag:noindex
X-PUBLISHED-TTL:PT1H
BEGIN:VTIMEZONE
TZID:America/New_York
BEGIN:DAYLIGHT
TZOFFSETFROM:-0500
TZOFFSETTO:-0400
TZNAME:EDT
DTSTART:20250309T070000
END:DAYLIGHT
BEGIN:STANDARD
TZOFFSETFROM:-0400
TZOFFSETTO:-0500
TZNAME:EST
DTSTART:20251102T060000
END:STANDARD
BEGIN:DAYLIGHT
TZOFFSETFROM:-0500
TZOFFSETTO:-0400
TZNAME:EDT
DTSTART:20260308T070000
END:DAYLIGHT
BEGIN:STANDARD
TZOFFSETFROM:-0400
TZOFFSETTO:-0500
TZNAME:EST
DTSTART:20261101T060000
END:STANDARD
BEGIN:DAYLIGHT
TZOFFSETFROM:-0500
TZOFFSETTO:-0400
TZNAME:EDT
DTSTART:20270314T070000
END:DAYLIGHT
BEGIN:STANDARD
TZOFFSETFROM:-0400
TZOFFSETTO:-0500
TZNAME:EST
DTSTART:20271107T060000
END:STANDARD
END:VTIMEZONE
BEGIN:VEVENT
DTSTART;VALUE=DATE:20260427
DTEND;VALUE=DATE:20260428
DTSTAMP:20260420T182250
CREATED:20251011T082052Z
LAST-MODIFIED:20251028T154637Z
UID:10000034-1777248000-1777334399@springfieldparkplace.com
SUMMARY:Garbage Pick up
DESCRIPTION:
URL:https://springfieldparkplace.com/event/garbage-pick-up/2026-04-27/
END:VEVENT
BEGIN:VEVENT
DTSTART;TZID=America/New_York:20260427T080000
DTEND;TZID=America/New_York:20260427T170000
DTSTAMP:20260420T182250
CREATED:20260420T151942Z
LAST-MODIFIED:20260420T151942Z
UID:10001364-1777276800-1777309200@springfieldparkplace.com
SUMMARY:Garbage Pick Up
DESCRIPTION:
URL:https://springfieldparkplace.com/event/garbage-pick-up-2/2026-04-27/
END:VEVENT
BEGIN:VEVENT
DTSTART;VALUE=DATE:20260429
DTEND;VALUE=DATE:20260430
DTSTAMP:20260420T182250
CREATED:20251011T082156Z
LAST-MODIFIED:20251011T082156Z
UID:10000295-1777420800-1777507199@springfieldparkplace.com
SUMMARY:Recycling
DESCRIPTION:
URL:https://springfieldparkplace.com/event/recycling/2026-04-29/
END:VEVENT
BEGIN:VEVENT
DTSTART;TZID=America/New_York:20260430T080000
DTEND;TZID=America/New_York:20260430T170000
DTSTAMP:20260420T182250
CREATED:20260420T151942Z
LAST-MODIFIED:20260420T151942Z
UID:10001365-1777536000-1777568400@springfieldparkplace.com
SUMMARY:Garbage Pick Up
DESCRIPTION:
URL:https://springfieldparkplace.com/event/garbage-pick-up-2/2026-04-30/
END:VEVENT
BEGIN:VEVENT
DTSTART;TZID=America/New_York:20260502T190000
DTEND;TZID=America/New_York:20260502T210000
DTSTAMP:20260420T182250
CREATED:20260413T190251Z
LAST-MODIFIED:20260413T190251Z
UID:10001361-1777748400-1777755600@springfieldparkplace.com
SUMMARY:BINGO with a twist by TRIVIA REVOLUTION
DESCRIPTION:Springfield Park Place Presents BINGO with a twist \nRSVP sallybell18@gmail.com \nBring your favorite snacks and beverages!
URL:https://springfieldparkplace.com/event/bingo-with-a-twist-by-trivia-revolution/
END:VEVENT
BEGIN:VEVENT
DTSTART;VALUE=DATE:20260504
DTEND;VALUE=DATE:20260505
DTSTAMP:20260420T182250
CREATED:20251011T082052Z
LAST-MODIFIED:20251028T154637Z
UID:10000035-1777852800-1777939199@springfieldparkplace.com
SUMMARY:Garbage Pick up
DESCRIPTION:
URL:https://springfieldparkplace.com/event/garbage-pick-up/2026-05-04/
END:VEVENT
BEGIN:VEVENT
DTSTART;TZID=America/New_York:20260504T080000
DTEND;TZID=America/New_York:20260504T170000
DTSTAMP:20260420T182250
CREATED:20260420T151942Z
LAST-MODIFIED:20260420T151942Z
UID:10001366-1777881600-1777914000@springfieldparkplace.com
SUMMARY:Garbage Pick Up
DESCRIPTION:
URL:https://springfieldparkplace.com/event/garbage-pick-up-2/2026-05-04/
END:VEVENT
BEGIN:VEVENT
DTSTART;VALUE=DATE:20260506
DTEND;VALUE=DATE:20260507
DTSTAMP:20260420T182250
CREATED:20251011T082156Z
LAST-MODIFIED:20251011T082156Z
UID:10000296-1778025600-1778111999@springfieldparkplace.com
SUMMARY:Recycling
DESCRIPTION:
URL:https://springfieldparkplace.com/event/recycling/2026-05-06/
END:VEVENT
BEGIN:VEVENT
DTSTART;TZID=America/New_York:20260507T080000
DTEND;TZID=America/New_York:20260507T170000
DTSTAMP:20260420T182250
CREATED:20260420T151942Z
LAST-MODIFIED:20260420T151942Z
UID:10001367-1778140800-1778173200@springfieldparkplace.com
SUMMARY:Garbage Pick Up
DESCRIPTION:
URL:https://springfieldparkplace.com/event/garbage-pick-up-2/2026-05-07/
END:VEVENT
BEGIN:VEVENT
DTSTART;VALUE=DATE:20260509
DTEND;VALUE=DATE:20260510
DTSTAMP:20260420T182250
CREATED:20260402T182148Z
LAST-MODIFIED:20260402T182148Z
UID:10001358-1778284800-1778371199@springfieldparkplace.com
SUMMARY:🔒 Clubhouse Reserved – Not Available
DESCRIPTION:The clubhouse will be in use for a scheduled private event. We appreciate your cooperation in keeping the space available for the reserved party.
URL:https://springfieldparkplace.com/event/%f0%9f%94%92-clubhouse-reserved-not-available-7/
END:VEVENT
BEGIN:VEVENT
DTSTART;VALUE=DATE:20260509
DTEND;VALUE=DATE:20260510
DTSTAMP:20260420T182250
CREATED:20260420T160548Z
LAST-MODIFIED:20260420T160548Z
UID:10001887-1778284800-1778371199@springfieldparkplace.com
SUMMARY:Clubhouse Reserved - Not Available
DESCRIPTION:The clubhouse will be in use for a scheduled private event. We appreciate your cooperation in keeping the space available for the reserved party.
URL:https://springfieldparkplace.com/event/clubhouse-reserved-not-available/
END:VEVENT
BEGIN:VEVENT
DTSTART;VALUE=DATE:20260511
DTEND;VALUE=DATE:20260512
DTSTAMP:20260420T182250
CREATED:20251011T082052Z
LAST-MODIFIED:20251028T154637Z
UID:10000036-1778457600-1778543999@springfieldparkplace.com
SUMMARY:Garbage Pick up
DESCRIPTION:
URL:https://springfieldparkplace.com/event/garbage-pick-up/2026-05-11/
END:VEVENT
BEGIN:VEVENT
DTSTART;TZID=America/New_York:20260511T080000
DTEND;TZID=America/New_York:20260511T170000
DTSTAMP:20260420T182250
CREATED:20260420T151942Z
LAST-MODIFIED:20260420T151942Z
UID:10001368-1778486400-1778518800@springfieldparkplace.com
SUMMARY:Garbage Pick Up
DESCRIPTION:
URL:https://springfieldparkplace.com/event/garbage-pick-up-2/2026-05-11/
END:VEVENT
BEGIN:VEVENT
DTSTART;VALUE=DATE:20260513
DTEND;VALUE=DATE:20260514
DTSTAMP:20260420T182250
CREATED:20251011T082156Z
LAST-MODIFIED:20251011T082156Z
UID:10000297-1778630400-1778716799@springfieldparkplace.com
SUMMARY:Recycling
DESCRIPTION:
URL:https://springfieldparkplace.com/event/recycling/2026-05-13/
END:VEVENT
BEGIN:VEVENT
DTSTART;TZID=America/New_York:20260514T080000
DTEND;TZID=America/New_York:20260514T170000
DTSTAMP:20260420T182250
CREATED:20260420T151942Z
LAST-MODIFIED:20260420T151942Z
UID:10001369-1778745600-1778778000@springfieldparkplace.com
SUMMARY:Garbage Pick Up
DESCRIPTION:
URL:https://springfieldparkplace.com/event/garbage-pick-up-2/2026-05-14/
END:VEVENT
BEGIN:VEVENT
DTSTART;VALUE=DATE:20260518
DTEND;VALUE=DATE:20260519
DTSTAMP:20260420T182250
CREATED:20251011T082052Z
LAST-MODIFIED:20251028T154637Z
UID:10000037-1779062400-1779148799@springfieldparkplace.com
SUMMARY:Garbage Pick up
DESCRIPTION:
URL:https://springfieldparkplace.com/event/garbage-pick-up/2026-05-18/
END:VEVENT
BEGIN:VEVENT
DTSTART;TZID=America/New_York:20260518T080000
DTEND;TZID=America/New_York:20260518T170000
DTSTAMP:20260420T182250
CREATED:20260420T151942Z
LAST-MODIFIED:20260420T151942Z
UID:10001370-1779091200-1779123600@springfieldparkplace.com
SUMMARY:Garbage Pick Up
DESCRIPTION:
URL:https://springfieldparkplace.com/event/garbage-pick-up-2/2026-05-18/
END:VEVENT
BEGIN:VEVENT
DTSTART;VALUE=DATE:20260520
DTEND;VALUE=DATE:20260521
DTSTAMP:20260420T182250
CREATED:20251011T082156Z
LAST-MODIFIED:20251011T082156Z
UID:10000298-1779235200-1779321599@springfieldparkplace.com
SUMMARY:Recycling
DESCRIPTION:
URL:https://springfieldparkplace.com/event/recycling/2026-05-20/
END:VEVENT
BEGIN:VEVENT
DTSTART;TZID=America/New_York:20260521T080000
DTEND;TZID=America/New_York:20260521T170000
DTSTAMP:20260420T182250
CREATED:20260420T151942Z
LAST-MODIFIED:20260420T151942Z
UID:10001371-1779350400-1779382800@springfieldparkplace.com
SUMMARY:Garbage Pick Up
DESCRIPTION:
URL:https://springfieldparkplace.com/event/garbage-pick-up-2/2026-05-21/
END:VEVENT
BEGIN:VEVENT
DTSTART;VALUE=DATE:20260523
DTEND;VALUE=DATE:20260524
DTSTAMP:20260420T182250
CREATED:20260402T182405Z
LAST-MODIFIED:20260402T182405Z
UID:10001359-1779494400-1779580799@springfieldparkplace.com
SUMMARY:🔒 Clubhouse Reserved – Not Available
DESCRIPTION:The clubhouse will be in use for a scheduled private event. We appreciate your cooperation in keeping the space available for the reserved party.
URL:https://springfieldparkplace.com/event/%f0%9f%94%92-clubhouse-reserved-not-available-8/
END:VEVENT
BEGIN:VEVENT
DTSTART;VALUE=DATE:20260523
DTEND;VALUE=DATE:20260524
DTSTAMP:20260420T182250
CREATED:20260420T160731Z
LAST-MODIFIED:20260420T160731Z
UID:10001888-1779494400-1779580799@springfieldparkplace.com
SUMMARY:Clubhouse Reserved - Not Available
DESCRIPTION:The clubhouse will be in use for a scheduled private event. We appreciate your cooperation in keeping the space available for the reserved party.
URL:https://springfieldparkplace.com/event/clubhouse-reserved-not-available-2/
END:VEVENT
BEGIN:VEVENT
DTSTART;VALUE=DATE:20260525
DTEND;VALUE=DATE:20260526
DTSTAMP:20260420T182250
CREATED:20251011T082052Z
LAST-MODIFIED:20251028T154637Z
UID:10000038-1779667200-1779753599@springfieldparkplace.com
SUMMARY:Garbage Pick up
DESCRIPTION:
URL:https://springfieldparkplace.com/event/garbage-pick-up/2026-05-25/
END:VEVENT
BEGIN:VEVENT
DTSTART;VALUE=DATE:20260525
DTEND;VALUE=DATE:20260526
DTSTAMP:20260420T182250
CREATED:20260420T161127Z
LAST-MODIFIED:20260420T161127Z
UID:10001889-1779667200-1779753599@springfieldparkplace.com
SUMMARY:Memorial Day - Office Closed
DESCRIPTION:Please note that the management office will be closed in observance of Memorial Day. We will resume normal business hours on the following business day. For urgent matters during this time\, please follow the usual emergency contact procedures. \nWe wish everyone a safe and meaningful holiday as we remember and honor those who served.
URL:https://springfieldparkplace.com/event/memorial-day-office-closed/
END:VEVENT
BEGIN:VEVENT
DTSTART;TZID=America/New_York:20260525T080000
DTEND;TZID=America/New_York:20260525T170000
DTSTAMP:20260420T182250
CREATED:20260420T151942Z
LAST-MODIFIED:20260420T151942Z
UID:10001372-1779696000-1779728400@springfieldparkplace.com
SUMMARY:Garbage Pick Up
DESCRIPTION:
URL:https://springfieldparkplace.com/event/garbage-pick-up-2/2026-05-25/
END:VEVENT
BEGIN:VEVENT
DTSTART;VALUE=DATE:20260527
DTEND;VALUE=DATE:20260528
DTSTAMP:20260420T182250
CREATED:20251011T082156Z
LAST-MODIFIED:20251011T082156Z
UID:10000299-1779840000-1779926399@springfieldparkplace.com
SUMMARY:Recycling
DESCRIPTION:
URL:https://springfieldparkplace.com/event/recycling/2026-05-27/
END:VEVENT
BEGIN:VEVENT
DTSTART;TZID=America/New_York:20260528T080000
DTEND;TZID=America/New_York:20260528T170000
DTSTAMP:20260420T182250
CREATED:20260420T151942Z
LAST-MODIFIED:20260420T151942Z
UID:10001373-1779955200-1779987600@springfieldparkplace.com
SUMMARY:Garbage Pick Up
DESCRIPTION:
URL:https://springfieldparkplace.com/event/garbage-pick-up-2/2026-05-28/
END:VEVENT
BEGIN:VEVENT
DTSTART;VALUE=DATE:20260530
DTEND;VALUE=DATE:20260531
DTSTAMP:20260420T182250
CREATED:20260402T182647Z
LAST-MODIFIED:20260402T182647Z
UID:10001360-1780099200-1780185599@springfieldparkplace.com
SUMMARY:🔒 Clubhouse Reserved – Not Available
DESCRIPTION:The clubhouse will be in use for a scheduled private event. We appreciate your cooperation in keeping the space available for the reserved party.
URL:https://springfieldparkplace.com/event/%f0%9f%94%92-clubhouse-reserved-not-available-9/
END:VEVENT
BEGIN:VEVENT
DTSTART;VALUE=DATE:20260601
DTEND;VALUE=DATE:20260602
DTSTAMP:20260420T182250
CREATED:20251011T082052Z
LAST-MODIFIED:20251028T154637Z
UID:10000039-1780272000-1780358399@springfieldparkplace.com
SUMMARY:Garbage Pick up
DESCRIPTION:
URL:https://springfieldparkplace.com/event/garbage-pick-up/2026-06-01/
END:VEVENT
BEGIN:VEVENT
DTSTART;TZID=America/New_York:20260601T080000
DTEND;TZID=America/New_York:20260601T170000
DTSTAMP:20260420T182250
CREATED:20260420T151942Z
LAST-MODIFIED:20260420T151942Z
UID:10001374-1780300800-1780333200@springfieldparkplace.com
SUMMARY:Garbage Pick Up
DESCRIPTION:
URL:https://springfieldparkplace.com/event/garbage-pick-up-2/2026-06-01/
END:VEVENT
BEGIN:VEVENT
DTSTART;VALUE=DATE:20260603
DTEND;VALUE=DATE:20260604
DTSTAMP:20260420T182250
CREATED:20251011T082156Z
LAST-MODIFIED:20251011T082156Z
UID:10000300-1780444800-1780531199@springfieldparkplace.com
SUMMARY:Recycling
DESCRIPTION:
URL:https://springfieldparkplace.com/event/recycling/2026-06-03/
END:VEVENT
END:VCALENDAR