BEGIN:VCALENDAR
VERSION:2.0
PRODID:-//Springfield Park Place Condominium Association - ECPv6.15.20//NONSGML v1.0//EN
CALSCALE:GREGORIAN
METHOD:PUBLISH
X-WR-CALNAME:Springfield Park Place Condominium Association
X-ORIGINAL-URL:https://springfieldparkplace.com
X-WR-CALDESC:Events for Springfield Park Place Condominium Association
REFRESH-INTERVAL;VALUE=DURATION:PT1H
X-Robots-Tag:noindex
X-PUBLISHED-TTL:PT1H
BEGIN:VTIMEZONE
TZID:America/New_York
BEGIN:DAYLIGHT
TZOFFSETFROM:-0500
TZOFFSETTO:-0400
TZNAME:EDT
DTSTART:20260308T070000
END:DAYLIGHT
BEGIN:STANDARD
TZOFFSETFROM:-0400
TZOFFSETTO:-0500
TZNAME:EST
DTSTART:20261101T060000
END:STANDARD
BEGIN:DAYLIGHT
TZOFFSETFROM:-0500
TZOFFSETTO:-0400
TZNAME:EDT
DTSTART:20270314T070000
END:DAYLIGHT
BEGIN:STANDARD
TZOFFSETFROM:-0400
TZOFFSETTO:-0500
TZNAME:EST
DTSTART:20271107T060000
END:STANDARD
BEGIN:DAYLIGHT
TZOFFSETFROM:-0500
TZOFFSETTO:-0400
TZNAME:EDT
DTSTART:20280312T070000
END:DAYLIGHT
BEGIN:STANDARD
TZOFFSETFROM:-0400
TZOFFSETTO:-0500
TZNAME:EST
DTSTART:20281105T060000
END:STANDARD
END:VTIMEZONE
BEGIN:VEVENT
DTSTART;VALUE=DATE:20270804
DTEND;VALUE=DATE:20270805
DTSTAMP:20260421T163036
CREATED:20251011T082156Z
LAST-MODIFIED:20251011T082156Z
UID:10000361-1817337600-1817423999@springfieldparkplace.com
SUMMARY:Recycling
DESCRIPTION:
URL:https://springfieldparkplace.com/event/recycling/2027-08-04/
END:VEVENT
BEGIN:VEVENT
DTSTART;TZID=America/New_York:20270805T080000
DTEND;TZID=America/New_York:20270805T170000
DTSTAMP:20260421T163036
CREATED:20260420T151942Z
LAST-MODIFIED:20260420T151942Z
UID:10001497-1817452800-1817485200@springfieldparkplace.com
SUMMARY:Garbage Pick Up
DESCRIPTION:
URL:https://springfieldparkplace.com/event/garbage-pick-up-2/2027-08-05/
END:VEVENT
BEGIN:VEVENT
DTSTART;VALUE=DATE:20270809
DTEND;VALUE=DATE:20270810
DTSTAMP:20260421T163036
CREATED:20251011T082052Z
LAST-MODIFIED:20251028T154637Z
UID:10000101-1817769600-1817855999@springfieldparkplace.com
SUMMARY:Garbage Pick up
DESCRIPTION:
URL:https://springfieldparkplace.com/event/garbage-pick-up/2027-08-09/
END:VEVENT
BEGIN:VEVENT
DTSTART;TZID=America/New_York:20270809T080000
DTEND;TZID=America/New_York:20270809T170000
DTSTAMP:20260421T163036
CREATED:20260420T151942Z
LAST-MODIFIED:20260420T151942Z
UID:10001498-1817798400-1817830800@springfieldparkplace.com
SUMMARY:Garbage Pick Up
DESCRIPTION:
URL:https://springfieldparkplace.com/event/garbage-pick-up-2/2027-08-09/
END:VEVENT
BEGIN:VEVENT
DTSTART;VALUE=DATE:20270811
DTEND;VALUE=DATE:20270812
DTSTAMP:20260421T163036
CREATED:20251011T082156Z
LAST-MODIFIED:20251011T082156Z
UID:10000362-1817942400-1818028799@springfieldparkplace.com
SUMMARY:Recycling
DESCRIPTION:
URL:https://springfieldparkplace.com/event/recycling/2027-08-11/
END:VEVENT
BEGIN:VEVENT
DTSTART;TZID=America/New_York:20270812T080000
DTEND;TZID=America/New_York:20270812T170000
DTSTAMP:20260421T163036
CREATED:20260420T151942Z
LAST-MODIFIED:20260420T151942Z
UID:10001499-1818057600-1818090000@springfieldparkplace.com
SUMMARY:Garbage Pick Up
DESCRIPTION:
URL:https://springfieldparkplace.com/event/garbage-pick-up-2/2027-08-12/
END:VEVENT
BEGIN:VEVENT
DTSTART;VALUE=DATE:20270816
DTEND;VALUE=DATE:20270817
DTSTAMP:20260421T163036
CREATED:20251011T082052Z
LAST-MODIFIED:20251028T154637Z
UID:10000102-1818374400-1818460799@springfieldparkplace.com
SUMMARY:Garbage Pick up
DESCRIPTION:
URL:https://springfieldparkplace.com/event/garbage-pick-up/2027-08-16/
END:VEVENT
BEGIN:VEVENT
DTSTART;TZID=America/New_York:20270816T080000
DTEND;TZID=America/New_York:20270816T170000
DTSTAMP:20260421T163036
CREATED:20260420T151942Z
LAST-MODIFIED:20260420T151942Z
UID:10001500-1818403200-1818435600@springfieldparkplace.com
SUMMARY:Garbage Pick Up
DESCRIPTION:
URL:https://springfieldparkplace.com/event/garbage-pick-up-2/2027-08-16/
END:VEVENT
BEGIN:VEVENT
DTSTART;VALUE=DATE:20270818
DTEND;VALUE=DATE:20270819
DTSTAMP:20260421T163036
CREATED:20251011T082156Z
LAST-MODIFIED:20251011T082156Z
UID:10000363-1818547200-1818633599@springfieldparkplace.com
SUMMARY:Recycling
DESCRIPTION:
URL:https://springfieldparkplace.com/event/recycling/2027-08-18/
END:VEVENT
BEGIN:VEVENT
DTSTART;TZID=America/New_York:20270819T080000
DTEND;TZID=America/New_York:20270819T170000
DTSTAMP:20260421T163036
CREATED:20260420T151942Z
LAST-MODIFIED:20260420T151942Z
UID:10001501-1818662400-1818694800@springfieldparkplace.com
SUMMARY:Garbage Pick Up
DESCRIPTION:
URL:https://springfieldparkplace.com/event/garbage-pick-up-2/2027-08-19/
END:VEVENT
BEGIN:VEVENT
DTSTART;VALUE=DATE:20270823
DTEND;VALUE=DATE:20270824
DTSTAMP:20260421T163036
CREATED:20251011T082052Z
LAST-MODIFIED:20251028T154637Z
UID:10000103-1818979200-1819065599@springfieldparkplace.com
SUMMARY:Garbage Pick up
DESCRIPTION:
URL:https://springfieldparkplace.com/event/garbage-pick-up/2027-08-23/
END:VEVENT
BEGIN:VEVENT
DTSTART;TZID=America/New_York:20270823T080000
DTEND;TZID=America/New_York:20270823T170000
DTSTAMP:20260421T163036
CREATED:20260420T151942Z
LAST-MODIFIED:20260420T151942Z
UID:10001502-1819008000-1819040400@springfieldparkplace.com
SUMMARY:Garbage Pick Up
DESCRIPTION:
URL:https://springfieldparkplace.com/event/garbage-pick-up-2/2027-08-23/
END:VEVENT
BEGIN:VEVENT
DTSTART;VALUE=DATE:20270825
DTEND;VALUE=DATE:20270826
DTSTAMP:20260421T163036
CREATED:20251011T082156Z
LAST-MODIFIED:20251011T082156Z
UID:10000364-1819152000-1819238399@springfieldparkplace.com
SUMMARY:Recycling
DESCRIPTION:
URL:https://springfieldparkplace.com/event/recycling/2027-08-25/
END:VEVENT
BEGIN:VEVENT
DTSTART;TZID=America/New_York:20270826T080000
DTEND;TZID=America/New_York:20270826T170000
DTSTAMP:20260421T163036
CREATED:20260420T151942Z
LAST-MODIFIED:20260420T151942Z
UID:10001503-1819267200-1819299600@springfieldparkplace.com
SUMMARY:Garbage Pick Up
DESCRIPTION:
URL:https://springfieldparkplace.com/event/garbage-pick-up-2/2027-08-26/
END:VEVENT
BEGIN:VEVENT
DTSTART;VALUE=DATE:20270830
DTEND;VALUE=DATE:20270831
DTSTAMP:20260421T163036
CREATED:20251011T082052Z
LAST-MODIFIED:20251028T154637Z
UID:10000104-1819584000-1819670399@springfieldparkplace.com
SUMMARY:Garbage Pick up
DESCRIPTION:
URL:https://springfieldparkplace.com/event/garbage-pick-up/2027-08-30/
END:VEVENT
BEGIN:VEVENT
DTSTART;TZID=America/New_York:20270830T080000
DTEND;TZID=America/New_York:20270830T170000
DTSTAMP:20260421T163036
CREATED:20260420T151942Z
LAST-MODIFIED:20260420T151942Z
UID:10001504-1819612800-1819645200@springfieldparkplace.com
SUMMARY:Garbage Pick Up
DESCRIPTION:
URL:https://springfieldparkplace.com/event/garbage-pick-up-2/2027-08-30/
END:VEVENT
BEGIN:VEVENT
DTSTART;VALUE=DATE:20270901
DTEND;VALUE=DATE:20270902
DTSTAMP:20260421T163036
CREATED:20251011T082156Z
LAST-MODIFIED:20251011T082156Z
UID:10000365-1819756800-1819843199@springfieldparkplace.com
SUMMARY:Recycling
DESCRIPTION:
URL:https://springfieldparkplace.com/event/recycling/2027-09-01/
END:VEVENT
BEGIN:VEVENT
DTSTART;TZID=America/New_York:20270902T080000
DTEND;TZID=America/New_York:20270902T170000
DTSTAMP:20260421T163037
CREATED:20260420T151942Z
LAST-MODIFIED:20260420T151942Z
UID:10001505-1819872000-1819904400@springfieldparkplace.com
SUMMARY:Garbage Pick Up
DESCRIPTION:
URL:https://springfieldparkplace.com/event/garbage-pick-up-2/2027-09-02/
END:VEVENT
BEGIN:VEVENT
DTSTART;VALUE=DATE:20270906
DTEND;VALUE=DATE:20270907
DTSTAMP:20260421T163037
CREATED:20251011T082052Z
LAST-MODIFIED:20251028T154637Z
UID:10000105-1820188800-1820275199@springfieldparkplace.com
SUMMARY:Garbage Pick up
DESCRIPTION:
URL:https://springfieldparkplace.com/event/garbage-pick-up/2027-09-06/
END:VEVENT
BEGIN:VEVENT
DTSTART;TZID=America/New_York:20270906T080000
DTEND;TZID=America/New_York:20270906T170000
DTSTAMP:20260421T163037
CREATED:20260420T151942Z
LAST-MODIFIED:20260420T151942Z
UID:10001506-1820217600-1820250000@springfieldparkplace.com
SUMMARY:Garbage Pick Up
DESCRIPTION:
URL:https://springfieldparkplace.com/event/garbage-pick-up-2/2027-09-06/
END:VEVENT
BEGIN:VEVENT
DTSTART;VALUE=DATE:20270908
DTEND;VALUE=DATE:20270909
DTSTAMP:20260421T163037
CREATED:20251011T082156Z
LAST-MODIFIED:20251011T082156Z
UID:10000366-1820361600-1820447999@springfieldparkplace.com
SUMMARY:Recycling
DESCRIPTION:
URL:https://springfieldparkplace.com/event/recycling/2027-09-08/
END:VEVENT
BEGIN:VEVENT
DTSTART;TZID=America/New_York:20270909T080000
DTEND;TZID=America/New_York:20270909T170000
DTSTAMP:20260421T163037
CREATED:20260420T151942Z
LAST-MODIFIED:20260420T151942Z
UID:10001507-1820476800-1820509200@springfieldparkplace.com
SUMMARY:Garbage Pick Up
DESCRIPTION:
URL:https://springfieldparkplace.com/event/garbage-pick-up-2/2027-09-09/
END:VEVENT
BEGIN:VEVENT
DTSTART;VALUE=DATE:20270913
DTEND;VALUE=DATE:20270914
DTSTAMP:20260421T163037
CREATED:20251011T082052Z
LAST-MODIFIED:20251028T154637Z
UID:10000106-1820793600-1820879999@springfieldparkplace.com
SUMMARY:Garbage Pick up
DESCRIPTION:
URL:https://springfieldparkplace.com/event/garbage-pick-up/2027-09-13/
END:VEVENT
BEGIN:VEVENT
DTSTART;TZID=America/New_York:20270913T080000
DTEND;TZID=America/New_York:20270913T170000
DTSTAMP:20260421T163037
CREATED:20260420T151942Z
LAST-MODIFIED:20260420T151942Z
UID:10001508-1820822400-1820854800@springfieldparkplace.com
SUMMARY:Garbage Pick Up
DESCRIPTION:
URL:https://springfieldparkplace.com/event/garbage-pick-up-2/2027-09-13/
END:VEVENT
BEGIN:VEVENT
DTSTART;VALUE=DATE:20270915
DTEND;VALUE=DATE:20270916
DTSTAMP:20260421T163037
CREATED:20251011T082156Z
LAST-MODIFIED:20251011T082156Z
UID:10000367-1820966400-1821052799@springfieldparkplace.com
SUMMARY:Recycling
DESCRIPTION:
URL:https://springfieldparkplace.com/event/recycling/2027-09-15/
END:VEVENT
BEGIN:VEVENT
DTSTART;TZID=America/New_York:20270916T080000
DTEND;TZID=America/New_York:20270916T170000
DTSTAMP:20260421T163037
CREATED:20260420T151942Z
LAST-MODIFIED:20260420T151942Z
UID:10001509-1821081600-1821114000@springfieldparkplace.com
SUMMARY:Garbage Pick Up
DESCRIPTION:
URL:https://springfieldparkplace.com/event/garbage-pick-up-2/2027-09-16/
END:VEVENT
BEGIN:VEVENT
DTSTART;VALUE=DATE:20270920
DTEND;VALUE=DATE:20270921
DTSTAMP:20260421T163037
CREATED:20251011T082052Z
LAST-MODIFIED:20251028T154637Z
UID:10000107-1821398400-1821484799@springfieldparkplace.com
SUMMARY:Garbage Pick up
DESCRIPTION:
URL:https://springfieldparkplace.com/event/garbage-pick-up/2027-09-20/
END:VEVENT
BEGIN:VEVENT
DTSTART;TZID=America/New_York:20270920T080000
DTEND;TZID=America/New_York:20270920T170000
DTSTAMP:20260421T163037
CREATED:20260420T151942Z
LAST-MODIFIED:20260420T151942Z
UID:10001510-1821427200-1821459600@springfieldparkplace.com
SUMMARY:Garbage Pick Up
DESCRIPTION:
URL:https://springfieldparkplace.com/event/garbage-pick-up-2/2027-09-20/
END:VEVENT
BEGIN:VEVENT
DTSTART;VALUE=DATE:20270922
DTEND;VALUE=DATE:20270923
DTSTAMP:20260421T163037
CREATED:20251011T082156Z
LAST-MODIFIED:20251011T082156Z
UID:10000368-1821571200-1821657599@springfieldparkplace.com
SUMMARY:Recycling
DESCRIPTION:
URL:https://springfieldparkplace.com/event/recycling/2027-09-22/
END:VEVENT
BEGIN:VEVENT
DTSTART;TZID=America/New_York:20270923T080000
DTEND;TZID=America/New_York:20270923T170000
DTSTAMP:20260421T163037
CREATED:20260420T151942Z
LAST-MODIFIED:20260420T151942Z
UID:10001511-1821686400-1821718800@springfieldparkplace.com
SUMMARY:Garbage Pick Up
DESCRIPTION:
URL:https://springfieldparkplace.com/event/garbage-pick-up-2/2027-09-23/
END:VEVENT
END:VCALENDAR