BEGIN:VCALENDAR
VERSION:2.0
PRODID:-//Springfield Park Place Condominium Association - ECPv6.15.20//NONSGML v1.0//EN
CALSCALE:GREGORIAN
METHOD:PUBLISH
X-WR-CALNAME:Springfield Park Place Condominium Association
X-ORIGINAL-URL:https://springfieldparkplace.com
X-WR-CALDESC:Events for Springfield Park Place Condominium Association
REFRESH-INTERVAL;VALUE=DURATION:PT1H
X-Robots-Tag:noindex
X-PUBLISHED-TTL:PT1H
BEGIN:VTIMEZONE
TZID:America/New_York
BEGIN:DAYLIGHT
TZOFFSETFROM:-0500
TZOFFSETTO:-0400
TZNAME:EDT
DTSTART:20280312T070000
END:DAYLIGHT
BEGIN:STANDARD
TZOFFSETFROM:-0400
TZOFFSETTO:-0500
TZNAME:EST
DTSTART:20281105T060000
END:STANDARD
BEGIN:DAYLIGHT
TZOFFSETFROM:-0500
TZOFFSETTO:-0400
TZNAME:EDT
DTSTART:20290311T070000
END:DAYLIGHT
BEGIN:STANDARD
TZOFFSETFROM:-0400
TZOFFSETTO:-0500
TZNAME:EST
DTSTART:20291104T060000
END:STANDARD
BEGIN:DAYLIGHT
TZOFFSETFROM:-0500
TZOFFSETTO:-0400
TZNAME:EDT
DTSTART:20300310T070000
END:DAYLIGHT
BEGIN:STANDARD
TZOFFSETFROM:-0400
TZOFFSETTO:-0500
TZNAME:EST
DTSTART:20301103T060000
END:STANDARD
END:VTIMEZONE
BEGIN:VEVENT
DTSTART;TZID=America/New_York:20291101T080000
DTEND;TZID=America/New_York:20291101T170000
DTSTAMP:20260422T185005
CREATED:20260420T151942Z
LAST-MODIFIED:20260420T151942Z
UID:10001731-1888214400-1888246800@springfieldparkplace.com
SUMMARY:Garbage Pick Up
DESCRIPTION:
URL:https://springfieldparkplace.com/event/garbage-pick-up-2/2029-11-01/
END:VEVENT
BEGIN:VEVENT
DTSTART;VALUE=DATE:20291105
DTEND;VALUE=DATE:20291106
DTSTAMP:20260422T185005
CREATED:20251011T082052Z
LAST-MODIFIED:20251028T154637Z
UID:10000218-1888531200-1888617599@springfieldparkplace.com
SUMMARY:Garbage Pick up
DESCRIPTION:
URL:https://springfieldparkplace.com/event/garbage-pick-up/2029-11-05/
END:VEVENT
BEGIN:VEVENT
DTSTART;TZID=America/New_York:20291105T080000
DTEND;TZID=America/New_York:20291105T170000
DTSTAMP:20260422T185005
CREATED:20260420T151942Z
LAST-MODIFIED:20260420T151942Z
UID:10001732-1888560000-1888592400@springfieldparkplace.com
SUMMARY:Garbage Pick Up
DESCRIPTION:
URL:https://springfieldparkplace.com/event/garbage-pick-up-2/2029-11-05/
END:VEVENT
BEGIN:VEVENT
DTSTART;VALUE=DATE:20291107
DTEND;VALUE=DATE:20291108
DTSTAMP:20260422T185005
CREATED:20251011T082156Z
LAST-MODIFIED:20251011T082156Z
UID:10000479-1888704000-1888790399@springfieldparkplace.com
SUMMARY:Recycling
DESCRIPTION:
URL:https://springfieldparkplace.com/event/recycling/2029-11-07/
END:VEVENT
BEGIN:VEVENT
DTSTART;TZID=America/New_York:20291108T080000
DTEND;TZID=America/New_York:20291108T170000
DTSTAMP:20260422T185005
CREATED:20260420T151942Z
LAST-MODIFIED:20260420T151942Z
UID:10001733-1888819200-1888851600@springfieldparkplace.com
SUMMARY:Garbage Pick Up
DESCRIPTION:
URL:https://springfieldparkplace.com/event/garbage-pick-up-2/2029-11-08/
END:VEVENT
BEGIN:VEVENT
DTSTART;VALUE=DATE:20291112
DTEND;VALUE=DATE:20291113
DTSTAMP:20260422T185005
CREATED:20251011T082052Z
LAST-MODIFIED:20251028T154637Z
UID:10000219-1889136000-1889222399@springfieldparkplace.com
SUMMARY:Garbage Pick up
DESCRIPTION:
URL:https://springfieldparkplace.com/event/garbage-pick-up/2029-11-12/
END:VEVENT
BEGIN:VEVENT
DTSTART;TZID=America/New_York:20291112T080000
DTEND;TZID=America/New_York:20291112T170000
DTSTAMP:20260422T185005
CREATED:20260420T151942Z
LAST-MODIFIED:20260420T151942Z
UID:10001734-1889164800-1889197200@springfieldparkplace.com
SUMMARY:Garbage Pick Up
DESCRIPTION:
URL:https://springfieldparkplace.com/event/garbage-pick-up-2/2029-11-12/
END:VEVENT
BEGIN:VEVENT
DTSTART;VALUE=DATE:20291114
DTEND;VALUE=DATE:20291115
DTSTAMP:20260422T185005
CREATED:20251011T082156Z
LAST-MODIFIED:20251011T082156Z
UID:10000480-1889308800-1889395199@springfieldparkplace.com
SUMMARY:Recycling
DESCRIPTION:
URL:https://springfieldparkplace.com/event/recycling/2029-11-14/
END:VEVENT
BEGIN:VEVENT
DTSTART;TZID=America/New_York:20291115T080000
DTEND;TZID=America/New_York:20291115T170000
DTSTAMP:20260422T185005
CREATED:20260420T151942Z
LAST-MODIFIED:20260420T151942Z
UID:10001735-1889424000-1889456400@springfieldparkplace.com
SUMMARY:Garbage Pick Up
DESCRIPTION:
URL:https://springfieldparkplace.com/event/garbage-pick-up-2/2029-11-15/
END:VEVENT
BEGIN:VEVENT
DTSTART;VALUE=DATE:20291119
DTEND;VALUE=DATE:20291120
DTSTAMP:20260422T185005
CREATED:20251011T082052Z
LAST-MODIFIED:20251028T154637Z
UID:10000220-1889740800-1889827199@springfieldparkplace.com
SUMMARY:Garbage Pick up
DESCRIPTION:
URL:https://springfieldparkplace.com/event/garbage-pick-up/2029-11-19/
END:VEVENT
BEGIN:VEVENT
DTSTART;TZID=America/New_York:20291119T080000
DTEND;TZID=America/New_York:20291119T170000
DTSTAMP:20260422T185005
CREATED:20260420T151942Z
LAST-MODIFIED:20260420T151942Z
UID:10001736-1889769600-1889802000@springfieldparkplace.com
SUMMARY:Garbage Pick Up
DESCRIPTION:
URL:https://springfieldparkplace.com/event/garbage-pick-up-2/2029-11-19/
END:VEVENT
BEGIN:VEVENT
DTSTART;VALUE=DATE:20291121
DTEND;VALUE=DATE:20291122
DTSTAMP:20260422T185005
CREATED:20251011T082156Z
LAST-MODIFIED:20251011T082156Z
UID:10000481-1889913600-1889999999@springfieldparkplace.com
SUMMARY:Recycling
DESCRIPTION:
URL:https://springfieldparkplace.com/event/recycling/2029-11-21/
END:VEVENT
BEGIN:VEVENT
DTSTART;TZID=America/New_York:20291122T080000
DTEND;TZID=America/New_York:20291122T170000
DTSTAMP:20260422T185005
CREATED:20260420T151942Z
LAST-MODIFIED:20260420T151942Z
UID:10001737-1890028800-1890061200@springfieldparkplace.com
SUMMARY:Garbage Pick Up
DESCRIPTION:
URL:https://springfieldparkplace.com/event/garbage-pick-up-2/2029-11-22/
END:VEVENT
BEGIN:VEVENT
DTSTART;VALUE=DATE:20291126
DTEND;VALUE=DATE:20291127
DTSTAMP:20260422T185005
CREATED:20251011T082052Z
LAST-MODIFIED:20251028T154637Z
UID:10000221-1890345600-1890431999@springfieldparkplace.com
SUMMARY:Garbage Pick up
DESCRIPTION:
URL:https://springfieldparkplace.com/event/garbage-pick-up/2029-11-26/
END:VEVENT
BEGIN:VEVENT
DTSTART;TZID=America/New_York:20291126T080000
DTEND;TZID=America/New_York:20291126T170000
DTSTAMP:20260422T185005
CREATED:20260420T151942Z
LAST-MODIFIED:20260420T151942Z
UID:10001738-1890374400-1890406800@springfieldparkplace.com
SUMMARY:Garbage Pick Up
DESCRIPTION:
URL:https://springfieldparkplace.com/event/garbage-pick-up-2/2029-11-26/
END:VEVENT
BEGIN:VEVENT
DTSTART;VALUE=DATE:20291128
DTEND;VALUE=DATE:20291129
DTSTAMP:20260422T185005
CREATED:20251011T082156Z
LAST-MODIFIED:20251011T082156Z
UID:10000482-1890518400-1890604799@springfieldparkplace.com
SUMMARY:Recycling
DESCRIPTION:
URL:https://springfieldparkplace.com/event/recycling/2029-11-28/
END:VEVENT
BEGIN:VEVENT
DTSTART;TZID=America/New_York:20291129T080000
DTEND;TZID=America/New_York:20291129T170000
DTSTAMP:20260422T185005
CREATED:20260420T151942Z
LAST-MODIFIED:20260420T151942Z
UID:10001739-1890633600-1890666000@springfieldparkplace.com
SUMMARY:Garbage Pick Up
DESCRIPTION:
URL:https://springfieldparkplace.com/event/garbage-pick-up-2/2029-11-29/
END:VEVENT
END:VCALENDAR